BEGIN:VCALENDAR
VERSION:2.0
PRODID:-//Volejbalový sportovní klub Český Krumlov z.s.88412//NONSGML kigkonsult.se iCalcreator 2.41.80//
CALSCALE:GREGORIAN
UID:62363634-3532-4730-b030-383036623637
BEGIN:VEVENT
UID:39626163-3833-4335-a338-653464653035
DTSTAMP:20260423T030554Z
DESCRIPTION:1/3 VSK Český Krumlov - TJ Tatran Prachatice 3:1 (20\,27\,-21\,
 14)\nZákladní škola Oskara Nedbala 20\, České Budějovice
DTSTART;TZID=Europe/Berlin:20241012T120000
DTEND;TZID=Europe/Berlin:20241012T140000
SUMMARY:JC-U22M-1A: VSK Český Krumlov-TJ Tatran Prachatice
END:VEVENT
BEGIN:VEVENT
UID:32346161-3131-4166-b130-303831343431
DTSTAMP:20260423T030554Z
DESCRIPTION:1/1 VK České Budějovice A - VSK Český Krumlov 0:3 (-14\,-18\,-2
 1)\nZákladní škola Oskara Nedbala 20\, České Budějovice
DTSTART;TZID=Europe/Berlin:20241012T090000
DTEND;TZID=Europe/Berlin:20241012T110000
LOCATION:ZŠ Oskara Nedbala České Budějovice\, O. Nedbala 882 České Budějovi
 ce - České Budějovice 2
SUMMARY:JC-U22M-1A: VK České Budějovice A-VSK Český Krumlov
END:VEVENT
END:VCALENDAR
