BEGIN:VCALENDAR
VERSION:2.0
PRODID:-//Tělovýchovná jednota Jiskra Nový Bor, z.s.88413//NONSGML kigkonsult.se iCalcreator 2.41.80//
CALSCALE:GREGORIAN
UID:36326161-6134-4533-b337-323839653336
BEGIN:VEVENT
UID:38623233-6233-4339-b065-363935373130
DTSTAMP:20260423T005358Z
DESCRIPTION:2/2 TJ Jiskra Nový Bor - Orion Praha 0:2 (-17\,-14)
DTSTART;TZID=Europe/Berlin:20241028T113000
DTEND;TZID=Europe/Berlin:20241028T133000
SUMMARY:CP-U20M-K-D: TJ Jiskra Nový Bor-Orion Praha
END:VEVENT
BEGIN:VEVENT
UID:38353930-3335-4230-b938-336530396532
DTSTAMP:20260423T005358Z
DESCRIPTION:3/3 TJ Jiskra Nový Bor - TJ SLAVIA HK 1:2 (20\,-18\,-7)
DTSTART;TZID=Europe/Berlin:20241028T130000
DTEND;TZID=Europe/Berlin:20241028T150000
SUMMARY:CP-U20M-K-D: TJ Jiskra Nový Bor-TJ SLAVIA HK
END:VEVENT
BEGIN:VEVENT
UID:31653932-6566-4561-a137-613239396234
DTSTAMP:20260423T005358Z
DESCRIPTION:11/11 TJ Jiskra Nový Bor - Lokomotiva Č. Lípa 1:2 (-23\,20\,-13
 )\nZápas o 9.-10. místo
DTSTART;TZID=Europe/Berlin:20241028T170000
DTEND;TZID=Europe/Berlin:20241028T190000
SUMMARY:CP-U20M-K-PAVOUK: TJ Jiskra Nový Bor-Lokomotiva Č. Lípa
END:VEVENT
BEGIN:VEVENT
UID:62303563-3831-4437-b236-333661333239
DTSTAMP:20260423T005358Z
DESCRIPTION:6/6 VKM Nová Paka U18 - TJ Jiskra Nový Bor 0:2 (-17\,-20)
DTSTART;TZID=Europe/Berlin:20241028T142000
DTEND;TZID=Europe/Berlin:20241028T162000
LOCATION:ZŠ Husitská\, O. Číly 1933 Nová Paka
SUMMARY:CP-U20M-K-PAVOUK: VKM Nová Paka U18-TJ Jiskra Nový Bor
END:VEVENT
BEGIN:VEVENT
UID:64356166-3065-4435-b537-643761313837
DTSTAMP:20260423T005358Z
DESCRIPTION:1/1 TJ Jiskra Nový Bor - VKM Nová Paka U18 3:0 (21\,12\,26)
DTSTART;TZID=Europe/Berlin:20241215T100000
DTEND;TZID=Europe/Berlin:20241215T120000
SUMMARY:CP-U20M-1-D: TJ Jiskra Nový Bor-VKM Nová Paka U18
END:VEVENT
BEGIN:VEVENT
UID:37303564-6537-4232-a461-393333393762
DTSTAMP:20260423T005358Z
DESCRIPTION:2/2 TJ Jiskra Nový Bor - VSK Český Krumlov 1:3 (-21\,23\,-23\,-
 19)
DTSTART;TZID=Europe/Berlin:20241215T130000
DTEND;TZID=Europe/Berlin:20241215T150000
SUMMARY:CP-U20M-1-D: TJ Jiskra Nový Bor-VSK Český Krumlov
END:VEVENT
BEGIN:VEVENT
UID:33643238-6166-4564-b832-323866646630
DTSTAMP:20260423T005358Z
DESCRIPTION:2/2 TJ Jiskra Nový Bor - VSK Český Krumlov 2:3 (25\,-17\,-19\,2
 0\,-18)
DTSTART;TZID=Europe/Berlin:20250216T130000
DTEND;TZID=Europe/Berlin:20250216T150000
SUMMARY:CP-U20M-2-C: TJ Jiskra Nový Bor-VSK Český Krumlov
END:VEVENT
BEGIN:VEVENT
UID:66333837-3963-4637-b830-313435653362
DTSTAMP:20260423T005358Z
DESCRIPTION:1/1 TJ SLAVIA HK - TJ Jiskra Nový Bor 3:1 (9\,27\,-23\,21)
DTSTART;TZID=Europe/Berlin:20250216T100000
DTEND;TZID=Europe/Berlin:20250216T120000
SUMMARY:CP-U20M-2-C: TJ SLAVIA HK-TJ Jiskra Nový Bor
END:VEVENT
BEGIN:VEVENT
UID:31336237-3964-4966-a538-626465373537
DTSTAMP:20260423T005358Z
DESCRIPTION:1/1 TJ Jiskra Nový Bor - VKM Nová Paka U18 3:0 (16\,20\,17)
DTSTART;TZID=Europe/Berlin:20250316T100000
DTEND;TZID=Europe/Berlin:20250316T120000
LOCATION:TJ Slavia Hradec Králové\, Víta Nejedlého 1216 Hradec Králové
SUMMARY:CP-U20M-3-D: TJ Jiskra Nový Bor-VKM Nová Paka U18
END:VEVENT
BEGIN:VEVENT
UID:64633038-3135-4736-b636-656533646666
DTSTAMP:20260423T005358Z
DESCRIPTION:2/2 TJ Jiskra Nový Bor - VSK Český Krumlov 2:3 (17\,-19\,21\,-2
 2\,-9)
DTSTART;TZID=Europe/Berlin:20250316T130000
DTEND;TZID=Europe/Berlin:20250316T150000
LOCATION:TJ Slavia Hradec Králové\, Víta Nejedlého 1216 Hradec Králové
SUMMARY:CP-U20M-3-D: TJ Jiskra Nový Bor-VSK Český Krumlov
END:VEVENT
BEGIN:VEVENT
UID:65376165-6330-4837-a466-343135393933
DTSTAMP:20260423T005358Z
DESCRIPTION:2/2 TJ Jiskra Nový Bor - VSK Český Krumlov 2:3 (22\,-14\,-23\,2
 3\,-12)
DTSTART;TZID=Europe/Berlin:20250406T130000
DTEND;TZID=Europe/Berlin:20250406T150000
SUMMARY:CP-U20M-4-C: TJ Jiskra Nový Bor-VSK Český Krumlov
END:VEVENT
BEGIN:VEVENT
UID:30653637-6462-4338-a236-323539363065
DTSTAMP:20260423T005358Z
DESCRIPTION:1/1 TJ Zákupy\, z.s. - TJ Jiskra Nový Bor 3:2 (-24\,21\,-15\,24
 \,10)
DTSTART;TZID=Europe/Berlin:20250406T100000
DTEND;TZID=Europe/Berlin:20250406T120000
LOCATION:Hala ZŠ Zákupy\, Školní 347 Zákupy
SUMMARY:CP-U20M-4-C: TJ Zákupy\, z.s.-TJ Jiskra Nový Bor
END:VEVENT
END:VCALENDAR
