BEGIN:VCALENDAR
VERSION:2.0
PRODID:-//Sokol Město Touškov88438//NONSGML kigkonsult.se iCalcreator 2.41.80//
CALSCALE:GREGORIAN
UID:61636561-3563-4164-b666-383739393361
BEGIN:VEVENT
UID:36373933-3062-4565-a363-613739643762
DTSTAMP:20260422T205137Z
DESCRIPTION:1/1 Touškov - Slavia Plzeň B 0:2 (-13\,-19)
DTSTART;TZID=Europe/Berlin:20241110T090000
DTEND;TZID=Europe/Berlin:20241110T110000
LOCATION:Tělocvična 15.ZŠ\, Terezie Brzkové 863 Plzeň - Skvrňany
SUMMARY:P-U18Z-2C: Touškov-Slavia Plzeň B
END:VEVENT
BEGIN:VEVENT
UID:31653162-6139-4239-b038-323265366631
DTSTAMP:20260422T205137Z
DESCRIPTION:4/4 Touškov - Šťáhlavy B 2:0 (11\,16)
DTSTART;TZID=Europe/Berlin:20241110T124500
DTEND;TZID=Europe/Berlin:20241110T144500
LOCATION:Tělocvična 15.ZŠ\, Terezie Brzkové 863 Plzeň - Skvrňany
SUMMARY:P-U18Z-2C: Touškov-Šťáhlavy B
END:VEVENT
BEGIN:VEVENT
UID:34326361-3036-4935-b366-353539303263
DTSTAMP:20260422T205137Z
DESCRIPTION:5/5 Rokycany - Touškov 0:2 (-17\,-16)
DTSTART;TZID=Europe/Berlin:20241110T140000
DTEND;TZID=Europe/Berlin:20241110T160000
LOCATION:Tělocvična 15.ZŠ\, Terezie Brzkové 863 Plzeň - Skvrňany
SUMMARY:P-U18Z-2C: Rokycany-Touškov
END:VEVENT
BEGIN:VEVENT
UID:36306136-6236-4936-b239-376335663630
DTSTAMP:20260422T205137Z
DESCRIPTION:2/2 Touškov - Rokycany 2:0 (16\,22)
DTSTART;TZID=Europe/Berlin:20241201T101500
DTEND;TZID=Europe/Berlin:20241201T121500
LOCATION:Sportovní hala - SG Plzeň\, Vejprnická 663 Plzeň - Skvrňany
SUMMARY:P-U18Z-3C: Touškov-Rokycany
END:VEVENT
BEGIN:VEVENT
UID:35653962-3736-4233-b037-643831396162
DTSTAMP:20260422T205137Z
DESCRIPTION:5/5 Touškov - Šťáhlavy B 2:0 (17\,19)
DTSTART;TZID=Europe/Berlin:20241201T140000
DTEND;TZID=Europe/Berlin:20241201T160000
LOCATION:Sportovní hala - SG Plzeň\, Vejprnická 663 Plzeň - Skvrňany
SUMMARY:P-U18Z-3C: Touškov-Šťáhlavy B
END:VEVENT
BEGIN:VEVENT
UID:62633164-3733-4561-b738-303631623836
DTSTAMP:20260422T205137Z
DESCRIPTION:4/4 Vejprnice B - Touškov 1:2 (23\,-21\,-10)
DTSTART;TZID=Europe/Berlin:20241201T124500
DTEND;TZID=Europe/Berlin:20241201T144500
LOCATION:Sportovní hala - SG Plzeň\, Vejprnická 663 Plzeň - Skvrňany
SUMMARY:P-U18Z-3C: Vejprnice B-Touškov
END:VEVENT
BEGIN:VEVENT
UID:38396133-6137-4461-b335-313265313761
DTSTAMP:20260422T205137Z
DESCRIPTION:3/3 Touškov - Slavia Plzeň B 2:1 (-23\,24\,13)
DTSTART;TZID=Europe/Berlin:20250119T113000
DTEND;TZID=Europe/Berlin:20250119T133000
LOCATION:Sportovní hala Město Touškov\, Čemínská 296 Město Touškov
SUMMARY:P-U18Z-4B: Touškov-Slavia Plzeň B
END:VEVENT
BEGIN:VEVENT
UID:34633038-3430-4537-a431-356137356461
DTSTAMP:20260422T205137Z
DESCRIPTION:1/1 Mirošov - Touškov 0:2 (-22\,-19)
DTSTART;TZID=Europe/Berlin:20250119T090000
DTEND;TZID=Europe/Berlin:20250119T110000
LOCATION:Sportovní hala Město Touškov\, Čemínská 296 Město Touškov
SUMMARY:P-U18Z-4B: Mirošov-Touškov
END:VEVENT
BEGIN:VEVENT
UID:32336436-6634-4361-b733-393538396462
DTSTAMP:20260422T205137Z
DESCRIPTION:6/6 Šťáhlavy A - Touškov 2:1 (21\,-23\,12)
DTSTART;TZID=Europe/Berlin:20250119T151500
DTEND;TZID=Europe/Berlin:20250119T171500
LOCATION:Sportovní hala Město Touškov\, Čemínská 296 Město Touškov
SUMMARY:P-U18Z-4B: Šťáhlavy A-Touškov
END:VEVENT
BEGIN:VEVENT
UID:34396164-3631-4936-b563-656663383439
DTSTAMP:20260422T205137Z
DESCRIPTION:2/2 Touškov - Slavia Plzeň B 2:1 (18\,-8\,10)
DTSTART;TZID=Europe/Berlin:20250302T101500
DTEND;TZID=Europe/Berlin:20250302T121500
LOCATION:Hala Gymnázia Rokycany\, Mládežníků 1115 Rokycany - Nové Město
SUMMARY:P-U18Z-5B: Touškov-Slavia Plzeň B
END:VEVENT
BEGIN:VEVENT
UID:35663136-3039-4965-a335-343461353231
DTSTAMP:20260422T205137Z
DESCRIPTION:5/5 Touškov - Domažlice 2:1 (-19\,19\,13)
DTSTART;TZID=Europe/Berlin:20250302T140000
DTEND;TZID=Europe/Berlin:20250302T160000
LOCATION:Hala Gymnázia Rokycany\, Mládežníků 1115 Rokycany - Nové Město
SUMMARY:P-U18Z-5B: Touškov-Domažlice
END:VEVENT
BEGIN:VEVENT
UID:64393731-6430-4232-a339-616636373061
DTSTAMP:20260422T205137Z
DESCRIPTION:4/4 Rokycany - Touškov 1:2 (22\,-23\,-9)
DTSTART;TZID=Europe/Berlin:20250302T124500
DTEND;TZID=Europe/Berlin:20250302T144500
LOCATION:Hala Gymnázia Rokycany\, Mládežníků 1115 Rokycany - Nové Město
SUMMARY:P-U18Z-5B: Rokycany-Touškov
END:VEVENT
BEGIN:VEVENT
UID:36633663-6639-4130-a630-303030306536
DTSTAMP:20260422T205137Z
DESCRIPTION:3/3 Touškov - Volejbal Plzeň B 0:2 (-12\,-18)
DTSTART;TZID=Europe/Berlin:20250330T113000
DTEND;TZID=Europe/Berlin:20250330T133000
LOCATION:Tělocvična 15.ZŠ\, Terezie Brzkové 863 Plzeň - Skvrňany
SUMMARY:P-U18Z-6A: Touškov-Volejbal Plzeň B
END:VEVENT
BEGIN:VEVENT
UID:62313134-3037-4234-b132-343337633737
DTSTAMP:20260422T205137Z
DESCRIPTION:1/1 Slavia Plzeň A - Touškov 2:0 (23\,25)
DTSTART;TZID=Europe/Berlin:20250330T090000
DTEND;TZID=Europe/Berlin:20250330T110000
LOCATION:Tělocvična 15.ZŠ\, Terezie Brzkové 863 Plzeň - Skvrňany
SUMMARY:P-U18Z-6A: Slavia Plzeň A-Touškov
END:VEVENT
BEGIN:VEVENT
UID:34636337-3634-4337-b963-313034336566
DTSTAMP:20260422T205137Z
DESCRIPTION:5/5 Šťáhlavy A - Touškov 2:0 (21\,13)
DTSTART;TZID=Europe/Berlin:20250330T140000
DTEND;TZID=Europe/Berlin:20250330T160000
LOCATION:Tělocvična 15.ZŠ\, Terezie Brzkové 863 Plzeň - Skvrňany
SUMMARY:P-U18Z-6A: Šťáhlavy A-Touškov
END:VEVENT
END:VCALENDAR
