BEGIN:VCALENDAR
VERSION:2.0
PRODID:-//Volejbalový klub Choceň, z.s.88466//NONSGML kigkonsult.se iCalcreator 2.41.80//
CALSCALE:GREGORIAN
UID:34396432-3531-4233-b766-373131303330
BEGIN:VEVENT
UID:62353334-6164-4632-b436-633266653736
DTSTAMP:20260423T042852Z
DESCRIPTION:2/2 VK Choceň - VSK Český Krumlov 2:0 (21\,16)
DTSTART;TZID=Europe/Berlin:20241028T113000
DTEND;TZID=Europe/Berlin:20241028T133000
SUMMARY:CP-U20M-K-A: VK Choceň-VSK Český Krumlov
END:VEVENT
BEGIN:VEVENT
UID:64646165-3662-4432-b766-633461653035
DTSTAMP:20260423T042852Z
DESCRIPTION:1/1 TJ Havlíčkův Brod - VK Choceň 2:0 (15\,23)
DTSTART;TZID=Europe/Berlin:20241028T100000
DTEND;TZID=Europe/Berlin:20241028T120000
SUMMARY:CP-U20M-K-A: TJ Havlíčkův Brod-VK Choceň
END:VEVENT
BEGIN:VEVENT
UID:62346235-3465-4237-a637-323239363765
DTSTAMP:20260423T042852Z
DESCRIPTION:4/4 Orion Praha - VK Choceň 0:2 (-23\,-17)
DTSTART;TZID=Europe/Berlin:20241028T142000
DTEND;TZID=Europe/Berlin:20241028T162000
LOCATION:ZŠ prof. Švejcara\, Mráčkova\, Mráčkova 3090 Praha - Modřany
SUMMARY:CP-U20M-K-PAVOUK: Orion Praha-VK Choceň
END:VEVENT
BEGIN:VEVENT
UID:34306636-6666-4136-b634-363165663531
DTSTAMP:20260423T042852Z
DESCRIPTION:10/10 Rychnov n. K. U20 - VK Choceň 0:2 (-20\,-13)
DTSTART;TZID=Europe/Berlin:20241028T161000
DTEND;TZID=Europe/Berlin:20241028T181000
LOCATION:Hala VOŠ a SPŠS\, U Stadionu 1166 Rychnov nad Kněžnou
SUMMARY:CP-U20M-K-PAVOUK: Rychnov n. K. U20-VK Choceň
END:VEVENT
BEGIN:VEVENT
UID:39303432-3239-4464-a663-376237636565
DTSTAMP:20260423T042852Z
DESCRIPTION:13/13 TJ Havlíčkův Brod - VK Choceň 0:2 (-22\,-14)\nZápas o 1.-
 2. místo
DTSTART;TZID=Europe/Berlin:20241028T183000
DTEND;TZID=Europe/Berlin:20241028T203000
SUMMARY:CP-U20M-K-PAVOUK: TJ Havlíčkův Brod-VK Choceň
END:VEVENT
BEGIN:VEVENT
UID:36623361-3034-4462-a535-323833623263
DTSTAMP:20260423T042852Z
DESCRIPTION:2/2 VK Choceň - TJ Havlíčkův Brod 1:3 (23\,-20\,-21\,-23)
DTSTART;TZID=Europe/Berlin:20241215T130000
DTEND;TZID=Europe/Berlin:20241215T150000
SUMMARY:CP-U20M-1-A: VK Choceň-TJ Havlíčkův Brod
END:VEVENT
BEGIN:VEVENT
UID:38666564-3731-4833-b736-343264346664
DTSTAMP:20260423T042852Z
DESCRIPTION:1/1 Rychnov n. K. U20 - VK Choceň 1:3 (-17\,-15\,19\,-29)
DTSTART;TZID=Europe/Berlin:20241215T100000
DTEND;TZID=Europe/Berlin:20241215T120000
LOCATION:Hala VOŠ a SPŠS\, U Stadionu 1166 Rychnov nad Kněžnou
SUMMARY:CP-U20M-1-A: Rychnov n. K. U20-VK Choceň
END:VEVENT
BEGIN:VEVENT
UID:63316234-3238-4466-b361-636164356533
DTSTAMP:20260423T042852Z
DESCRIPTION:1/1 VK Choceň - TJ Havlíčkův Brod 1:3 (-19\,-19\,20\,-26)
DTSTART;TZID=Europe/Berlin:20250216T100000
DTEND;TZID=Europe/Berlin:20250216T120000
SUMMARY:CP-U20M-2-B: VK Choceň-TJ Havlíčkův Brod
END:VEVENT
BEGIN:VEVENT
UID:33303362-3738-4966-a334-313861636539
DTSTAMP:20260423T042852Z
DESCRIPTION:3/3 VK Choceň - Orion Praha 3:0 (0\,0\,0)
DTSTART;TZID=Europe/Berlin:20250216T160000
DTEND;TZID=Europe/Berlin:20250216T180000
SUMMARY:CP-U20M-2-B: VK Choceň-Orion Praha
END:VEVENT
BEGIN:VEVENT
UID:31306531-3063-4233-b934-353139356532
DTSTAMP:20260423T042852Z
DESCRIPTION:2/2 VK Choceň - TJ Havlíčkův Brod 2:3 (19\,-20\,22\,-20\,-7)
DTSTART;TZID=Europe/Berlin:20250316T130000
DTEND;TZID=Europe/Berlin:20250316T150000
SUMMARY:CP-U20M-3-A: VK Choceň-TJ Havlíčkův Brod
END:VEVENT
BEGIN:VEVENT
UID:31633335-6463-4833-b938-363866656363
DTSTAMP:20260423T042852Z
DESCRIPTION:1/1 Rychnov n. K. U20 - VK Choceň 3:2 (-22\,-10\,16\,19\,13)
DTSTART;TZID=Europe/Berlin:20250316T100000
DTEND;TZID=Europe/Berlin:20250316T120000
LOCATION:Hala VOŠ a SPŠS\, U Stadionu 1166 Rychnov nad Kněžnou
SUMMARY:CP-U20M-3-A: Rychnov n. K. U20-VK Choceň
END:VEVENT
BEGIN:VEVENT
UID:32643035-3461-4637-b938-383162353734
DTSTAMP:20260423T042852Z
DESCRIPTION:2/2 VK Choceň - Rychnov n. K. U20 3:1 (21\,18\,-27\,20)
DTSTART;TZID=Europe/Berlin:20250406T130000
DTEND;TZID=Europe/Berlin:20250406T150000
SUMMARY:CP-U20M-4-B: VK Choceň-Rychnov n. K. U20
END:VEVENT
BEGIN:VEVENT
UID:38383435-3661-4235-b630-366333353530
DTSTAMP:20260423T042852Z
DESCRIPTION:1/1 Orion Praha - VK Choceň 0:3 (-0\,-0\,-0)
DTSTART;TZID=Europe/Berlin:20250406T100000
DTEND;TZID=Europe/Berlin:20250406T120000
LOCATION:ZŠ prof. Švejcara\, Mráčkova\, Mráčkova 3090 Praha - Modřany
SUMMARY:CP-U20M-4-B: Orion Praha-VK Choceň
END:VEVENT
END:VCALENDAR
