BEGIN:VCALENDAR
VERSION:2.0
PRODID:-//Tělovýchovná jednota Jiskra Havlíčkův Brod z.s.88493//NONSGML kigkonsult.se iCalcreator 2.41.80//
CALSCALE:GREGORIAN
UID:61663331-6465-4039-b939-666637356464
BEGIN:VEVENT
UID:38636265-3630-4135-b233-393534326336
DTSTAMP:20260422T202201Z
DESCRIPTION:1/1 Tělovýchovná jednota Jiskra Havlíčkův Brod z.s. - VK Lvi Pr
 aha\, z.s. 0:2 (-5\,-21)
DTSTART;TZID=Europe/Berlin:20241207T090000
DTEND;TZID=Europe/Berlin:20241207T110000
LOCATION:Sportovní hala TJ Jiskra\, Ledečská 3028 Havlíčkův Brod
SUMMARY:CP-U14M-ZB: Tělovýchovná jednota Jiskra Havlíčkův Brod z.s.-VK Lvi 
 Praha\, z.s.
END:VEVENT
BEGIN:VEVENT
UID:39663865-6164-4730-b635-346566306632
DTSTAMP:20260422T202201Z
DESCRIPTION:5/5 Tělovýchovná jednota Jiskra Havlíčkův Brod z.s. - Klatovy 2
 :0 (21\,22)
DTSTART;TZID=Europe/Berlin:20241207T130000
DTEND;TZID=Europe/Berlin:20241207T150000
LOCATION:Sportovní hala TJ Jiskra\, Ledečská 3028 Havlíčkův Brod
SUMMARY:CP-U14M-ZB: Tělovýchovná jednota Jiskra Havlíčkův Brod z.s.-Klatovy
END:VEVENT
BEGIN:VEVENT
UID:63326464-6639-4863-a363-356464376134
DTSTAMP:20260422T202201Z
DESCRIPTION:3/3 VK Karlovarsko\, z.s. - Tělovýchovná jednota Jiskra Havlíčk
 ův Brod z.s. 1:1 (18\,-19)
DTSTART;TZID=Europe/Berlin:20241207T110000
DTEND;TZID=Europe/Berlin:20241207T130000
LOCATION:Sportovní hala TJ Jiskra\, Ledečská 3028 Havlíčkův Brod
SUMMARY:CP-U14M-ZB: VK Karlovarsko\, z.s.-Tělovýchovná jednota Jiskra Havlí
 čkův Brod z.s.
END:VEVENT
BEGIN:VEVENT
UID:33616332-6239-4363-a535-336636386137
DTSTAMP:20260422T202201Z
DESCRIPTION:2/7 Tělovýchovná jednota Spartak Velké Meziříčí\, z.s. - Tělový
 chovná jednota Jiskra Havlíčkův Brod z.s. 0:2 (-20\,-14)\n3A-3B
DTSTART;TZID=Europe/Berlin:20241207T160000
DTEND;TZID=Europe/Berlin:20241207T180000
LOCATION:ZŠ Komenského\, Komenského 1 Velké Meziříčí
SUMMARY:CP-U14M-Z-UMIS: Tělovýchovná jednota Spartak Velké Meziříčí\, z.s.-
 Tělovýchovná jednota Jiskra Havlíčkův Brod z.s.
END:VEVENT
END:VCALENDAR
