BEGIN:VCALENDAR
VERSION:2.0
PRODID:-//VK Dukla Liberec88513//NONSGML kigkonsult.se iCalcreator 2.41.80//
CALSCALE:GREGORIAN
UID:64303838-6635-4031-a362-393834393436
BEGIN:VEVENT
UID:61326462-3635-4134-b066-656364353231
DTSTAMP:20260422T231845Z
DESCRIPTION:2/2 VK České Budějovice - VK Dukla Liberec 0:2 (-16\,-7)
DTSTART;TZID=Europe/Berlin:20241207T100000
DTEND;TZID=Europe/Berlin:20241207T120000
LOCATION:ZŠ Oskara Nedbala České Budějovice\, O. Nedbala 882 České Budějovi
 ce - České Budějovice 2
SUMMARY:CP-U14M-ZC: VK České Budějovice-VK Dukla Liberec
END:VEVENT
BEGIN:VEVENT
UID:31303730-3866-4435-a233-316134663465
DTSTAMP:20260422T231845Z
DESCRIPTION:4/4 TJ Svitavy - VK Dukla Liberec 0:2 (-19\,-17)
DTSTART;TZID=Europe/Berlin:20241207T120000
DTEND;TZID=Europe/Berlin:20241207T140000
LOCATION:Sportovní hala Na Střelnici\, Pražská 2162 Svitavy - Předměstí
SUMMARY:CP-U14M-ZC: TJ Svitavy-VK Dukla Liberec
END:VEVENT
BEGIN:VEVENT
UID:66393030-6332-4566-b538-313261343831
DTSTAMP:20260422T231845Z
DESCRIPTION:5/5 TJ TESLA BRNO z.s. - VK Dukla Liberec 2:0 (24\,23)
DTSTART;TZID=Europe/Berlin:20241207T130000
DTEND;TZID=Europe/Berlin:20241207T150000
LOCATION:ZŠ Milénova 14\, Milénova 808 Brno - Lesná
SUMMARY:CP-U14M-ZC: TJ TESLA BRNO z.s.-VK Dukla Liberec
END:VEVENT
BEGIN:VEVENT
UID:31353936-3666-4137-a536-653032636261
DTSTAMP:20260422T231845Z
DESCRIPTION:2/6 VK Dukla Liberec - VK SPORT Rychnov nad Kněžnou\, 0:2 (-27\
 ,-22)\n2C-2D
DTSTART;TZID=Europe/Berlin:20241207T160000
DTEND;TZID=Europe/Berlin:20241207T180000
LOCATION:Dukla Liberec\, Jeronýmova 558 Liberec - Liberec VII-Horní Růžodol
SUMMARY:CP-U14M-Z-UMIS: VK Dukla Liberec-VK SPORT Rychnov nad Kněžnou\,
END:VEVENT
END:VCALENDAR
