BEGIN:VCALENDAR
VERSION:2.0
PRODID:-//Sportovní klub SKUNK Unkovice, z. s. "B" "čtverky"88555//NONSGML kigkonsult.se iCalcreator 2.41.80//
CALSCALE:GREGORIAN
UID:66653739-3165-4232-b138-336635366631
BEGIN:VEVENT
UID:36663732-3761-4436-b431-303832303461
DTSTAMP:20260422T230102Z
DESCRIPTION:4/4 Sportovní klub SKUNK Unkovice 'B' 'čtverky' - TJ JUNIOR Brn
 o 'C' 'Čtverky' 0:2 (-16\,-20)
DTSTART;TZID=Europe/Berlin:20241117T103000
DTEND;TZID=Europe/Berlin:20241117T123000
LOCATION:Sportovní hala Letovice\, V zahradách 831 Letovice
SUMMARY:JM-U14Z-IICH: Sportovní klub SKUNK Unkovice 'B' 'čtverky'-TJ JUNIOR
  Brno 'C' 'Čtverky'
END:VEVENT
BEGIN:VEVENT
UID:66626539-6338-4530-b239-303064633134
DTSTAMP:20260422T230102Z
DESCRIPTION:6/6 Sportovní klub SKUNK Unkovice 'B' 'čtverky' - TJ Sokol Leto
 vice 'D' 'Čtverky' 2:0 (23\,15)
DTSTART;TZID=Europe/Berlin:20241117T114500
DTEND;TZID=Europe/Berlin:20241117T134500
LOCATION:Sportovní hala Letovice\, V zahradách 831 Letovice
SUMMARY:JM-U14Z-IICH: Sportovní klub SKUNK Unkovice 'B' 'čtverky'-TJ Sokol 
 Letovice 'D' 'Čtverky'
END:VEVENT
BEGIN:VEVENT
UID:30623363-3466-4465-b032-393136313131
DTSTAMP:20260422T230102Z
DESCRIPTION:7/7 Sportovní klub SKUNK Unkovice 'B' 'čtverky' - TJ Sokol Leto
 vice 'B' 'Čtverky' 2:0 (18\,20)
DTSTART;TZID=Europe/Berlin:20241117T130000
DTEND;TZID=Europe/Berlin:20241117T150000
LOCATION:Sportovní hala Letovice\, V zahradách 831 Letovice
SUMMARY:JM-U14Z-IICH: Sportovní klub SKUNK Unkovice 'B' 'čtverky'-TJ Sokol 
 Letovice 'B' 'Čtverky'
END:VEVENT
BEGIN:VEVENT
UID:36303733-3039-4033-a236-656235613939
DTSTAMP:20260422T230102Z
DESCRIPTION:9/9 TJ Sokol Letovice 'E' 'Čtverky' - Sportovní klub SKUNK Unko
 vice 'B' 'čtverky' 1:2 (-18\,20\,-10)
DTSTART;TZID=Europe/Berlin:20241117T141500
DTEND;TZID=Europe/Berlin:20241117T161500
LOCATION:Sportovní hala Letovice\, V zahradách 831 Letovice
SUMMARY:JM-U14Z-IICH: TJ Sokol Letovice 'E' 'Čtverky'-Sportovní klub SKUNK 
 Unkovice 'B' 'čtverky'
END:VEVENT
BEGIN:VEVENT
UID:37316339-3639-4634-a631-386664613630
DTSTAMP:20260422T230102Z
DESCRIPTION:4/4 Sportovní klub SKUNK Unkovice 'B' 'čtverky' - VK Brno 'B' '
 Čtverky' 2:0 (15\,14)
DTSTART;TZID=Europe/Berlin:20241215T103000
DTEND;TZID=Europe/Berlin:20241215T123000
LOCATION:Sportovní hala Letovice\, V zahradách 831 Letovice
SUMMARY:JM-U14Z-IIICH: Sportovní klub SKUNK Unkovice 'B' 'čtverky'-VK Brno 
 'B' 'Čtverky'
END:VEVENT
BEGIN:VEVENT
UID:65623963-3933-4330-a639-303536383761
DTSTAMP:20260422T230102Z
DESCRIPTION:6/6 Sportovní klub SKUNK Unkovice 'B' 'čtverky' - TJ Sokol Leto
 vice 'B' 'Čtverky' 2:0 (14\,13)
DTSTART;TZID=Europe/Berlin:20241215T114500
DTEND;TZID=Europe/Berlin:20241215T134500
LOCATION:Sportovní hala Letovice\, V zahradách 831 Letovice
SUMMARY:JM-U14Z-IIICH: Sportovní klub SKUNK Unkovice 'B' 'čtverky'-TJ Sokol
  Letovice 'B' 'Čtverky'
END:VEVENT
BEGIN:VEVENT
UID:38313132-6565-4562-b733-306533303934
DTSTAMP:20260422T230102Z
DESCRIPTION:7/7 Sportovní klub SKUNK Unkovice 'B' 'čtverky' - TJ Sokol Leto
 vice 'D' 'Čtverky' 1:2 (25\,-22\,-12)
DTSTART;TZID=Europe/Berlin:20241215T130000
DTEND;TZID=Europe/Berlin:20241215T150000
LOCATION:Sportovní hala Letovice\, V zahradách 831 Letovice
SUMMARY:JM-U14Z-IIICH: Sportovní klub SKUNK Unkovice 'B' 'čtverky'-TJ Sokol
  Letovice 'D' 'Čtverky'
END:VEVENT
BEGIN:VEVENT
UID:30393730-3837-4666-a261-313137633237
DTSTAMP:20260422T230102Z
DESCRIPTION:9/9 TJ Sokol Letovice 'E' 'Čtverky' - Sportovní klub SKUNK Unko
 vice 'B' 'čtverky' 1:2 (21\,-3\,-12)
DTSTART;TZID=Europe/Berlin:20241215T141500
DTEND;TZID=Europe/Berlin:20241215T161500
LOCATION:Sportovní hala Letovice\, V zahradách 831 Letovice
SUMMARY:JM-U14Z-IIICH: TJ Sokol Letovice 'E' 'Čtverky'-Sportovní klub SKUNK
  Unkovice 'B' 'čtverky'
END:VEVENT
BEGIN:VEVENT
UID:36393334-6265-4964-b031-653333316461
DTSTAMP:20260422T230102Z
DESCRIPTION:6/6 Sportovní klub SKUNK Unkovice 'B' 'čtverky' - TJ JUNIOR Brn
 o 'C' 'Čtverky' 0:2 (-19\,-19)
DTSTART;TZID=Europe/Berlin:20250112T153000
DTEND;TZID=Europe/Berlin:20250112T173000
LOCATION:tělocvičny ZŠ Novolíšeňská\, Brno\, Novolíšeňská 2411 Brno - Líšeň
SUMMARY:JM-U14Z-IVCH: Sportovní klub SKUNK Unkovice 'B' 'čtverky'-TJ JUNIOR
  Brno 'C' 'Čtverky'
END:VEVENT
BEGIN:VEVENT
UID:35376338-3535-4534-b265-316438363834
DTSTAMP:20260422T230102Z
DESCRIPTION:2/2 TJ Sokol Letovice 'D' 'Čtverky' - Sportovní klub SKUNK Unko
 vice 'B' 'čtverky' 2:0 (13\,12)
DTSTART;TZID=Europe/Berlin:20250112T103000
DTEND;TZID=Europe/Berlin:20250112T123000
LOCATION:tělocvičny ZŠ Novolíšeňská\, Brno\, Novolíšeňská 2411 Brno - Líšeň
SUMMARY:JM-U14Z-IVCH: TJ Sokol Letovice 'D' 'Čtverky'-Sportovní klub SKUNK 
 Unkovice 'B' 'čtverky'
END:VEVENT
BEGIN:VEVENT
UID:62363637-6163-4537-b961-653339313961
DTSTAMP:20260422T230102Z
DESCRIPTION:3/3 Orel Křenovice 'Čtverky' - Sportovní klub SKUNK Unkovice 'B
 ' 'čtverky' 2:1 (13\,-24\,6)
DTSTART;TZID=Europe/Berlin:20250112T114500
DTEND;TZID=Europe/Berlin:20250112T134500
LOCATION:tělocvičny ZŠ Novolíšeňská\, Brno\, Novolíšeňská 2411 Brno - Líšeň
SUMMARY:JM-U14Z-IVCH: Orel Křenovice 'Čtverky'-Sportovní klub SKUNK Unkovic
 e 'B' 'čtverky'
END:VEVENT
BEGIN:VEVENT
UID:61346565-3862-4438-b738-663261666536
DTSTAMP:20260422T230102Z
DESCRIPTION:4/6 Sportovní klub SKUNK Unkovice 'B' 'čtverky' - TJ Sokol Leto
 vice 'E' 'Čtverky' 2:0 (9\,14)
DTSTART;TZID=Europe/Berlin:20250223T130000
DTEND;TZID=Europe/Berlin:20250223T150000
LOCATION:Sportovní hala Letovice\, V zahradách 831 Letovice
SUMMARY:JM-U14Z-VJ: Sportovní klub SKUNK Unkovice 'B' 'čtverky'-TJ Sokol Le
 tovice 'E' 'Čtverky'
END:VEVENT
BEGIN:VEVENT
UID:38316336-3937-4266-a131-336131393163
DTSTAMP:20260422T230102Z
DESCRIPTION:2/2 TJ Sokol Letovice 'B' 'Čtverky' - Sportovní klub SKUNK Unko
 vice 'B' 'čtverky' 2:0 (13\,17)
DTSTART;TZID=Europe/Berlin:20250223T103000
DTEND;TZID=Europe/Berlin:20250223T123000
LOCATION:Sportovní hala Letovice\, V zahradách 831 Letovice
SUMMARY:JM-U14Z-VJ: TJ Sokol Letovice 'B' 'Čtverky'-Sportovní klub SKUNK Un
 kovice 'B' 'čtverky'
END:VEVENT
BEGIN:VEVENT
UID:61636434-3661-4962-b264-633965363431
DTSTAMP:20260422T230102Z
DESCRIPTION:3/4 VK Brno 'B' 'Čtverky' - Sportovní klub SKUNK Unkovice 'B' '
 čtverky' 2:0 (13\,20)
DTSTART;TZID=Europe/Berlin:20250223T114500
DTEND;TZID=Europe/Berlin:20250223T134500
LOCATION:Sportovní hala Letovice\, V zahradách 831 Letovice
SUMMARY:JM-U14Z-VJ: VK Brno 'B' 'Čtverky'-Sportovní klub SKUNK Unkovice 'B'
  'čtverky'
END:VEVENT
BEGIN:VEVENT
UID:39333332-3733-4731-b264-373464356238
DTSTAMP:20260422T230102Z
DESCRIPTION:1/1 Sportovní klub SKUNK Unkovice 'B' 'čtverky' - TJ Sokol Leto
 vice 'D' 'Čtverky' 0:2 (-12\,-19)
DTSTART;TZID=Europe/Berlin:20250323T090000
DTEND;TZID=Europe/Berlin:20250323T110000
SUMMARY:JM-U14Z-VIJ: Sportovní klub SKUNK Unkovice 'B' 'čtverky'-TJ Sokol L
 etovice 'D' 'Čtverky'
END:VEVENT
BEGIN:VEVENT
UID:33666338-3734-4631-b133-356566373765
DTSTAMP:20260422T230102Z
DESCRIPTION:4/4 Sportovní klub SKUNK Unkovice 'B' 'čtverky' - TJ Sokol Leto
 vice 'B' 'Čtverky' 2:0 (14\,19)
DTSTART;TZID=Europe/Berlin:20250323T130000
DTEND;TZID=Europe/Berlin:20250323T150000
SUMMARY:JM-U14Z-VIJ: Sportovní klub SKUNK Unkovice 'B' 'čtverky'-TJ Sokol L
 etovice 'B' 'Čtverky'
END:VEVENT
BEGIN:VEVENT
UID:66396237-3037-4639-b338-643262316138
DTSTAMP:20260422T230102Z
DESCRIPTION:6/6 TJ Sokol Letovice 'E' 'Čtverky' - Sportovní klub SKUNK Unko
 vice 'B' 'čtverky' 0:2 (-13\,-20)
DTSTART;TZID=Europe/Berlin:20250323T153000
DTEND;TZID=Europe/Berlin:20250323T173000
SUMMARY:JM-U14Z-VIJ: TJ Sokol Letovice 'E' 'Čtverky'-Sportovní klub SKUNK U
 nkovice 'B' 'čtverky'
END:VEVENT
BEGIN:VEVENT
UID:61366233-6237-4339-b464-396434653438
DTSTAMP:20260422T230102Z
DESCRIPTION:2/2 Sportovní klub SKUNK Unkovice 'B' 'čtverky' - VK Brno 'B' '
 Čtverky' 2:0 (22\,22)\nKurt 3
DTSTART;TZID=Europe/Berlin:20250406T103000
DTEND;TZID=Europe/Berlin:20250406T123000
LOCATION:Sportovní hala Letovice\, V zahradách 831 Letovice
SUMMARY:JM-U14Z-F4B: Sportovní klub SKUNK Unkovice 'B' 'čtverky'-VK Brno 'B
 ' 'Čtverky'
END:VEVENT
BEGIN:VEVENT
UID:63653139-6236-4765-b239-396635356338
DTSTAMP:20260422T230102Z
DESCRIPTION:5/5 Sportovní klub SKUNK Unkovice 'B' 'čtverky' - TJ Sokol Leto
 vice 'E' 'Čtverky' 2:0 (20\,14)\nKurt 3
DTSTART;TZID=Europe/Berlin:20250406T141500
DTEND;TZID=Europe/Berlin:20250406T161500
LOCATION:Sportovní hala Letovice\, V zahradách 831 Letovice
SUMMARY:JM-U14Z-F4B: Sportovní klub SKUNK Unkovice 'B' 'čtverky'-TJ Sokol L
 etovice 'E' 'Čtverky'
END:VEVENT
BEGIN:VEVENT
UID:34613665-3239-4530-b732-313032653139
DTSTAMP:20260422T230102Z
DESCRIPTION:4/4 TJ Sokol Letovice 'B' 'Čtverky' - Sportovní klub SKUNK Unko
 vice 'B' 'čtverky' 2:0 (22\,15)\nKurt 3
DTSTART;TZID=Europe/Berlin:20250406T130000
DTEND;TZID=Europe/Berlin:20250406T150000
LOCATION:Sportovní hala Letovice\, V zahradách 831 Letovice
SUMMARY:JM-U14Z-F4B: TJ Sokol Letovice 'B' 'Čtverky'-Sportovní klub SKUNK U
 nkovice 'B' 'čtverky'
END:VEVENT
END:VCALENDAR
