BEGIN:VCALENDAR
VERSION:2.0
PRODID:-//SK PROSEK PRAHA88568//NONSGML kigkonsult.se iCalcreator 2.41.80//
CALSCALE:GREGORIAN
UID:62313439-3333-4431-b532-333636626361
BEGIN:VEVENT
UID:34303031-3135-4233-b733-633762366662
DTSTAMP:20260422T111941Z
DESCRIPTION:4/4 SK Prosek - VK SPORT Rychnov nad Kněžnou\, 2:0 (10\,20)
DTSTART;TZID=Europe/Berlin:20241207T120000
DTEND;TZID=Europe/Berlin:20241207T140000
SUMMARY:CP-U14M-ZD: SK Prosek-VK SPORT Rychnov nad Kněžnou\,
END:VEVENT
BEGIN:VEVENT
UID:65613837-3737-4538-b663-343464666661
DTSTAMP:20260422T111941Z
DESCRIPTION:1/1 Kolín - SK Prosek 0:2 (-17\,-7)
DTSTART;TZID=Europe/Berlin:20241207T090000
DTEND;TZID=Europe/Berlin:20241207T110000
LOCATION:hala STAV\, SOŠ Kolín\, Brankovická 1417 Kolín - Kolín V
SUMMARY:CP-U14M-ZD: Kolín-SK Prosek
END:VEVENT
BEGIN:VEVENT
UID:62356566-3066-4666-a166-373762376363
DTSTAMP:20260422T111941Z
DESCRIPTION:6/6 SKV Ústí n. L. - SK Prosek 1:1 (-12\,16)
DTSTART;TZID=Europe/Berlin:20241207T140000
DTEND;TZID=Europe/Berlin:20241207T160000
LOCATION:ZŠ Rabasova Rabasova 3282/3\, Ústí nad Labem
SUMMARY:CP-U14M-ZD: SKV Ústí n. L.-SK Prosek
END:VEVENT
BEGIN:VEVENT
UID:64366530-3832-4239-b862-386562326661
DTSTAMP:20260422T111941Z
DESCRIPTION:3/10 SK Prosek - Volejbalový sportovní klub Český Krumlov z.s. 
 2:0 (20\,22)\nP26-P27 o 3. místo
DTSTART;TZID=Europe/Berlin:20241207T170000
DTEND;TZID=Europe/Berlin:20241207T190000
SUMMARY:CP-U14M-Z-UMIS: SK Prosek-Volejbalový sportovní klub Český Krumlov 
 z.s.
END:VEVENT
BEGIN:VEVENT
UID:65653665-6261-4665-b634-653261663564
DTSTAMP:20260422T111941Z
DESCRIPTION:1/3 TJ TESLA BRNO z.s. - SK Prosek 2:0 (14\,16)\n1C-1D
DTSTART;TZID=Europe/Berlin:20241207T150000
DTEND;TZID=Europe/Berlin:20241207T170000
LOCATION:ZŠ Milénova 14\, Milénova 808 Brno - Lesná
SUMMARY:CP-U14M-Z-UMIS: TJ TESLA BRNO z.s.-SK Prosek
END:VEVENT
END:VCALENDAR
