BEGIN:VCALENDAR
VERSION:2.0
PRODID:-//Volejbalová akademie MUNI SPORT Brno88708//NONSGML kigkonsult.se iCalcreator 2.41.80//
CALSCALE:GREGORIAN
UID:39396263-3933-4262-a265-386562373737
BEGIN:VEVENT
UID:36323434-3765-4662-a261-366336353163
DTSTAMP:20260421T215108Z
DESCRIPTION:1/2 MUNI SPORT Brno - TJ JUNIOR Brno B 2:0 (14\,11)
DTSTART;TZID=Europe/Berlin:20250329T090000
DTEND;TZID=Europe/Berlin:20250329T110000
LOCATION:Sportovní hala TJ Jiskra\, Ledečská 3028 Havlíčkův Brod
SUMMARY:MCR-U14Z-1F: MUNI SPORT Brno-TJ JUNIOR Brno B
END:VEVENT
BEGIN:VEVENT
UID:64343865-3933-4130-b938-653030623161
DTSTAMP:20260421T215108Z
DESCRIPTION:5/11 MUNI SPORT Brno - VK Rousínov z.s. 0:2 (-23\,-9)
DTSTART;TZID=Europe/Berlin:20250329T140000
DTEND;TZID=Europe/Berlin:20250329T160000
LOCATION:Sportovní hala TJ Jiskra\, Ledečská 3028 Havlíčkův Brod
SUMMARY:MCR-U14Z-1F: MUNI SPORT Brno-VK Rousínov z.s.
END:VEVENT
BEGIN:VEVENT
UID:39396265-3739-4161-b532-393034313837
DTSTAMP:20260421T215108Z
DESCRIPTION:9/21 MUNI SPORT Brno - VK KP - ZŠ Milénova 0:2 (-19\,-18)
DTSTART;TZID=Europe/Berlin:20250330T101500
DTEND;TZID=Europe/Berlin:20250330T121500
LOCATION:Sportovní hala TJ Jiskra\, Ledečská 3028 Havlíčkův Brod
SUMMARY:MCR-U14Z-1F: MUNI SPORT Brno-VK KP - ZŠ Milénova
END:VEVENT
BEGIN:VEVENT
UID:30376136-3234-4030-b163-393261636230
DTSTAMP:20260421T215108Z
DESCRIPTION:11/27 MUNI SPORT Brno - Staré Město 0:2 (-12\,-9)
DTSTART;TZID=Europe/Berlin:20250330T124500
DTEND;TZID=Europe/Berlin:20250330T144500
LOCATION:Sportovní hala TJ Jiskra\, Ledečská 3028 Havlíčkův Brod
SUMMARY:MCR-U14Z-1F: MUNI SPORT Brno-Staré Město
END:VEVENT
BEGIN:VEVENT
UID:62313162-3231-4264-a233-356136373966
DTSTAMP:20260421T215108Z
DESCRIPTION:3/6 Volejbal Přerov - MUNI SPORT Brno 2:0 (14\,24)
DTSTART;TZID=Europe/Berlin:20250329T113000
DTEND;TZID=Europe/Berlin:20250329T133000
LOCATION:Sportovní hala TJ Jiskra\, Ledečská 3028 Havlíčkův Brod
SUMMARY:MCR-U14Z-1F: Volejbal Přerov-MUNI SPORT Brno
END:VEVENT
BEGIN:VEVENT
UID:36393435-6436-4062-a137-633538653030
DTSTAMP:20260421T215108Z
DESCRIPTION:7/15 TJ Jiskra Havl. Brod - MUNI SPORT Brno 2:0 (13\,13)
DTSTART;TZID=Europe/Berlin:20250329T163000
DTEND;TZID=Europe/Berlin:20250329T183000
LOCATION:Sportovní hala TJ Jiskra\, Ledečská 3028 Havlíčkův Brod
SUMMARY:MCR-U14Z-1F: TJ Jiskra Havl. Brod-MUNI SPORT Brno
END:VEVENT
BEGIN:VEVENT
UID:37626236-3566-4463-a232-333234633165
DTSTAMP:20260421T215108Z
DESCRIPTION:10/24 VK Znojmo - Přímětice - MUNI SPORT Brno 2:1 (16\,-27\,13)
DTSTART;TZID=Europe/Berlin:20250330T113000
DTEND;TZID=Europe/Berlin:20250330T133000
LOCATION:Sportovní hala TJ Jiskra\, Ledečská 3028 Havlíčkův Brod
SUMMARY:MCR-U14Z-1F: VK Znojmo - Přímětice-MUNI SPORT Brno
END:VEVENT
END:VCALENDAR
