BEGIN:VCALENDAR
VERSION:2.0
PRODID:-//TJ Orion Praha A88709//NONSGML kigkonsult.se iCalcreator 2.41.80//
CALSCALE:GREGORIAN
UID:61336535-3531-4362-b462-653639646361
BEGIN:VEVENT
UID:39396131-6434-4137-a239-666562626330
DTSTAMP:20260421T171409Z
DESCRIPTION:1/2 Orion Praha - Španielka 2:0 (13\,14)
DTSTART;TZID=Europe/Berlin:20250329T090000
DTEND;TZID=Europe/Berlin:20250329T110000
LOCATION:ZŠ Dolní Břežany\, Na Vršku 290 Dolní Břežany
SUMMARY:MCR-U14Z-1A: Orion Praha-Španielka
END:VEVENT
BEGIN:VEVENT
UID:36383261-3837-4261-b763-343739373831
DTSTAMP:20260421T171409Z
DESCRIPTION:3/6 Orion Praha - Kolín 2:0 (8\,14)
DTSTART;TZID=Europe/Berlin:20250329T113000
DTEND;TZID=Europe/Berlin:20250329T133000
LOCATION:ZŠ Dolní Břežany\, Na Vršku 290 Dolní Břežany
SUMMARY:MCR-U14Z-1A: Orion Praha-Kolín
END:VEVENT
BEGIN:VEVENT
UID:64663230-3636-4364-b731-393364343530
DTSTAMP:20260421T171409Z
DESCRIPTION:5/10 Orion Praha - TJ Slavia H. Králové 2:0 (7\,16)
DTSTART;TZID=Europe/Berlin:20250329T140000
DTEND;TZID=Europe/Berlin:20250329T160000
LOCATION:ZŠ Dolní Břežany\, Na Vršku 290 Dolní Břežany
SUMMARY:MCR-U14Z-1A: Orion Praha-TJ Slavia H. Králové
END:VEVENT
BEGIN:VEVENT
UID:65373761-6264-4434-a566-383939373431
DTSTAMP:20260421T171409Z
DESCRIPTION:7/14 Orion Praha - Volejbal Rudolfov 2:0 (19\,18)
DTSTART;TZID=Europe/Berlin:20250329T163000
DTEND;TZID=Europe/Berlin:20250329T183000
LOCATION:ZŠ Dolní Břežany\, Na Vršku 290 Dolní Břežany
SUMMARY:MCR-U14Z-1A: Orion Praha-Volejbal Rudolfov
END:VEVENT
BEGIN:VEVENT
UID:39366364-3564-4331-b932-613539313433
DTSTAMP:20260421T171409Z
DESCRIPTION:10/20 VK Hronov - Orion Praha 0:2 (-12\,-14)
DTSTART;TZID=Europe/Berlin:20250330T094500
DTEND;TZID=Europe/Berlin:20250330T114500
LOCATION:ZŠ Dolní Břežany\, Na Vršku 290 Dolní Břežany
SUMMARY:MCR-U14Z-1A: VK Hronov-Orion Praha
END:VEVENT
BEGIN:VEVENT
UID:39393832-3734-4563-a666-306361323663
DTSTAMP:20260421T171409Z
DESCRIPTION:12/24 VK Benátky nad Jizerou - Orion Praha 0:2 (-18\,-21)
DTSTART;TZID=Europe/Berlin:20250330T121500
DTEND;TZID=Europe/Berlin:20250330T141500
LOCATION:ZŠ Dolní Břežany\, Na Vršku 290 Dolní Břežany
SUMMARY:MCR-U14Z-1A: VK Benátky nad Jizerou-Orion Praha
END:VEVENT
BEGIN:VEVENT
UID:64303263-3565-4438-b338-323737376162
DTSTAMP:20260421T171409Z
DESCRIPTION:14/28 TJ Sokol Pardubice I. - Orion Praha 0:2 (-14\,-18)
DTSTART;TZID=Europe/Berlin:20250330T144500
DTEND;TZID=Europe/Berlin:20250330T164500
LOCATION:ZŠ Dolní Břežany\, Na Vršku 290 Dolní Břežany
SUMMARY:MCR-U14Z-1A: TJ Sokol Pardubice I.-Orion Praha
END:VEVENT
BEGIN:VEVENT
UID:36313266-3566-4536-a131-313839323336
DTSTAMP:20260421T171409Z
DESCRIPTION:1/1 Orion Praha - VoCe 2:1 (-20\,10\,12)
DTSTART;TZID=Europe/Berlin:20250412T090000
DTEND;TZID=Europe/Berlin:20250412T110000
LOCATION:Hala ZŠ Komenského\, Komenského 701 Bílovec
SUMMARY:MCR-U14Z-2A: Orion Praha-VoCe
END:VEVENT
BEGIN:VEVENT
UID:30353939-6331-4636-b462-666665376566
DTSTAMP:20260421T171409Z
DESCRIPTION:6/11 Orion Praha - Staré Město 2:0 (13\,13)
DTSTART;TZID=Europe/Berlin:20250412T153000
DTEND;TZID=Europe/Berlin:20250412T173000
LOCATION:Hala ZŠ Komenského\, Komenského 701 Bílovec
SUMMARY:MCR-U14Z-2A: Orion Praha-Staré Město
END:VEVENT
BEGIN:VEVENT
UID:36363136-6337-4632-b764-376664333462
DTSTAMP:20260421T171409Z
DESCRIPTION:11/25 Orion Praha - Mikulova Praha A 2:1 (-23\,22\,7)
DTSTART;TZID=Europe/Berlin:20250413T114500
DTEND;TZID=Europe/Berlin:20250413T134500
LOCATION:Hala ZŠ Komenského\, Komenského 701 Bílovec
SUMMARY:MCR-U14Z-2A: Orion Praha-Mikulova Praha A
END:VEVENT
BEGIN:VEVENT
UID:36663834-6535-4433-b633-373132336134
DTSTAMP:20260421T171409Z
DESCRIPTION:12/26 Orion Praha - ŠSK Bílovec 2:1 (11\,-21\,13)
DTSTART;TZID=Europe/Berlin:20250413T130000
DTEND;TZID=Europe/Berlin:20250413T150000
LOCATION:Hala ZŠ Komenského\, Komenského 701 Bílovec
SUMMARY:MCR-U14Z-2A: Orion Praha-ŠSK Bílovec
END:VEVENT
BEGIN:VEVENT
UID:31636136-3238-4538-a238-333137393335
DTSTAMP:20260421T171409Z
DESCRIPTION:3/5 TJ Svitavy - Orion Praha 0:2 (-17\,-18)
DTSTART;TZID=Europe/Berlin:20250412T114500
DTEND;TZID=Europe/Berlin:20250412T134500
LOCATION:Hala ZŠ Komenského\, Komenského 701 Bílovec
SUMMARY:MCR-U14Z-2A: TJ Svitavy-Orion Praha
END:VEVENT
BEGIN:VEVENT
UID:39356462-6666-4564-b831-393866303261
DTSTAMP:20260421T171409Z
DESCRIPTION:8/16 VK Slavia Plzeň - Orion Praha 0:2 (-8\,-16)
DTSTART;TZID=Europe/Berlin:20250412T180000
DTEND;TZID=Europe/Berlin:20250412T200000
LOCATION:Hala ZŠ Komenského\, Komenského 701 Bílovec
SUMMARY:MCR-U14Z-2A: VK Slavia Plzeň-Orion Praha
END:VEVENT
BEGIN:VEVENT
UID:63393664-6165-4665-b139-376237333363
DTSTAMP:20260421T171409Z
DESCRIPTION:10/22 TJ Spartak Polička - Orion Praha 0:2 (-18\,-15)
DTSTART;TZID=Europe/Berlin:20250413T101500
DTEND;TZID=Europe/Berlin:20250413T121500
LOCATION:Hala ZŠ Komenského\, Komenského 701 Bílovec
SUMMARY:MCR-U14Z-2A: TJ Spartak Polička-Orion Praha
END:VEVENT
BEGIN:VEVENT
UID:62616437-3834-4131-b436-343331653435
DTSTAMP:20260421T171409Z
DESCRIPTION:1/1 Orion Praha - VK Prostějov A 1:2 (19\,-18\,-10)
DTSTART;TZID=Europe/Berlin:20250516T114500
DTEND;TZID=Europe/Berlin:20250516T134500
LOCATION:ZŠ Dolní Břežany\, Na Vršku 290 Dolní Břežany
SUMMARY:MCR-U14Z-FC: Orion Praha-VK Prostějov A
END:VEVENT
BEGIN:VEVENT
UID:32633339-3334-4832-a336-336165666237
DTSTAMP:20260421T171409Z
DESCRIPTION:4/4 Orion Praha - Nové Veselí 1:2 (14\,-21\,-13)
DTSTART;TZID=Europe/Berlin:20250516T154500
DTEND;TZID=Europe/Berlin:20250516T174500
LOCATION:ZŠ Dolní Břežany\, Na Vršku 290 Dolní Břežany
SUMMARY:MCR-U14Z-FC: Orion Praha-Nové Veselí
END:VEVENT
BEGIN:VEVENT
UID:30663066-6262-4634-b736-373465353933
DTSTAMP:20260421T171409Z
DESCRIPTION:5/5 Orion Praha - TJ VK Dukla Liberec 1:2 (25\,-21\,-15)
DTSTART;TZID=Europe/Berlin:20250516T170500
DTEND;TZID=Europe/Berlin:20250516T190500
LOCATION:ZŠ Dolní Břežany\, Na Vršku 290 Dolní Břežany
SUMMARY:MCR-U14Z-FC: Orion Praha-TJ VK Dukla Liberec
END:VEVENT
BEGIN:VEVENT
UID:37346631-6536-4539-b864-346461323463
DTSTAMP:20260421T171409Z
DESCRIPTION:1/3 Orion Praha - PVK Olymp A 1:2 (13\,-12\,-13)\nC3-D1
DTSTART;TZID=Europe/Berlin:20250517T103000
DTEND;TZID=Europe/Berlin:20250517T123000
LOCATION:ZŠ Dolní Břežany\, Na Vršku 290 Dolní Břežany
SUMMARY:MCR-U14Z-FE: Orion Praha-PVK Olymp A
END:VEVENT
BEGIN:VEVENT
UID:63383938-3765-4537-b866-663166666166
DTSTAMP:20260421T171409Z
DESCRIPTION:3/9 Orion Praha - TJ Jiskra Havl. Brod 2:0 (19\,20)\nC3-D2
DTSTART;TZID=Europe/Berlin:20250517T163000
DTEND;TZID=Europe/Berlin:20250517T183000
LOCATION:ZŠ Dolní Břežany\, Na Vršku 290 Dolní Břežany
SUMMARY:MCR-U14Z-FE: Orion Praha-TJ Jiskra Havl. Brod
END:VEVENT
BEGIN:VEVENT
UID:33356335-3238-4561-b736-393334396161
DTSTAMP:20260421T171409Z
DESCRIPTION:2/6 Lokomotiva Plzeň - Orion Praha 2:0 (27\,22)\nD3-C3
DTSTART;TZID=Europe/Berlin:20250517T133000
DTEND;TZID=Europe/Berlin:20250517T153000
LOCATION:Městská sportovní hala  -  hala 2\, Úslavská 2357 Plzeň - Východní
  Předměstí
SUMMARY:MCR-U14Z-FE: Lokomotiva Plzeň-Orion Praha
END:VEVENT
BEGIN:VEVENT
UID:38663862-3462-4663-b864-323937363131
DTSTAMP:20260421T171409Z
DESCRIPTION:1/3 Orion Praha - VK Karlovy Vary 0:2 (-26\,-17)\nE5-F6
DTSTART;TZID=Europe/Berlin:20250518T083000
DTEND;TZID=Europe/Berlin:20250518T103000
LOCATION:ZŠ Dolní Břežany\, Na Vršku 290 Dolní Břežany
SUMMARY:MCR-U14Z-FH: Orion Praha-VK Karlovy Vary
END:VEVENT
BEGIN:VEVENT
UID:34633736-6430-4137-a566-336635643132
DTSTAMP:20260421T171409Z
DESCRIPTION:3/7 Nové Veselí - Orion Praha 0:2 (-21\,-14)\no 11.místo
DTSTART;TZID=Europe/Berlin:20250518T113000
DTEND;TZID=Europe/Berlin:20250518T133000
LOCATION:Víceúčelová sportovní hala Nové Veselí\, Žďárská 356 Nové Veselí
SUMMARY:MCR-U14Z-FH: Nové Veselí-Orion Praha
END:VEVENT
END:VCALENDAR
