BEGIN:VCALENDAR
VERSION:2.0
PRODID:-//Volejbalový sportovní klub Český Krumlov z.s.88719//NONSGML kigkonsult.se iCalcreator 2.41.80//
CALSCALE:GREGORIAN
UID:38356338-3665-4166-a539-636563356232
BEGIN:VEVENT
UID:63346630-3735-4361-b137-663034613561
DTSTAMP:20260422T033940Z
DESCRIPTION:2/4 VSK Český Krumlov - SK Meteor Praha 0:2 (-11\,-23)
DTSTART;TZID=Europe/Berlin:20250329T104000
DTEND;TZID=Europe/Berlin:20250329T124000
LOCATION:ZŠ Za Nádražím Český Krumlov\, Za Nádražím 222 Český Krumlov - Nád
 ražní Předměstí
SUMMARY:MCR-U14Z-1J: VSK Český Krumlov-SK Meteor Praha
END:VEVENT
BEGIN:VEVENT
UID:66376330-3562-4662-a165-646636623730
DTSTAMP:20260422T033940Z
DESCRIPTION:3/7 VSK Český Krumlov - VK Karlovy Vary 0:2 (-7\,-10)
DTSTART;TZID=Europe/Berlin:20250329T115000
DTEND;TZID=Europe/Berlin:20250329T135000
LOCATION:ZŠ Za Nádražím Český Krumlov\, Za Nádražím 222 Český Krumlov - Nád
 ražní Předměstí
SUMMARY:MCR-U14Z-1J: VSK Český Krumlov-VK Karlovy Vary
END:VEVENT
BEGIN:VEVENT
UID:63376435-3866-4532-b936-346332356537
DTSTAMP:20260422T033940Z
DESCRIPTION:4/10 VSK Český Krumlov - Klatovy 1:2 (15\,-17\,-4)
DTSTART;TZID=Europe/Berlin:20250329T130000
DTEND;TZID=Europe/Berlin:20250329T150000
LOCATION:ZŠ Za Nádražím Český Krumlov\, Za Nádražím 222 Český Krumlov - Nád
 ražní Předměstí
SUMMARY:MCR-U14Z-1J: VSK Český Krumlov-Klatovy
END:VEVENT
BEGIN:VEVENT
UID:61393436-3830-4462-a238-373366353637
DTSTAMP:20260422T033940Z
DESCRIPTION:6/14 VSK Český Krumlov - Volejbal Tábor\, z.s. 0:2 (-15\,-10)
DTSTART;TZID=Europe/Berlin:20250329T152000
DTEND;TZID=Europe/Berlin:20250329T172000
LOCATION:ZŠ Za Nádražím Český Krumlov\, Za Nádražím 222 Český Krumlov - Nád
 ražní Předměstí
SUMMARY:MCR-U14Z-1J: VSK Český Krumlov-Volejbal Tábor\, z.s.
END:VEVENT
BEGIN:VEVENT
UID:30653535-6638-4137-a561-316566376135
DTSTAMP:20260422T033940Z
DESCRIPTION:7/19 ŠSK Demlova Jihlava - VSK Český Krumlov 2:0 (13\,25)
DTSTART;TZID=Europe/Berlin:20250330T090000
DTEND;TZID=Europe/Berlin:20250330T110000
LOCATION:ZŠ Jihlava Demlova\, Demlova 4178 Jihlava
SUMMARY:MCR-U14Z-1J: ŠSK Demlova Jihlava-VSK Český Krumlov
END:VEVENT
BEGIN:VEVENT
UID:62366330-6565-4935-a465-316566616161
DTSTAMP:20260422T033940Z
DESCRIPTION:8/22 Kladno volejbal A - VSK Český Krumlov 2:0 (10\,17)
DTSTART;TZID=Europe/Berlin:20250330T101000
DTEND;TZID=Europe/Berlin:20250330T121000
LOCATION:Kladenská sportovní hala\, Sportovců 817 Kladno - Rozdělov
SUMMARY:MCR-U14Z-1J: Kladno volejbal A-VSK Český Krumlov
END:VEVENT
BEGIN:VEVENT
UID:39623237-3362-4866-a531-333533306139
DTSTAMP:20260422T033940Z
DESCRIPTION:10/28 BVK Nymburské BOMBY - VSK Český Krumlov 2:0 (11\,13)
DTSTART;TZID=Europe/Berlin:20250330T123000
DTEND;TZID=Europe/Berlin:20250330T143000
LOCATION:Bios\, V Kolonii 1804 Nymburk
SUMMARY:MCR-U14Z-1J: BVK Nymburské BOMBY-VSK Český Krumlov
END:VEVENT
END:VCALENDAR
