BEGIN:VCALENDAR
VERSION:2.0
PRODID:-//VK Šantovka Olomouc UP88784//NONSGML kigkonsult.se iCalcreator 2.41.80//
CALSCALE:GREGORIAN
UID:37623363-3865-4739-a338-646566643132
BEGIN:VEVENT
UID:36353034-6432-4533-b334-646538383465
DTSTAMP:20260421T125020Z
DESCRIPTION:1/3 VK Olomouc - VO TJ Lanškroun 2:0 (20\,13)
DTSTART;TZID=Europe/Berlin:20250329T090000
DTEND;TZID=Europe/Berlin:20250329T110000
LOCATION:UP Olomouc\, U sportovní haly 38 Olomouc - Lazce
SUMMARY:MCR-U14Z-1B: VK Olomouc-VO TJ Lanškroun
END:VEVENT
BEGIN:VEVENT
UID:61616665-3833-4030-b530-393839613539
DTSTAMP:20260421T125020Z
DESCRIPTION:5/14 VK Olomouc - TJ Sokol Šlapanice 'Dívky' 2:0 (8\,10)
DTSTART;TZID=Europe/Berlin:20250329T144500
DTEND;TZID=Europe/Berlin:20250329T164500
LOCATION:UP Olomouc\, U sportovní haly 38 Olomouc - Lazce
SUMMARY:MCR-U14Z-1B: VK Olomouc-TJ Sokol Šlapanice 'Dívky'
END:VEVENT
BEGIN:VEVENT
UID:38663066-6632-4465-b061-353934353263
DTSTAMP:20260421T125020Z
DESCRIPTION:9/23 VK Olomouc - TJ Spartak Polička 0:2 (-16\,-19)
DTSTART;TZID=Europe/Berlin:20250330T113000
DTEND;TZID=Europe/Berlin:20250330T133000
LOCATION:UP Olomouc\, U sportovní haly 38 Olomouc - Lazce
SUMMARY:MCR-U14Z-1B: VK Olomouc-TJ Spartak Polička
END:VEVENT
BEGIN:VEVENT
UID:31303765-3333-4438-b064-643838383639
DTSTAMP:20260421T125020Z
DESCRIPTION:2/6 TJ JUNIOR Brno A - VK Olomouc 0:2 (-23\,-20)
DTSTART;TZID=Europe/Berlin:20250329T101500
DTEND;TZID=Europe/Berlin:20250329T121500
LOCATION:tělocvičny ZŠ Novolíšeňská\, Brno\, Novolíšeňská 2411 Brno - Líšeň
SUMMARY:MCR-U14Z-1B: TJ JUNIOR Brno A-VK Olomouc
END:VEVENT
BEGIN:VEVENT
UID:66613436-3163-4062-a261-333535336266
DTSTAMP:20260421T125020Z
DESCRIPTION:3/8 VK Prostějov B - VK Olomouc 0:2 (-16\,-14)
DTSTART;TZID=Europe/Berlin:20250329T113000
DTEND;TZID=Europe/Berlin:20250329T133000
LOCATION:Národní sportovní centrum\, Za velodromem 4187 Prostějov
SUMMARY:MCR-U14Z-1B: VK Prostějov B-VK Olomouc
END:VEVENT
BEGIN:VEVENT
UID:37663031-3139-4361-a661-366464313231
DTSTAMP:20260421T125020Z
DESCRIPTION:8/20 VK Brno - VK Olomouc 2:1 (-15\,14\,14)
DTSTART;TZID=Europe/Berlin:20250330T101500
DTEND;TZID=Europe/Berlin:20250330T121500
LOCATION:ZŠ Vejrostova\, Vejrostova 1066 Brno - Bystrc
SUMMARY:MCR-U14Z-1B: VK Brno-VK Olomouc
END:VEVENT
BEGIN:VEVENT
UID:32323539-3339-4637-b034-643533343362
DTSTAMP:20260421T125020Z
DESCRIPTION:10/28 Baník Rtyně - VK Olomouc 2:1 (18\,-23\,4)
DTSTART;TZID=Europe/Berlin:20250330T124500
DTEND;TZID=Europe/Berlin:20250330T144500
LOCATION:Orlovna\, nám. Horníků 856 Rtyně v Podkrkonoší
SUMMARY:MCR-U14Z-1B: Baník Rtyně-VK Olomouc
END:VEVENT
BEGIN:VEVENT
UID:32343236-3839-4064-b535-666539373262
DTSTAMP:20260421T125020Z
DESCRIPTION:1/1 VK Olomouc - S V B C 2:1 (17\,-12\,11)
DTSTART;TZID=Europe/Berlin:20250412T090000
DTEND;TZID=Europe/Berlin:20250412T110000
LOCATION:Městská sportovní hala\, Petřivalského 2884 Přerov - Přerov I-Měst
 o
SUMMARY:MCR-U14Z-2D: VK Olomouc-S V B C
END:VEVENT
BEGIN:VEVENT
UID:32626665-3665-4639-a230-343430326665
DTSTAMP:20260421T125020Z
DESCRIPTION:3/6 VK Olomouc - VSC Zlín 0:2 (-20\,-20)
DTSTART;TZID=Europe/Berlin:20250412T113000
DTEND;TZID=Europe/Berlin:20250412T133000
LOCATION:Městská sportovní hala\, Petřivalského 2884 Přerov - Přerov I-Měst
 o
SUMMARY:MCR-U14Z-2D: VK Olomouc-VSC Zlín
END:VEVENT
BEGIN:VEVENT
UID:35393562-3163-4161-b337-613339396662
DTSTAMP:20260421T125020Z
DESCRIPTION:4/9 VK Olomouc - TJ Jiskra Havl. Brod 0:2 (-21\,-19)
DTSTART;TZID=Europe/Berlin:20250412T124500
DTEND;TZID=Europe/Berlin:20250412T144500
LOCATION:Městská sportovní hala\, Petřivalského 2884 Přerov - Přerov I-Měst
 o
SUMMARY:MCR-U14Z-2D: VK Olomouc-TJ Jiskra Havl. Brod
END:VEVENT
BEGIN:VEVENT
UID:62383463-3163-4533-b863-383235663465
DTSTAMP:20260421T125020Z
DESCRIPTION:8/18 VK Olomouc - Hořovice 2:0 (16\,18)
DTSTART;TZID=Europe/Berlin:20250413T090000
DTEND;TZID=Europe/Berlin:20250413T110000
LOCATION:Městská sportovní hala\, Petřivalského 2884 Přerov - Přerov I-Měst
 o
SUMMARY:MCR-U14Z-2D: VK Olomouc-Hořovice
END:VEVENT
BEGIN:VEVENT
UID:35653662-3939-4564-b734-326461623634
DTSTAMP:20260421T125020Z
DESCRIPTION:10/23 VK Olomouc - BVK Nymburské BOMBY 0:2 (-16\,-14)
DTSTART;TZID=Europe/Berlin:20250413T113000
DTEND;TZID=Europe/Berlin:20250413T133000
LOCATION:Městská sportovní hala\, Petřivalského 2884 Přerov - Přerov I-Měst
 o
SUMMARY:MCR-U14Z-2D: VK Olomouc-BVK Nymburské BOMBY
END:VEVENT
BEGIN:VEVENT
UID:64626136-3564-4533-b736-396238316162
DTSTAMP:20260421T125020Z
DESCRIPTION:11/28 VK Olomouc - VK Benátky nad Jizerou 0:2 (-25\,-15)
DTSTART;TZID=Europe/Berlin:20250413T124500
DTEND;TZID=Europe/Berlin:20250413T144500
LOCATION:Městská sportovní hala\, Petřivalského 2884 Přerov - Přerov I-Měst
 o
SUMMARY:MCR-U14Z-2D: VK Olomouc-VK Benátky nad Jizerou
END:VEVENT
BEGIN:VEVENT
UID:30333531-6431-4535-b330-333630393365
DTSTAMP:20260421T125020Z
DESCRIPTION:6/14 VK Rokycany - VK Olomouc 1:2 (14\,-21\,-9)
DTSTART;TZID=Europe/Berlin:20250412T151500
DTEND;TZID=Europe/Berlin:20250412T171500
LOCATION:Městská sportovní hala\, Petřivalského 2884 Přerov - Přerov I-Měst
 o
SUMMARY:MCR-U14Z-2D: VK Rokycany-VK Olomouc
END:VEVENT
END:VCALENDAR
