BEGIN:VCALENDAR
VERSION:2.0
PRODID:-//Volejbalový klub Rokycany88825//NONSGML kigkonsult.se iCalcreator 2.41.80//
CALSCALE:GREGORIAN
UID:33383338-6235-4264-b666-613665376332
BEGIN:VEVENT
UID:31653430-6538-4335-b336-363539336131
DTSTAMP:20260422T010251Z
DESCRIPTION:4/7 VK Rokycany - VK Lvi Praha A 2:1 (23\,-23\,6)
DTSTART;TZID=Europe/Berlin:20250329T124500
DTEND;TZID=Europe/Berlin:20250329T144500
LOCATION:Sportovní hala TJ Sever Žatec\, Plzeňská 2787 Žatec
SUMMARY:MCR-U14Z-1C: VK Rokycany-VK Lvi Praha A
END:VEVENT
BEGIN:VEVENT
UID:38393738-3933-4530-b534-313535303333
DTSTAMP:20260422T010251Z
DESCRIPTION:6/12 VK Rokycany - Orion Praha B 2:0 (17\,17)
DTSTART;TZID=Europe/Berlin:20250329T151500
DTEND;TZID=Europe/Berlin:20250329T171500
LOCATION:Sportovní hala TJ Sever Žatec\, Plzeňská 2787 Žatec
SUMMARY:MCR-U14Z-1C: VK Rokycany-Orion Praha B
END:VEVENT
BEGIN:VEVENT
UID:62333430-3361-4432-a633-633762336236
DTSTAMP:20260422T010251Z
DESCRIPTION:12/23 VK Rokycany - VK Sever Žatec 0:2 (-13\,-12)
DTSTART;TZID=Europe/Berlin:20250330T121500
DTEND;TZID=Europe/Berlin:20250330T141500
LOCATION:Sportovní hala TJ Sever Žatec\, Plzeňská 2787 Žatec
SUMMARY:MCR-U14Z-1C: VK Rokycany-VK Sever Žatec
END:VEVENT
BEGIN:VEVENT
UID:39393038-6561-4861-b563-316132313165
DTSTAMP:20260422T010251Z
DESCRIPTION:2/4 Sokol Brandýs n.L. - VK Rokycany 0:2 (-14\,-10)
DTSTART;TZID=Europe/Berlin:20250329T101500
DTEND;TZID=Europe/Berlin:20250329T121500
LOCATION:Sportovní hala TJ Sever Žatec\, Plzeňská 2787 Žatec
SUMMARY:MCR-U14Z-1C: Sokol Brandýs n.L.-VK Rokycany
END:VEVENT
BEGIN:VEVENT
UID:38336534-6131-4131-a261-316630336434
DTSTAMP:20260422T010251Z
DESCRIPTION:8/15 TJ KRALUPY - VK Rokycany 2:0 (22\,22)
DTSTART;TZID=Europe/Berlin:20250329T174500
DTEND;TZID=Europe/Berlin:20250329T194500
LOCATION:Sportovní hala TJ Sever Žatec\, Plzeňská 2787 Žatec
SUMMARY:MCR-U14Z-1C: TJ KRALUPY-VK Rokycany
END:VEVENT
BEGIN:VEVENT
UID:65323961-3833-4166-a539-383763623738
DTSTAMP:20260422T010251Z
DESCRIPTION:9/18 VK Slavia Plzeň - VK Rokycany 2:1 (-16\,16\,13)
DTSTART;TZID=Europe/Berlin:20250330T090000
DTEND;TZID=Europe/Berlin:20250330T110000
LOCATION:Sportovní hala TJ Sever Žatec\, Plzeňská 2787 Žatec
SUMMARY:MCR-U14Z-1C: VK Slavia Plzeň-VK Rokycany
END:VEVENT
BEGIN:VEVENT
UID:66356534-3666-4230-b663-653433666639
DTSTAMP:20260422T010251Z
DESCRIPTION:14/28 VK Jirkov - VK Rokycany 0:2 (-10\,-11)
DTSTART;TZID=Europe/Berlin:20250330T141500
DTEND;TZID=Europe/Berlin:20250330T161500
LOCATION:Sportovní hala TJ Sever Žatec\, Plzeňská 2787 Žatec
SUMMARY:MCR-U14Z-1C: VK Jirkov-VK Rokycany
END:VEVENT
BEGIN:VEVENT
UID:63633666-3130-4038-b336-653663333864
DTSTAMP:20260422T010251Z
DESCRIPTION:2/3 VK Rokycany - VK Benátky nad Jizerou 0:2 (-9\,-15)
DTSTART;TZID=Europe/Berlin:20250412T101500
DTEND;TZID=Europe/Berlin:20250412T121500
LOCATION:Městská sportovní hala\, Petřivalského 2884 Přerov - Přerov I-Měst
 o
SUMMARY:MCR-U14Z-2D: VK Rokycany-VK Benátky nad Jizerou
END:VEVENT
BEGIN:VEVENT
UID:37663837-3838-4532-b239-373761303461
DTSTAMP:20260422T010251Z
DESCRIPTION:3/5 VK Rokycany - TJ Jiskra Havl. Brod 0:2 (-6\,-13)
DTSTART;TZID=Europe/Berlin:20250412T113000
DTEND;TZID=Europe/Berlin:20250412T133000
LOCATION:Městská sportovní hala\, Petřivalského 2884 Přerov - Přerov I-Měst
 o
SUMMARY:MCR-U14Z-2D: VK Rokycany-TJ Jiskra Havl. Brod
END:VEVENT
BEGIN:VEVENT
UID:66633266-6430-4536-b266-326262623038
DTSTAMP:20260422T010251Z
DESCRIPTION:6/14 VK Rokycany - VK Olomouc 1:2 (14\,-21\,-9)
DTSTART;TZID=Europe/Berlin:20250412T151500
DTEND;TZID=Europe/Berlin:20250412T171500
LOCATION:Městská sportovní hala\, Petřivalského 2884 Přerov - Přerov I-Měst
 o
SUMMARY:MCR-U14Z-2D: VK Rokycany-VK Olomouc
END:VEVENT
BEGIN:VEVENT
UID:36333365-3836-4337-b538-376463353332
DTSTAMP:20260422T010251Z
DESCRIPTION:9/22 VK Rokycany - S V B C 0:2 (-14\,-18)
DTSTART;TZID=Europe/Berlin:20250413T101500
DTEND;TZID=Europe/Berlin:20250413T121500
LOCATION:Městská sportovní hala\, Petřivalského 2884 Přerov - Přerov I-Měst
 o
SUMMARY:MCR-U14Z-2D: VK Rokycany-S V B C
END:VEVENT
BEGIN:VEVENT
UID:38326336-6436-4330-a466-306235393237
DTSTAMP:20260422T010251Z
DESCRIPTION:10/25 VK Rokycany - Hořovice 0:2 (-15\,-15)
DTSTART;TZID=Europe/Berlin:20250413T113000
DTEND;TZID=Europe/Berlin:20250413T133000
LOCATION:Městská sportovní hala\, Petřivalského 2884 Přerov - Přerov I-Měst
 o
SUMMARY:MCR-U14Z-2D: VK Rokycany-Hořovice
END:VEVENT
BEGIN:VEVENT
UID:38623934-3466-4665-b439-656563656636
DTSTAMP:20260422T010251Z
DESCRIPTION:5/11 BVK Nymburské BOMBY - VK Rokycany 2:1 (13\,-16\,5)
DTSTART;TZID=Europe/Berlin:20250412T140000
DTEND;TZID=Europe/Berlin:20250412T160000
LOCATION:Městská sportovní hala\, Petřivalského 2884 Přerov - Přerov I-Měst
 o
SUMMARY:MCR-U14Z-2D: BVK Nymburské BOMBY-VK Rokycany
END:VEVENT
BEGIN:VEVENT
UID:34663635-6361-4839-b233-386466323961
DTSTAMP:20260422T010251Z
DESCRIPTION:8/19 VSC Zlín - VK Rokycany 2:0 (16\,17)
DTSTART;TZID=Europe/Berlin:20250413T090000
DTEND;TZID=Europe/Berlin:20250413T110000
LOCATION:Městská sportovní hala\, Petřivalského 2884 Přerov - Přerov I-Měst
 o
SUMMARY:MCR-U14Z-2D: VSC Zlín-VK Rokycany
END:VEVENT
END:VCALENDAR
