BEGIN:VCALENDAR
VERSION:2.0
PRODID:-//TJ Slovácká Slavia Uherské Hradiště, z.s.88836//NONSGML kigkonsult.se iCalcreator 2.41.80//
CALSCALE:GREGORIAN
UID:39666535-3033-4861-a232-343236323465
BEGIN:VEVENT
UID:33656435-3035-4430-b832-626231333035
DTSTAMP:20260422T001356Z
DESCRIPTION:2/4 TJ Slovácká Slavia U. Hradiště - SVK Nový Jičín 0:2 (-20\,-
 15)
DTSTART;TZID=Europe/Berlin:20250329T104500
DTEND;TZID=Europe/Berlin:20250329T124500
LOCATION:Městská sportovní hala\, Stonky 860 Uherské Hradiště
SUMMARY:MCR-U14Z-1D: TJ Slovácká Slavia U. Hradiště-SVK Nový Jičín
END:VEVENT
BEGIN:VEVENT
UID:39616139-6530-4330-a536-363032313031
DTSTAMP:20260422T001356Z
DESCRIPTION:3/7 TJ Slovácká Slavia U. Hradiště - TJ Svitavy 0:2 (-14\,-17)
DTSTART;TZID=Europe/Berlin:20250329T120000
DTEND;TZID=Europe/Berlin:20250329T140000
LOCATION:Městská sportovní hala\, Stonky 860 Uherské Hradiště
SUMMARY:MCR-U14Z-1D: TJ Slovácká Slavia U. Hradiště-TJ Svitavy
END:VEVENT
BEGIN:VEVENT
UID:35626131-6661-4965-b564-633734316432
DTSTAMP:20260422T001356Z
DESCRIPTION:10/28 TJ Slovácká Slavia U. Hradiště - VK Choceň 2:0 (20\,9)
DTSTART;TZID=Europe/Berlin:20250330T131500
DTEND;TZID=Europe/Berlin:20250330T151500
LOCATION:Městská sportovní hala\, Stonky 860 Uherské Hradiště
SUMMARY:MCR-U14Z-1D: TJ Slovácká Slavia U. Hradiště-VK Choceň
END:VEVENT
BEGIN:VEVENT
UID:65376165-6536-4364-a632-383837333837
DTSTAMP:20260422T001356Z
DESCRIPTION:4/11 Nové Veselí - TJ Slovácká Slavia U. Hradiště 2:0 (11\,16)
DTSTART;TZID=Europe/Berlin:20250329T131500
DTEND;TZID=Europe/Berlin:20250329T151500
LOCATION:Víceúčelová sportovní hala Nové Veselí\, Žďárská 356 Nové Veselí
SUMMARY:MCR-U14Z-1D: Nové Veselí-TJ Slovácká Slavia U. Hradiště
END:VEVENT
BEGIN:VEVENT
UID:61336430-3266-4432-a562-626462626636
DTSTAMP:20260422T001356Z
DESCRIPTION:5/15 TJ Sokol Dolní Újezd - TJ Slovácká Slavia U. Hradiště 0:2 
 (-10\,-15)
DTSTART;TZID=Europe/Berlin:20250329T143000
DTEND;TZID=Europe/Berlin:20250329T163000
LOCATION:tělocvična Základní školy\,  Dolní Újezd342
SUMMARY:MCR-U14Z-1D: TJ Sokol Dolní Újezd-TJ Slovácká Slavia U. Hradiště
END:VEVENT
BEGIN:VEVENT
UID:38666136-6234-4464-b939-373166363962
DTSTAMP:20260422T001356Z
DESCRIPTION:7/19 VK Prostějov A - TJ Slovácká Slavia U. Hradiště 2:0 (6\,9)
DTSTART;TZID=Europe/Berlin:20250330T093000
DTEND;TZID=Europe/Berlin:20250330T113000
LOCATION:Letní hala u zimního stadionu\, Kostelecká 3113 Prostějov
SUMMARY:MCR-U14Z-1D: VK Prostějov A-TJ Slovácká Slavia U. Hradiště
END:VEVENT
BEGIN:VEVENT
UID:64306638-3236-4834-b138-396466303037
DTSTAMP:20260422T001356Z
DESCRIPTION:9/25 VK Královo Pole - TJ Slovácká Slavia U. Hradiště 2:1 (14\,
 -19\,5)
DTSTART;TZID=Europe/Berlin:20250330T120000
DTEND;TZID=Europe/Berlin:20250330T140000
LOCATION:Sportovní gymnázium Ludvíka Daňka\, Botanická 63 Brno - Ponava
SUMMARY:MCR-U14Z-1D: VK Královo Pole-TJ Slovácká Slavia U. Hradiště
END:VEVENT
END:VCALENDAR
