BEGIN:VCALENDAR
VERSION:2.0
PRODID:-//Královéhradecký kraj88957//NONSGML kigkonsult.se iCalcreator 2.41.80//
CALSCALE:GREGORIAN
UID:61633634-3739-4434-a262-343265633136
BEGIN:VEVENT
UID:32613933-6665-4265-b064-633266613437
DTSTAMP:20260422T231842Z
DESCRIPTION:6/14 Královéhradecký kraj - Jihomoravský kraj 2:1 (13\,-15\,8)
DTSTART;TZID=Europe/Berlin:20250614T104500
DTEND;TZID=Europe/Berlin:20250614T124500
LOCATION:TJ Slavia Hradec Králové\, Víta Nejedlého 1216 Hradec Králové
SUMMARY:KAFKA-U16ZB: Královéhradecký kraj-Jihomoravský kraj
END:VEVENT
BEGIN:VEVENT
UID:35613432-6432-4463-b563-633636303533
DTSTAMP:20260422T231842Z
DESCRIPTION:7/17 Královéhradecký kraj - Ústecký kraj 2:0 (15\,20)
DTSTART;TZID=Europe/Berlin:20250614T120000
DTEND;TZID=Europe/Berlin:20250614T140000
LOCATION:TJ Slavia Hradec Králové\, Víta Nejedlého 1216 Hradec Králové
SUMMARY:KAFKA-U16ZB: Královéhradecký kraj-Ústecký kraj
END:VEVENT
BEGIN:VEVENT
UID:61343739-3966-4138-b937-663638323433
DTSTAMP:20260422T231842Z
DESCRIPTION:8/20 Královéhradecký kraj - Plzeňský kraj 2:0 (19\,12)
DTSTART;TZID=Europe/Berlin:20250614T140000
DTEND;TZID=Europe/Berlin:20250614T160000
LOCATION:TJ Slavia Hradec Králové\, Víta Nejedlého 1216 Hradec Králové
SUMMARY:KAFKA-U16ZB: Královéhradecký kraj-Plzeňský kraj
END:VEVENT
BEGIN:VEVENT
UID:38313662-3439-4834-a465-333637366236
DTSTAMP:20260422T231842Z
DESCRIPTION:2/5 Zlínský kraj - Královéhradecký kraj 1:2 (-15\,25\,-6)
DTSTART;TZID=Europe/Berlin:20250613T143000
DTEND;TZID=Europe/Berlin:20250613T163000
LOCATION:Městská sportovní hala Širůch\, Nad Hřištěm 1921 Staré Město
SUMMARY:KAFKA-U16ZB: Zlínský kraj-Královéhradecký kraj
END:VEVENT
BEGIN:VEVENT
UID:62313066-3062-4162-b031-613338396361
DTSTAMP:20260422T231842Z
DESCRIPTION:3/8 Liberecký kraj - Královéhradecký kraj 0:2 (-9\,-22)
DTSTART;TZID=Europe/Berlin:20250613T160000
DTEND;TZID=Europe/Berlin:20250613T180000
LOCATION:TJ Lokomotiva Liberec 1.\, z.s.\, Jablonecká 562 Liberec - Liberec
  I-Staré Město
SUMMARY:KAFKA-U16ZB: Liberecký kraj-Královéhradecký kraj
END:VEVENT
BEGIN:VEVENT
UID:35346639-3036-4239-b862-313132613165
DTSTAMP:20260422T231842Z
DESCRIPTION:4/9 Pardubický kraj - Královéhradecký kraj 0:2 (-23\,-17)
DTSTART;TZID=Europe/Berlin:20250613T173000
DTEND;TZID=Europe/Berlin:20250613T193000
LOCATION:Sokolovna\, Jiráskova 29 Pardubice - Zelené Předměstí
SUMMARY:KAFKA-U16ZB: Pardubický kraj-Královéhradecký kraj
END:VEVENT
BEGIN:VEVENT
UID:37323535-6362-4465-a164-666161363737
DTSTAMP:20260422T231842Z
DESCRIPTION:1/4 Jihočeský kraj - Královéhradecký kraj 0:2 (-23\,-11)\n4A-1B
DTSTART;TZID=Europe/Berlin:20250614T170000
DTEND;TZID=Europe/Berlin:20250614T190000
LOCATION:Sportovní hala TJ Jiskra\, Ledečská 3028 Havlíčkův Brod
SUMMARY:KAFKA-U16ZP: Jihočeský kraj-Královéhradecký kraj
END:VEVENT
BEGIN:VEVENT
UID:63313138-6266-4463-b933-386261323339
DTSTAMP:20260422T231842Z
DESCRIPTION:2/6 Středočeský kraj - Královéhradecký kraj 1:2 (-23\,15\,-12)
 \nV2-V4
DTSTART;TZID=Europe/Berlin:20250615T093000
DTEND;TZID=Europe/Berlin:20250615T113000
LOCATION:Sportovní hala TJ Jiskra\, Ledečská 3028 Havlíčkův Brod
SUMMARY:KAFKA-U16ZP: Středočeský kraj-Královéhradecký kraj
END:VEVENT
BEGIN:VEVENT
UID:35653837-3535-4636-b234-653863396566
DTSTAMP:20260422T231842Z
DESCRIPTION:4/12 Kraj Praha - Královéhradecký kraj 2:0 (20\,17)\nV5-V6  1.m
 ísto
DTSTART;TZID=Europe/Berlin:20250615T120000
DTEND;TZID=Europe/Berlin:20250615T140000
LOCATION:ZŠ Balabenka\, náměstí Na Balabence 800 Praha - Libeň
SUMMARY:KAFKA-U16ZP: Kraj Praha-Královéhradecký kraj
END:VEVENT
END:VCALENDAR
