BEGIN:VCALENDAR
VERSION:2.0
PRODID:-//Karlovarský kraj88975//NONSGML kigkonsult.se iCalcreator 2.41.80//
CALSCALE:GREGORIAN
UID:65376635-3835-4132-b065-343562393862
BEGIN:VEVENT
UID:65383163-6432-4738-a534-316635343561
DTSTAMP:20260423T004349Z
DESCRIPTION:5/12 Karlovarský kraj - Kraj Vysočina 1:2 (-19\,22\,-13)
DTSTART;TZID=Europe/Berlin:20250614T093000
DTEND;TZID=Europe/Berlin:20250614T113000
LOCATION:Sportovní hala Lužiny\, Bellušova 1877 Praha - Stodůlky
SUMMARY:KAFKA-U16ZA: Karlovarský kraj-Kraj Vysočina
END:VEVENT
BEGIN:VEVENT
UID:64626661-3437-4630-b236-633136316135
DTSTAMP:20260423T004349Z
DESCRIPTION:8/20 Karlovarský kraj - Kraj Praha 0:2 (-13\,-21)
DTSTART;TZID=Europe/Berlin:20250614T140000
DTEND;TZID=Europe/Berlin:20250614T160000
LOCATION:Sportovní hala Lužiny\, Bellušova 1877 Praha - Stodůlky
SUMMARY:KAFKA-U16ZA: Karlovarský kraj-Kraj Praha
END:VEVENT
BEGIN:VEVENT
UID:61623533-3562-4561-a131-353839613764
DTSTAMP:20260423T004349Z
DESCRIPTION:9/21 Karlovarský kraj - Olomoucký kraj 1:2 (-23\,15\,-13)
DTSTART;TZID=Europe/Berlin:20250614T153000
DTEND;TZID=Europe/Berlin:20250614T173000
LOCATION:Sportovní hala Lužiny\, Bellušova 1877 Praha - Stodůlky
SUMMARY:KAFKA-U16ZA: Karlovarský kraj-Olomoucký kraj
END:VEVENT
BEGIN:VEVENT
UID:35333937-3737-4464-b465-343265663161
DTSTAMP:20260423T004349Z
DESCRIPTION:2/5 Středočeský kraj - Karlovarský kraj 2:0 (25\,18)
DTSTART;TZID=Europe/Berlin:20250613T143000
DTEND;TZID=Europe/Berlin:20250613T163000
LOCATION:Sportovní hala TJ Jiskra\, Ledečská 3028 Havlíčkův Brod
SUMMARY:KAFKA-U16ZA: Středočeský kraj-Karlovarský kraj
END:VEVENT
BEGIN:VEVENT
UID:63616332-3634-4230-a465-643931386436
DTSTAMP:20260423T004349Z
DESCRIPTION:3/7 Moravskoslezský kraj - Karlovarský kraj 2:0 (14\,13)
DTSTART;TZID=Europe/Berlin:20250613T160000
DTEND;TZID=Europe/Berlin:20250613T180000
LOCATION:Sportovní hala TJ Jiskra\, Ledečská 3028 Havlíčkův Brod
SUMMARY:KAFKA-U16ZA: Moravskoslezský kraj-Karlovarský kraj
END:VEVENT
BEGIN:VEVENT
UID:32626366-6638-4366-b134-333631333662
DTSTAMP:20260423T004349Z
DESCRIPTION:6/14 Jihočeský kraj - Karlovarský kraj 2:0 (15\,21)
DTSTART;TZID=Europe/Berlin:20250614T104500
DTEND;TZID=Europe/Berlin:20250614T124500
LOCATION:Sportovní hala TJ Jiskra\, Ledečská 3028 Havlíčkův Brod
SUMMARY:KAFKA-U16ZA: Jihočeský kraj-Karlovarský kraj
END:VEVENT
BEGIN:VEVENT
UID:63613034-3933-4732-b230-303565313162
DTSTAMP:20260423T004349Z
DESCRIPTION:1/3 Karlovarský kraj - Zlínský kraj 2:1 (24\,-17\,12)\n7A-7B
DTSTART;TZID=Europe/Berlin:20250614T153000
DTEND;TZID=Europe/Berlin:20250614T173000
LOCATION:Sportovní hala Lužiny\, Bellušova 1877 Praha - Stodůlky
SUMMARY:KAFKA-U16ZC: Karlovarský kraj-Zlínský kraj
END:VEVENT
BEGIN:VEVENT
UID:66326636-3139-4133-b466-343362323233
DTSTAMP:20260423T004349Z
DESCRIPTION:2/6 Karlovarský kraj - Liberecký kraj 2:1 (23\,-22\,13)\n7A-5B
DTSTART;TZID=Europe/Berlin:20250615T093000
DTEND;TZID=Europe/Berlin:20250615T113000
LOCATION:Sportovní hala Lužiny\, Bellušova 1877 Praha - Stodůlky
SUMMARY:KAFKA-U16ZC: Karlovarský kraj-Liberecký kraj
END:VEVENT
BEGIN:VEVENT
UID:33373464-3832-4666-b038-383938643939
DTSTAMP:20260423T004349Z
DESCRIPTION:3/9 Karlovarský kraj - Ústecký kraj 2:0 (24\,21)\n7A-6B
DTSTART;TZID=Europe/Berlin:20250615T104500
DTEND;TZID=Europe/Berlin:20250615T124500
LOCATION:Sportovní hala Lužiny\, Bellušova 1877 Praha - Stodůlky
SUMMARY:KAFKA-U16ZC: Karlovarský kraj-Ústecký kraj
END:VEVENT
END:VCALENDAR
