BEGIN:VCALENDAR
VERSION:2.0
PRODID:-//Tělovýchovná jednota Lokomotiva Liberec I, z.s.88977//NONSGML kigkonsult.se iCalcreator 2.41.80//
CALSCALE:GREGORIAN
UID:38373961-3162-4162-a533-353131383661
BEGIN:VEVENT
UID:38646162-6539-4636-b833-373830393130
DTSTAMP:20260422T052757Z
DESCRIPTION:1/1 Tělovýchovná jednota Lokomotiva Liberec I\, z.s. - TJ Bižut
 erie Jablonec n/N 3:0 (23\,22\,23)
DTSTART;TZID=Europe/Berlin:20251004T110000
DTEND;TZID=Europe/Berlin:20251004T130000
LOCATION:TJ Lokomotiva Liberec 1.\, z.s.\, Jablonecká 562 Liberec - Liberec
  I-Staré Město
SUMMARY:LIB-M-1: Tělovýchovná jednota Lokomotiva Liberec I\, z.s.-TJ Bižute
 rie Jablonec n/N
END:VEVENT
BEGIN:VEVENT
UID:66373461-3732-4066-b331-633832376266
DTSTAMP:20260422T052757Z
DESCRIPTION:2/6 Tělovýchovná jednota Lokomotiva Liberec I\, z.s. - TJ Bižut
 erie Jablonec n/N 3:0 (21\,23\,24)
DTSTART;TZID=Europe/Berlin:20251004T150000
DTEND;TZID=Europe/Berlin:20251004T170000
LOCATION:TJ Lokomotiva Liberec 1.\, z.s.\, Jablonecká 562 Liberec - Liberec
  I-Staré Město
SUMMARY:LIB-M-1: Tělovýchovná jednota Lokomotiva Liberec I\, z.s.-TJ Bižute
 rie Jablonec n/N
END:VEVENT
BEGIN:VEVENT
UID:36303636-6264-4564-b137-363661333563
DTSTAMP:20260422T052757Z
DESCRIPTION:3/15 Tělovýchovná jednota Lokomotiva Liberec I\, z.s. - Tělovýc
 hovná jednota Spartak Smržovka\, z.s. 0:3 (-18\,-17\,-16)
DTSTART;TZID=Europe/Berlin:20251011T100000
DTEND;TZID=Europe/Berlin:20251011T120000
LOCATION:TJ Lokomotiva Liberec 1.\, z.s.\, Jablonecká 562 Liberec - Liberec
  I-Staré Město
SUMMARY:LIB-M-1: Tělovýchovná jednota Lokomotiva Liberec I\, z.s.-Tělovýcho
 vná jednota Spartak Smržovka\, z.s.
END:VEVENT
BEGIN:VEVENT
UID:30626561-3336-4630-b632-613534313230
DTSTAMP:20260422T052757Z
DESCRIPTION:4/20 Tělovýchovná jednota Lokomotiva Liberec I\, z.s. - Tělovýc
 hovná jednota Spartak Smržovka\, z.s. 2:3 (25\,16\,-20\,-23\,-7)
DTSTART;TZID=Europe/Berlin:20251011T130000
DTEND;TZID=Europe/Berlin:20251011T150000
LOCATION:TJ Lokomotiva Liberec 1.\, z.s.\, Jablonecká 562 Liberec - Liberec
  I-Staré Město
SUMMARY:LIB-M-1: Tělovýchovná jednota Lokomotiva Liberec I\, z.s.-Tělovýcho
 vná jednota Spartak Smržovka\, z.s.
END:VEVENT
BEGIN:VEVENT
UID:30323136-3761-4638-b031-653237623763
DTSTAMP:20260422T052757Z
DESCRIPTION:7/34 Tělovýchovná jednota Lokomotiva Liberec I\, z.s. - Tělovýc
 hovná jednota SLAVIA Liberec\, z.s. 0:3 (-18\,-27\,-18)
DTSTART;TZID=Europe/Berlin:20251108T100000
DTEND;TZID=Europe/Berlin:20251108T120000
LOCATION:TJ Lokomotiva Liberec 1.\, z.s.\, Jablonecká 562 Liberec - Liberec
  I-Staré Město
SUMMARY:LIB-M-1: Tělovýchovná jednota Lokomotiva Liberec I\, z.s.-Tělovýcho
 vná jednota SLAVIA Liberec\, z.s.
END:VEVENT
BEGIN:VEVENT
UID:32643736-6638-4264-a437-626565306134
DTSTAMP:20260422T052757Z
DESCRIPTION:8/39 Tělovýchovná jednota Lokomotiva Liberec I\, z.s. - Tělovýc
 hovná jednota SLAVIA Liberec\, z.s. 3:1 (-20\,20\,18\,23)
DTSTART;TZID=Europe/Berlin:20251108T130000
DTEND;TZID=Europe/Berlin:20251108T150000
LOCATION:TJ Lokomotiva Liberec 1.\, z.s.\, Jablonecká 562 Liberec - Liberec
  I-Staré Město
SUMMARY:LIB-M-1: Tělovýchovná jednota Lokomotiva Liberec I\, z.s.-Tělovýcho
 vná jednota SLAVIA Liberec\, z.s.
END:VEVENT
BEGIN:VEVENT
UID:63373662-6263-4431-b231-363636653833
DTSTAMP:20260422T052757Z
DESCRIPTION:11/53 Tělovýchovná jednota Lokomotiva Liberec I\, z.s. - Tělový
 chovná jednota Jiskra Nový Bor\, z.s. 3:1 (21\,18\,-22\,19)
DTSTART;TZID=Europe/Berlin:20251122T100000
DTEND;TZID=Europe/Berlin:20251122T120000
LOCATION:TJ Lokomotiva Liberec 1.\, z.s.\, Jablonecká 562 Liberec - Liberec
  I-Staré Město
SUMMARY:LIB-M-1: Tělovýchovná jednota Lokomotiva Liberec I\, z.s.-Tělovýcho
 vná jednota Jiskra Nový Bor\, z.s.
END:VEVENT
BEGIN:VEVENT
UID:31303165-6435-4334-a539-623437356565
DTSTAMP:20260422T052757Z
DESCRIPTION:12/58 Tělovýchovná jednota Lokomotiva Liberec I\, z.s. - Tělový
 chovná jednota Jiskra Nový Bor\, z.s. 3:0 (10\,22\,19)
DTSTART;TZID=Europe/Berlin:20251122T130000
DTEND;TZID=Europe/Berlin:20251122T150000
LOCATION:TJ Lokomotiva Liberec 1.\, z.s.\, Jablonecká 562 Liberec - Liberec
  I-Staré Město
SUMMARY:LIB-M-1: Tělovýchovná jednota Lokomotiva Liberec I\, z.s.-Tělovýcho
 vná jednota Jiskra Nový Bor\, z.s.
END:VEVENT
BEGIN:VEVENT
UID:65323864-6536-4566-b931-613263643636
DTSTAMP:20260422T052757Z
DESCRIPTION:15/72 Tělovýchovná jednota Lokomotiva Liberec I\, z.s. - TJ Lok
 omotiva Česká Lípa\, z.s. 0:3 (-20\,-13\,-9)
DTSTART;TZID=Europe/Berlin:20251206T110000
DTEND;TZID=Europe/Berlin:20251206T130000
LOCATION:TJ Lokomotiva Liberec 1.\, z.s.\, Jablonecká 562 Liberec - Liberec
  I-Staré Město
SUMMARY:LIB-M-1: Tělovýchovná jednota Lokomotiva Liberec I\, z.s.-TJ Lokomo
 tiva Česká Lípa\, z.s.
END:VEVENT
BEGIN:VEVENT
UID:34343334-3934-4931-b331-326365373538
DTSTAMP:20260422T052757Z
DESCRIPTION:16/77 Tělovýchovná jednota Lokomotiva Liberec I\, z.s. - TJ Lok
 omotiva Česká Lípa\, z.s. 0:3 (-15\,-21\,-9)
DTSTART;TZID=Europe/Berlin:20251206T150000
DTEND;TZID=Europe/Berlin:20251206T170000
LOCATION:TJ Lokomotiva Liberec 1.\, z.s.\, Jablonecká 562 Liberec - Liberec
  I-Staré Město
SUMMARY:LIB-M-1: Tělovýchovná jednota Lokomotiva Liberec I\, z.s.-TJ Lokomo
 tiva Česká Lípa\, z.s.
END:VEVENT
BEGIN:VEVENT
UID:61613734-6161-4266-b964-333430616336
DTSTAMP:20260422T052757Z
DESCRIPTION:23/112 Tělovýchovná jednota Lokomotiva Liberec I\, z.s. - Vrtul
 e Frýdlant\, z.s. 0:3 (-23\,-16\,-20)
DTSTART;TZID=Europe/Berlin:20260131T100000
DTEND;TZID=Europe/Berlin:20260131T120000
LOCATION:TJ Lokomotiva Liberec 1.\, z.s.\, Jablonecká 562 Liberec - Liberec
  I-Staré Město
SUMMARY:LIB-M-1: Tělovýchovná jednota Lokomotiva Liberec I\, z.s.-Vrtule Fr
 ýdlant\, z.s.
END:VEVENT
BEGIN:VEVENT
UID:62656637-3563-4539-b231-353065656237
DTSTAMP:20260422T052757Z
DESCRIPTION:24/117 Tělovýchovná jednota Lokomotiva Liberec I\, z.s. - Vrtul
 e Frýdlant\, z.s. 2:3 (-21\,-23\,26\,26\,-8)
DTSTART;TZID=Europe/Berlin:20260131T130000
DTEND;TZID=Europe/Berlin:20260131T150000
LOCATION:TJ Lokomotiva Liberec 1.\, z.s.\, Jablonecká 562 Liberec - Liberec
  I-Staré Město
SUMMARY:LIB-M-1: Tělovýchovná jednota Lokomotiva Liberec I\, z.s.-Vrtule Fr
 ýdlant\, z.s.
END:VEVENT
BEGIN:VEVENT
UID:62633261-6261-4538-b962-616632653635
DTSTAMP:20260422T052757Z
DESCRIPTION:27/133 Tělovýchovná jednota Lokomotiva Liberec I\, z.s. - Turno
 v 0:3 (-17\,-18\,-15)
DTSTART;TZID=Europe/Berlin:20260214T110000
DTEND;TZID=Europe/Berlin:20260214T130000
LOCATION:TJ Lokomotiva Liberec 1.\, z.s.\, Jablonecká 562 Liberec - Liberec
  I-Staré Město
SUMMARY:LIB-M-1: Tělovýchovná jednota Lokomotiva Liberec I\, z.s.-Turnov
END:VEVENT
BEGIN:VEVENT
UID:64653433-6131-4130-b965-663465336331
DTSTAMP:20260422T052757Z
DESCRIPTION:28/138 Tělovýchovná jednota Lokomotiva Liberec I\, z.s. - Turno
 v 0:3 (-14\,-14\,-21)
DTSTART;TZID=Europe/Berlin:20260214T150000
DTEND;TZID=Europe/Berlin:20260214T170000
LOCATION:TJ Lokomotiva Liberec 1.\, z.s.\, Jablonecká 562 Liberec - Liberec
  I-Staré Město
SUMMARY:LIB-M-1: Tělovýchovná jednota Lokomotiva Liberec I\, z.s.-Turnov
END:VEVENT
BEGIN:VEVENT
UID:35343233-6432-4963-a639-626334633831
DTSTAMP:20260422T052757Z
DESCRIPTION:31/154 Tělovýchovná jednota Lokomotiva Liberec I\, z.s. - VK Ma
 lá Skála B 1:3 (-17\,15\,-15\,-22)
DTSTART;TZID=Europe/Berlin:20260321T100000
DTEND;TZID=Europe/Berlin:20260321T120000
LOCATION:TJ Lokomotiva Liberec 1.\, z.s.\, Jablonecká 562 Liberec - Liberec
  I-Staré Město
SUMMARY:LIB-M-1: Tělovýchovná jednota Lokomotiva Liberec I\, z.s.-VK Malá S
 kála B
END:VEVENT
BEGIN:VEVENT
UID:65396136-6437-4265-b463-616336386163
DTSTAMP:20260422T052757Z
DESCRIPTION:32/159 Tělovýchovná jednota Lokomotiva Liberec I\, z.s. - VK Ma
 lá Skála B 2:3 (22\,-19\,21\,-23\,-10)
DTSTART;TZID=Europe/Berlin:20260321T130000
DTEND;TZID=Europe/Berlin:20260321T150000
LOCATION:TJ Lokomotiva Liberec 1.\, z.s.\, Jablonecká 562 Liberec - Liberec
  I-Staré Město
SUMMARY:LIB-M-1: Tělovýchovná jednota Lokomotiva Liberec I\, z.s.-VK Malá S
 kála B
END:VEVENT
BEGIN:VEVENT
UID:36643261-6561-4639-b662-643064323865
DTSTAMP:20260422T052757Z
DESCRIPTION:35/175 Tělovýchovná jednota Lokomotiva Liberec I\, z.s. - TJ Zá
 kupy\, z.s. 1:3 (18\,-13\,-19\,-14)
DTSTART;TZID=Europe/Berlin:20260411T100000
DTEND;TZID=Europe/Berlin:20260411T120000
LOCATION:TJ Lokomotiva Liberec 1.\, z.s.\, Jablonecká 562 Liberec - Liberec
  I-Staré Město
SUMMARY:LIB-M-1: Tělovýchovná jednota Lokomotiva Liberec I\, z.s.-TJ Zákupy
 \, z.s.
END:VEVENT
BEGIN:VEVENT
UID:32333866-3632-4535-b438-323762346561
DTSTAMP:20260422T052757Z
DESCRIPTION:36/180 Tělovýchovná jednota Lokomotiva Liberec I\, z.s. - TJ Zá
 kupy\, z.s. 0:3 (-19\,-22\,-24)
DTSTART;TZID=Europe/Berlin:20260411T130000
DTEND;TZID=Europe/Berlin:20260411T150000
LOCATION:TJ Lokomotiva Liberec 1.\, z.s.\, Jablonecká 562 Liberec - Liberec
  I-Staré Město
SUMMARY:LIB-M-1: Tělovýchovná jednota Lokomotiva Liberec I\, z.s.-TJ Zákupy
 \, z.s.
END:VEVENT
BEGIN:VEVENT
UID:66353030-6131-4535-b864-326335616661
DTSTAMP:20260422T052757Z
DESCRIPTION:5/22 Vrtule Frýdlant\, z.s. - Tělovýchovná jednota Lokomotiva L
 iberec I\, z.s. 3:0 (19\,16\,23)
DTSTART;TZID=Europe/Berlin:20251018T100000
DTEND;TZID=Europe/Berlin:20251018T120000
LOCATION:Střední škola hospodářská a lesnická \, Bělíkova 1387 Frýdlant
SUMMARY:LIB-M-1: Vrtule Frýdlant\, z.s.-Tělovýchovná jednota Lokomotiva Lib
 erec I\, z.s.
END:VEVENT
BEGIN:VEVENT
UID:37646463-3939-4638-a130-356566326561
DTSTAMP:20260422T052757Z
DESCRIPTION:6/27 Vrtule Frýdlant\, z.s. - Tělovýchovná jednota Lokomotiva L
 iberec I\, z.s. 3:0 (22\,21\,18)
DTSTART;TZID=Europe/Berlin:20251018T130000
DTEND;TZID=Europe/Berlin:20251018T150000
LOCATION:Střední škola hospodářská a lesnická \, Bělíkova 1387 Frýdlant
SUMMARY:LIB-M-1: Vrtule Frýdlant\, z.s.-Tělovýchovná jednota Lokomotiva Lib
 erec I\, z.s.
END:VEVENT
BEGIN:VEVENT
UID:66356461-3237-4435-b765-616130333834
DTSTAMP:20260422T052757Z
DESCRIPTION:9/43 Turnov - Tělovýchovná jednota Lokomotiva Liberec I\, z.s. 
 3:0 (23\,18\,22)
DTSTART;TZID=Europe/Berlin:20251115T134500
DTEND;TZID=Europe/Berlin:20251115T154500
LOCATION:TJ Turnov\, Skálova 207 Turnov
SUMMARY:LIB-M-1: Turnov-Tělovýchovná jednota Lokomotiva Liberec I\, z.s.
END:VEVENT
BEGIN:VEVENT
UID:30343738-3739-4431-b862-613266616662
DTSTAMP:20260422T052757Z
DESCRIPTION:10/48 Turnov - Tělovýchovná jednota Lokomotiva Liberec I\, z.s.
  3:0 (14\,19\,15)
DTSTART;TZID=Europe/Berlin:20251115T160000
DTEND;TZID=Europe/Berlin:20251115T180000
LOCATION:TJ Turnov\, Skálova 207 Turnov
SUMMARY:LIB-M-1: Turnov-Tělovýchovná jednota Lokomotiva Liberec I\, z.s.
END:VEVENT
BEGIN:VEVENT
UID:36376237-3233-4936-a539-343134333930
DTSTAMP:20260422T052757Z
DESCRIPTION:13/64 VK Malá Skála B - Tělovýchovná jednota Lokomotiva Liberec
  I\, z.s. 3:0 (25\,20\,23)
DTSTART;TZID=Europe/Berlin:20251129T100000
DTEND;TZID=Europe/Berlin:20251129T120000
LOCATION:tělocvična ZŠ\,  Malá Skála - Vranové 1.díl60
SUMMARY:LIB-M-1: VK Malá Skála B-Tělovýchovná jednota Lokomotiva Liberec I\
 , z.s.
END:VEVENT
BEGIN:VEVENT
UID:37663538-6435-4666-a535-316530616135
DTSTAMP:20260422T052757Z
DESCRIPTION:14/69 VK Malá Skála B - Tělovýchovná jednota Lokomotiva Liberec
  I\, z.s. 3:1 (-27\,18\,12\,23)
DTSTART;TZID=Europe/Berlin:20251129T130000
DTEND;TZID=Europe/Berlin:20251129T150000
LOCATION:tělocvična ZŠ\,  Malá Skála - Vranové 1.díl60
SUMMARY:LIB-M-1: VK Malá Skála B-Tělovýchovná jednota Lokomotiva Liberec I\
 , z.s.
END:VEVENT
BEGIN:VEVENT
UID:61353230-3765-4739-b630-313734356232
DTSTAMP:20260422T052757Z
DESCRIPTION:17/85 TJ Zákupy\, z.s. - Tělovýchovná jednota Lokomotiva Libere
 c I\, z.s. 3:1 (23\,-20\,20\,20)
DTSTART;TZID=Europe/Berlin:20251213T100000
DTEND;TZID=Europe/Berlin:20251213T120000
LOCATION:Hala ZŠ Zákupy\, Školní 347 Zákupy
SUMMARY:LIB-M-1: TJ Zákupy\, z.s.-Tělovýchovná jednota Lokomotiva Liberec I
 \, z.s.
END:VEVENT
BEGIN:VEVENT
UID:66366336-3363-4133-b738-393930343865
DTSTAMP:20260422T052757Z
DESCRIPTION:18/90 TJ Zákupy\, z.s. - Tělovýchovná jednota Lokomotiva Libere
 c I\, z.s. 3:1 (18\,23\,-21\,21)
DTSTART;TZID=Europe/Berlin:20251213T130000
DTEND;TZID=Europe/Berlin:20251213T150000
LOCATION:Hala ZŠ Zákupy\, Školní 347 Zákupy
SUMMARY:LIB-M-1: TJ Zákupy\, z.s.-Tělovýchovná jednota Lokomotiva Liberec I
 \, z.s.
END:VEVENT
BEGIN:VEVENT
UID:33363430-3439-4936-b133-343338633135
DTSTAMP:20260422T052757Z
DESCRIPTION:19/91 TJ Bižuterie Jablonec n/N - Tělovýchovná jednota Lokomoti
 va Liberec I\, z.s. 3:0 (20\,15\,18)
DTSTART;TZID=Europe/Berlin:20260117T100000
DTEND;TZID=Europe/Berlin:20260117T120000
LOCATION:Městská sportovní hala\, U Přehrady 4747 Jablonec nad Nisou
SUMMARY:LIB-M-1: TJ Bižuterie Jablonec n/N-Tělovýchovná jednota Lokomotiva 
 Liberec I\, z.s.
END:VEVENT
BEGIN:VEVENT
UID:66393834-3533-4031-a364-663633376366
DTSTAMP:20260422T052757Z
DESCRIPTION:20/96 TJ Bižuterie Jablonec n/N - Tělovýchovná jednota Lokomoti
 va Liberec I\, z.s. 0:3 (-20\,-24\,-25)
DTSTART;TZID=Europe/Berlin:20260117T130000
DTEND;TZID=Europe/Berlin:20260117T150000
LOCATION:Městská sportovní hala\, U Přehrady 4747 Jablonec nad Nisou
SUMMARY:LIB-M-1: TJ Bižuterie Jablonec n/N-Tělovýchovná jednota Lokomotiva 
 Liberec I\, z.s.
END:VEVENT
BEGIN:VEVENT
UID:34313864-3362-4230-b736-623631313537
DTSTAMP:20260422T052757Z
DESCRIPTION:21/105 Tělovýchovná jednota Spartak Smržovka\, z.s. - Tělovýcho
 vná jednota Lokomotiva Liberec I\, z.s. 3:0 (18\,18\,22)
DTSTART;TZID=Europe/Berlin:20260125T100000
DTEND;TZID=Europe/Berlin:20260125T120000
LOCATION:Sportovní hala\, Tyršova 1369 Smržovka
SUMMARY:LIB-M-1: Tělovýchovná jednota Spartak Smržovka\, z.s.-Tělovýchovná 
 jednota Lokomotiva Liberec I\, z.s.
END:VEVENT
BEGIN:VEVENT
UID:32336538-6531-4436-b365-656138316266
DTSTAMP:20260422T052757Z
DESCRIPTION:22/110 Tělovýchovná jednota Spartak Smržovka\, z.s. - Tělovýcho
 vná jednota Lokomotiva Liberec I\, z.s. 3:0 (22\,22\,16)
DTSTART;TZID=Europe/Berlin:20260125T130000
DTEND;TZID=Europe/Berlin:20260125T150000
LOCATION:Sportovní hala\, Tyršova 1369 Smržovka
SUMMARY:LIB-M-1: Tělovýchovná jednota Spartak Smržovka\, z.s.-Tělovýchovná 
 jednota Lokomotiva Liberec I\, z.s.
END:VEVENT
BEGIN:VEVENT
UID:36356463-3065-4262-a430-613730616665
DTSTAMP:20260422T052757Z
DESCRIPTION:25/124 Tělovýchovná jednota SLAVIA Liberec\, z.s. - Tělovýchovn
 á jednota Lokomotiva Liberec I\, z.s. 0:3 (-23\,-23\,-20)
DTSTART;TZID=Europe/Berlin:20260207T100000
DTEND;TZID=Europe/Berlin:20260207T120000
LOCATION:SŠ Strojní\, Letná 90 Liberec - Liberec XII-Staré Pavlovice
SUMMARY:LIB-M-1: Tělovýchovná jednota SLAVIA Liberec\, z.s.-Tělovýchovná je
 dnota Lokomotiva Liberec I\, z.s.
END:VEVENT
BEGIN:VEVENT
UID:61343263-3164-4033-b635-373665663732
DTSTAMP:20260422T052757Z
DESCRIPTION:26/129 Tělovýchovná jednota SLAVIA Liberec\, z.s. - Tělovýchovn
 á jednota Lokomotiva Liberec I\, z.s. 2:3 (-23\,24\,25\,-18\,-13)
DTSTART;TZID=Europe/Berlin:20260207T130000
DTEND;TZID=Europe/Berlin:20260207T150000
LOCATION:SŠ Strojní\, Letná 90 Liberec - Liberec XII-Staré Pavlovice
SUMMARY:LIB-M-1: Tělovýchovná jednota SLAVIA Liberec\, z.s.-Tělovýchovná je
 dnota Lokomotiva Liberec I\, z.s.
END:VEVENT
BEGIN:VEVENT
UID:32653164-3037-4333-b330-613730376335
DTSTAMP:20260422T052757Z
DESCRIPTION:29/143 Tělovýchovná jednota Jiskra Nový Bor\, z.s. - Tělovýchov
 ná jednota Lokomotiva Liberec I\, z.s. 0:3 (-22\,-22\,-20)
DTSTART;TZID=Europe/Berlin:20260228T100000
DTEND;TZID=Europe/Berlin:20260228T120000
LOCATION:Sportovní hala Františka Arnošta Nový Bor\, U hřiště 1391 Nový Bor
SUMMARY:LIB-M-1: Tělovýchovná jednota Jiskra Nový Bor\, z.s.-Tělovýchovná j
 ednota Lokomotiva Liberec I\, z.s.
END:VEVENT
BEGIN:VEVENT
UID:65326631-6663-4135-b939-666662383462
DTSTAMP:20260422T052757Z
DESCRIPTION:30/148 Tělovýchovná jednota Jiskra Nový Bor\, z.s. - Tělovýchov
 ná jednota Lokomotiva Liberec I\, z.s. 1:3 (16\,-23\,-17\,-15)
DTSTART;TZID=Europe/Berlin:20260228T130000
DTEND;TZID=Europe/Berlin:20260228T150000
LOCATION:Sportovní hala Františka Arnošta Nový Bor\, U hřiště 1391 Nový Bor
SUMMARY:LIB-M-1: Tělovýchovná jednota Jiskra Nový Bor\, z.s.-Tělovýchovná j
 ednota Lokomotiva Liberec I\, z.s.
END:VEVENT
BEGIN:VEVENT
UID:38613362-3438-4864-b131-333562613865
DTSTAMP:20260422T052757Z
DESCRIPTION:33/162 TJ Lokomotiva Česká Lípa\, z.s. - Tělovýchovná jednota L
 okomotiva Liberec I\, z.s. 3:0 (14\,11\,8)
DTSTART;TZID=Europe/Berlin:20260328T100000
DTEND;TZID=Europe/Berlin:20260328T120000
LOCATION:Stará sportovní hala\, Wedrichova 1439 Česká Lípa
SUMMARY:LIB-M-1: TJ Lokomotiva Česká Lípa\, z.s.-Tělovýchovná jednota Lokom
 otiva Liberec I\, z.s.
END:VEVENT
BEGIN:VEVENT
UID:38313435-3264-4635-b335-303433346532
DTSTAMP:20260422T052757Z
DESCRIPTION:34/167 TJ Lokomotiva Česká Lípa\, z.s. - Tělovýchovná jednota L
 okomotiva Liberec I\, z.s. 3:0 (11\,19\,14)
DTSTART;TZID=Europe/Berlin:20260328T130000
DTEND;TZID=Europe/Berlin:20260328T150000
LOCATION:Stará sportovní hala\, Wedrichova 1439 Česká Lípa
SUMMARY:LIB-M-1: TJ Lokomotiva Česká Lípa\, z.s.-Tělovýchovná jednota Lokom
 otiva Liberec I\, z.s.
END:VEVENT
END:VCALENDAR
