BEGIN:VCALENDAR
VERSION:2.0
PRODID:-//Tělovýchovná jednota SLAVIA Liberec, z.s.88980//NONSGML kigkonsult.se iCalcreator 2.41.80//
CALSCALE:GREGORIAN
UID:32356665-6663-4736-a639-633262353864
BEGIN:VEVENT
UID:31336234-6664-4834-a235-326634326530
DTSTAMP:20260422T221327Z
DESCRIPTION:1/1 TJ Sokol M. Hradiště - Tělovýchovná jednota SLAVIA Liberec\
 , z.s. 0:2 (-17\,-10)
DTSTART;TZID=Europe/Berlin:20250921T090000
DTEND;TZID=Europe/Berlin:20250921T110000
LOCATION:Sportovní hala BIOS\, Sokolovská 254 Mnichovo Hradiště
SUMMARY:LIB-U16Z-K-B: TJ Sokol M. Hradiště-Tělovýchovná jednota SLAVIA Libe
 rec\, z.s.
END:VEVENT
BEGIN:VEVENT
UID:65623764-3865-4634-b837-303466623237
DTSTAMP:20260422T221327Z
DESCRIPTION:3/3 Liberec - Tělovýchovná jednota SLAVIA Liberec\, z.s. 2:0 (3
 \,5)
DTSTART;TZID=Europe/Berlin:20250921T110000
DTEND;TZID=Europe/Berlin:20250921T130000
LOCATION:Dukla Liberec\, Jeronýmova 558 Liberec - Liberec VII-Horní Růžodol
SUMMARY:LIB-U16Z-K-B: Liberec-Tělovýchovná jednota SLAVIA Liberec\, z.s.
END:VEVENT
BEGIN:VEVENT
UID:33303133-3238-4562-a633-356366623931
DTSTAMP:20260422T221327Z
DESCRIPTION:6/6 TJ Lokomotiva Česká Lípa - Tělovýchovná jednota SLAVIA Libe
 rec\, z.s. 0:2 (-24\,-9)
DTSTART;TZID=Europe/Berlin:20250921T140000
DTEND;TZID=Europe/Berlin:20250921T160000
LOCATION:ZŠ Lada\, Šluknovská 2904 Česká Lípa
SUMMARY:LIB-U16Z-K-B: TJ Lokomotiva Česká Lípa-Tělovýchovná jednota SLAVIA 
 Liberec\, z.s.
END:VEVENT
BEGIN:VEVENT
UID:32383765-3436-4235-b135-363965633832
DTSTAMP:20260422T221327Z
DESCRIPTION:2/7 Tělovýchovná jednota SLAVIA Liberec\, z.s. - TJ Lokomotiva 
 Česká Lípa 2:0 (12\,21)
DTSTART;TZID=Europe/Berlin:20251012T100000
DTEND;TZID=Europe/Berlin:20251012T120000
LOCATION:Základní škola\, Liberec\, Sokolovská \, Sokolovská 328 Liberec - 
 Liberec XIII-Nové Pavlovice
SUMMARY:LIB-U16Z-K-H: Tělovýchovná jednota SLAVIA Liberec\, z.s.-TJ Lokomot
 iva Česká Lípa
END:VEVENT
BEGIN:VEVENT
UID:37323263-3638-4535-a262-326562643565
DTSTAMP:20260422T221327Z
DESCRIPTION:3/11 Tělovýchovná jednota SLAVIA Liberec\, z.s. - TJ Slovan Var
 nsdorf z.s. 'C' 2:0 (4\,15)
DTSTART;TZID=Europe/Berlin:20251012T110000
DTEND;TZID=Europe/Berlin:20251012T130000
LOCATION:Základní škola\, Liberec\, Sokolovská \, Sokolovská 328 Liberec - 
 Liberec XIII-Nové Pavlovice
SUMMARY:LIB-U16Z-K-H: Tělovýchovná jednota SLAVIA Liberec\, z.s.-TJ Slovan 
 Varnsdorf z.s. 'C'
END:VEVENT
BEGIN:VEVENT
UID:61663565-6330-4630-b363-396334303961
DTSTAMP:20260422T221327Z
DESCRIPTION:5/19 Tělovýchovná jednota SLAVIA Liberec\, z.s. - BV Vratislavi
 ce n. N 0:2 (-20\,-12)
DTSTART;TZID=Europe/Berlin:20251012T130000
DTEND;TZID=Europe/Berlin:20251012T150000
LOCATION:Základní škola\, Liberec\, Sokolovská \, Sokolovská 328 Liberec - 
 Liberec XIII-Nové Pavlovice
SUMMARY:LIB-U16Z-K-H: Tělovýchovná jednota SLAVIA Liberec\, z.s.-BV Vratisl
 avice n. N
END:VEVENT
BEGIN:VEVENT
UID:34656432-3536-4263-b934-623331306137
DTSTAMP:20260422T221327Z
DESCRIPTION:3/3 Tělovýchovná jednota SLAVIA Liberec\, z.s. - TJ Bižuterie J
 ablonec n/N B 0:2 (-10\,-22)
DTSTART;TZID=Europe/Berlin:20251102T110000
DTEND;TZID=Europe/Berlin:20251102T130000
LOCATION:Základní škola\, Liberec\, Sokolovská \, Sokolovská 328 Liberec - 
 Liberec XIII-Nové Pavlovice
SUMMARY:LIB-U16Z-1-2-L: Tělovýchovná jednota SLAVIA Liberec\, z.s.-TJ Bižut
 erie Jablonec n/N B
END:VEVENT
BEGIN:VEVENT
UID:62316636-3664-4761-b633-623035613536
DTSTAMP:20260422T221327Z
DESCRIPTION:2/2 SK Ještědská Liberec z.s. 'A' - Tělovýchovná jednota SLAVIA
  Liberec\, z.s. 2:0 (17\,8)
DTSTART;TZID=Europe/Berlin:20251102T100000
DTEND;TZID=Europe/Berlin:20251102T120000
LOCATION:ZŠ Ještědská\, Ještědská 354 Liberec - Liberec VIII-Dolní Hanychov
SUMMARY:LIB-U16Z-1-2-L: SK Ještědská Liberec z.s. 'A'-Tělovýchovná jednota 
 SLAVIA Liberec\, z.s.
END:VEVENT
BEGIN:VEVENT
UID:38643365-3761-4337-b333-316662313865
DTSTAMP:20260422T221327Z
DESCRIPTION:2/3 Tělovýchovná jednota SLAVIA Liberec\, z.s. - Vrtule Frýdlan
 t\, z.s. 1:2 (24\,-22\,-11)
DTSTART;TZID=Europe/Berlin:20251123T100000
DTEND;TZID=Europe/Berlin:20251123T120000
LOCATION:Základní škola\, Liberec\, Sokolovská \, Sokolovská 328 Liberec - 
 Liberec XIII-Nové Pavlovice
SUMMARY:LIB-U16Z-2-3-L: Tělovýchovná jednota SLAVIA Liberec\, z.s.-Vrtule F
 rýdlant\, z.s.
END:VEVENT
BEGIN:VEVENT
UID:37326636-6665-4032-b735-323338626662
DTSTAMP:20260422T221327Z
DESCRIPTION:3/5 Tělovýchovná jednota SLAVIA Liberec\, z.s. - SK Osečná\, z.
 s. 0:2 (-22\,-12)
DTSTART;TZID=Europe/Berlin:20251123T110000
DTEND;TZID=Europe/Berlin:20251123T130000
LOCATION:Základní škola\, Liberec\, Sokolovská \, Sokolovská 328 Liberec - 
 Liberec XIII-Nové Pavlovice
SUMMARY:LIB-U16Z-2-3-L: Tělovýchovná jednota SLAVIA Liberec\, z.s.-SK Osečn
 á\, z.s.
END:VEVENT
BEGIN:VEVENT
UID:31323365-3561-4661-b339-376236393363
DTSTAMP:20260422T221327Z
DESCRIPTION:6/11 Tělovýchovná jednota SLAVIA Liberec\, z.s. - TJ Turnov 2:1
  (-22\,16\,11)
DTSTART;TZID=Europe/Berlin:20251123T140000
DTEND;TZID=Europe/Berlin:20251123T160000
LOCATION:Základní škola\, Liberec\, Sokolovská \, Sokolovská 328 Liberec - 
 Liberec XIII-Nové Pavlovice
SUMMARY:LIB-U16Z-2-3-L: Tělovýchovná jednota SLAVIA Liberec\, z.s.-TJ Turno
 v
END:VEVENT
BEGIN:VEVENT
UID:35303131-3463-4137-b134-613437303563
DTSTAMP:20260422T221327Z
DESCRIPTION:6/6 Tělovýchovná jednota SLAVIA Liberec\, z.s. - TJ Slovan Varn
 sdorf z.s. 'B' 2:0 (12\,16)
DTSTART;TZID=Europe/Berlin:20260104T140000
DTEND;TZID=Europe/Berlin:20260104T160000
LOCATION:Základní škola\, Liberec\, Sokolovská \, Sokolovská 328 Liberec - 
 Liberec XIII-Nové Pavlovice
SUMMARY:LIB-U16Z-3-3-L: Tělovýchovná jednota SLAVIA Liberec\, z.s.-TJ Slova
 n Varnsdorf z.s. 'B'
END:VEVENT
BEGIN:VEVENT
UID:39343031-3364-4337-a562-313361623937
DTSTAMP:20260422T221327Z
DESCRIPTION:2/2 TJ Bižuterie Jablonec n/N B - Tělovýchovná jednota SLAVIA L
 iberec\, z.s. 2:0 (25\,17)
DTSTART;TZID=Europe/Berlin:20260104T100000
DTEND;TZID=Europe/Berlin:20260104T120000
LOCATION:Městská sportovní hala\, U Přehrady 4747 Jablonec nad Nisou
SUMMARY:LIB-U16Z-3-3-L: TJ Bižuterie Jablonec n/N B-Tělovýchovná jednota SL
 AVIA Liberec\, z.s.
END:VEVENT
BEGIN:VEVENT
UID:33356335-6465-4539-b130-343630333362
DTSTAMP:20260422T221327Z
DESCRIPTION:4/4 TJ Turnov - Tělovýchovná jednota SLAVIA Liberec\, z.s. 1:2 
 (23\,-20\,-14)
DTSTART;TZID=Europe/Berlin:20260104T120000
DTEND;TZID=Europe/Berlin:20260104T140000
LOCATION:TJ Turnov\, Skálova 207 Turnov
SUMMARY:LIB-U16Z-3-3-L: TJ Turnov-Tělovýchovná jednota SLAVIA Liberec\, z.s
 .
END:VEVENT
BEGIN:VEVENT
UID:36383339-3966-4238-a334-363065393139
DTSTAMP:20260422T221327Z
DESCRIPTION:2/2 Tělovýchovná jednota SLAVIA Liberec\, z.s. - Vrtule Frýdlan
 t\, z.s. 2:0 (21\,13)
DTSTART;TZID=Europe/Berlin:20260201T100000
DTEND;TZID=Europe/Berlin:20260201T120000
LOCATION:Základní škola\, Liberec\, Sokolovská \, Sokolovská 328 Liberec - 
 Liberec XIII-Nové Pavlovice
SUMMARY:LIB-U16Z-4-3-L: Tělovýchovná jednota SLAVIA Liberec\, z.s.-Vrtule F
 rýdlant\, z.s.
END:VEVENT
BEGIN:VEVENT
UID:63663235-6533-4832-a535-613335326366
DTSTAMP:20260422T221327Z
DESCRIPTION:3/3 Tělovýchovná jednota SLAVIA Liberec\, z.s. - TJ Turnov 1:2 
 (-29\,18\,-13)
DTSTART;TZID=Europe/Berlin:20260201T110000
DTEND;TZID=Europe/Berlin:20260201T130000
LOCATION:Základní škola\, Liberec\, Sokolovská \, Sokolovská 328 Liberec - 
 Liberec XIII-Nové Pavlovice
SUMMARY:LIB-U16Z-4-3-L: Tělovýchovná jednota SLAVIA Liberec\, z.s.-TJ Turno
 v
END:VEVENT
BEGIN:VEVENT
UID:32633865-6164-4539-a233-633333323537
DTSTAMP:20260422T221327Z
DESCRIPTION:6/6 DUKLA LIBEREC B - Tělovýchovná jednota SLAVIA Liberec\, z.s
 . 0:2 (-17\,-18)
DTSTART;TZID=Europe/Berlin:20260201T140000
DTEND;TZID=Europe/Berlin:20260201T160000
LOCATION:Dukla Liberec\, Jeronýmova 558 Liberec - Liberec VII-Horní Růžodol
SUMMARY:LIB-U16Z-4-3-L: DUKLA LIBEREC B-Tělovýchovná jednota SLAVIA Liberec
 \, z.s.
END:VEVENT
BEGIN:VEVENT
UID:34346365-6363-4161-b331-656538353539
DTSTAMP:20260422T221327Z
DESCRIPTION:1/1 BV Vratislavice n. N - Tělovýchovná jednota SLAVIA Liberec\
 , z.s. 2:0 (17\,15)
DTSTART;TZID=Europe/Berlin:20260222T090000
DTEND;TZID=Europe/Berlin:20260222T110000
LOCATION:, Nad Školou 278 Liberec - Liberec XXX-Vratislavice nad Nisou
SUMMARY:LIB-U16Z-5-2-L: BV Vratislavice n. N-Tělovýchovná jednota SLAVIA Li
 berec\, z.s.
END:VEVENT
BEGIN:VEVENT
UID:33623433-6631-4364-b161-346366396632
DTSTAMP:20260422T221327Z
DESCRIPTION:3/5 TJ Slovan Varnsdorf - Tělovýchovná jednota SLAVIA Liberec\,
  z.s. 2:0 (14\,12)
DTSTART;TZID=Europe/Berlin:20260222T110000
DTEND;TZID=Europe/Berlin:20260222T130000
LOCATION:Sportovní hala Varnsdorf\, Západní 2984 Varnsdorf
SUMMARY:LIB-U16Z-5-2-L: TJ Slovan Varnsdorf-Tělovýchovná jednota SLAVIA Lib
 erec\, z.s.
END:VEVENT
BEGIN:VEVENT
UID:36643438-6336-4334-a261-356139316635
DTSTAMP:20260422T221327Z
DESCRIPTION:6/11 SK Osečná\, z.s. - Tělovýchovná jednota SLAVIA Liberec\, z
 .s. 1:2 (16\,-24\,-11)
DTSTART;TZID=Europe/Berlin:20260222T140000
DTEND;TZID=Europe/Berlin:20260222T160000
LOCATION:, Školní 63 Osečná
SUMMARY:LIB-U16Z-5-2-L: SK Osečná\, z.s.-Tělovýchovná jednota SLAVIA Libere
 c\, z.s.
END:VEVENT
BEGIN:VEVENT
UID:36323863-3235-4664-a131-303062656437
DTSTAMP:20260422T221327Z
DESCRIPTION:1/2 Tělovýchovná jednota SLAVIA Liberec\, z.s. - Vrtule Frýdlan
 t\, z.s. 2:0 (14\,17)
DTSTART;TZID=Europe/Berlin:20260321T090000
DTEND;TZID=Europe/Berlin:20260321T110000
LOCATION:Základní škola\, Liberec\, Sokolovská \, Sokolovská 328 Liberec - 
 Liberec XIII-Nové Pavlovice
SUMMARY:LIB-U16Z-F-C: Tělovýchovná jednota SLAVIA Liberec\, z.s.-Vrtule Frý
 dlant\, z.s.
END:VEVENT
BEGIN:VEVENT
UID:30306166-6661-4633-a665-643933663931
DTSTAMP:20260422T221327Z
DESCRIPTION:4/8 Tělovýchovná jednota SLAVIA Liberec\, z.s. - TJ Turnov 2:0 
 (25\,20)
DTSTART;TZID=Europe/Berlin:20260321T120000
DTEND;TZID=Europe/Berlin:20260321T140000
LOCATION:Základní škola\, Liberec\, Sokolovská \, Sokolovská 328 Liberec - 
 Liberec XIII-Nové Pavlovice
SUMMARY:LIB-U16Z-F-C: Tělovýchovná jednota SLAVIA Liberec\, z.s.-TJ Turnov
END:VEVENT
BEGIN:VEVENT
UID:37323566-6334-4264-a639-323731303535
DTSTAMP:20260422T221327Z
DESCRIPTION:5/10 SK Osečná\, z.s. - Tělovýchovná jednota SLAVIA Liberec\, z
 .s. 0:2 (-12\,-9)
DTSTART;TZID=Europe/Berlin:20260321T130000
DTEND;TZID=Europe/Berlin:20260321T150000
LOCATION:, Školní 63 Osečná
SUMMARY:LIB-U16Z-F-C: SK Osečná\, z.s.-Tělovýchovná jednota SLAVIA Liberec\
 , z.s.
END:VEVENT
END:VCALENDAR
