BEGIN:VCALENDAR
VERSION:2.0
PRODID:-//TJ Slovan J. Hradec, z.s. B88982//NONSGML kigkonsult.se iCalcreator 2.41.80//
CALSCALE:GREGORIAN
UID:38353435-3462-4238-b537-303734616363
BEGIN:VEVENT
UID:61666538-3162-4462-b963-323336313033
DTSTAMP:20260422T213348Z
DESCRIPTION:1/2 TJ Slovan J. Hradec\, z.s. B - TJ Tatran Prachatice\, z.s. 
 2:0 (15\,11)
DTSTART;TZID=Europe/Berlin:20250928T090000
DTEND;TZID=Europe/Berlin:20250928T110000
LOCATION:, U Stadionu 764 Prachatice - Prachatice II
SUMMARY:JC-U16Z2-1A: TJ Slovan J. Hradec\, z.s. B-TJ Tatran Prachatice\, z.
 s.
END:VEVENT
BEGIN:VEVENT
UID:36313630-3263-4766-a466-343563336638
DTSTAMP:20260422T213348Z
DESCRIPTION:2/9 TJ Slovan J. Hradec\, z.s. B - Volejbal Tábor C 0:2 (-10\,-
 15)
DTSTART;TZID=Europe/Berlin:20250928T140000
DTEND;TZID=Europe/Berlin:20250928T160000
LOCATION:, U Stadionu 764 Prachatice - Prachatice II
SUMMARY:JC-U16Z2-1A: TJ Slovan J. Hradec\, z.s. B-Volejbal Tábor C
END:VEVENT
BEGIN:VEVENT
UID:33626238-3339-4633-b431-393638653734
DTSTAMP:20260422T213348Z
DESCRIPTION:1/4 VSK ČK B - TJ Slovan J. Hradec\, z.s. B 1:2 (-17\,20\,-8)
DTSTART;TZID=Europe/Berlin:20250928T110000
DTEND;TZID=Europe/Berlin:20250928T130000
LOCATION:, U Stadionu 764 Prachatice - Prachatice II
SUMMARY:JC-U16Z2-1A: VSK ČK B-TJ Slovan J. Hradec\, z.s. B
END:VEVENT
BEGIN:VEVENT
UID:62653239-6264-4130-b533-376436353061
DTSTAMP:20260422T213348Z
DESCRIPTION:2/6 Volejbal Rudolfov C - TJ Slovan J. Hradec\, z.s. B 2:0 (13\
 ,20)
DTSTART;TZID=Europe/Berlin:20250928T120000
DTEND;TZID=Europe/Berlin:20250928T140000
LOCATION:, U Stadionu 764 Prachatice - Prachatice II
SUMMARY:JC-U16Z2-1A: Volejbal Rudolfov C-TJ Slovan J. Hradec\, z.s. B
END:VEVENT
BEGIN:VEVENT
UID:30346531-3835-4135-b135-363738373338
DTSTAMP:20260422T213348Z
DESCRIPTION:2/8 TJ Slovan J. Hradec\, z.s. B - Volejbal Tábor C 0:2 (-9\,-2
 0)
DTSTART;TZID=Europe/Berlin:20251012T130000
DTEND;TZID=Europe/Berlin:20251012T150000
LOCATION:Sportovní Hala Mír\, U Stadionu Míru 1579 Tábor
SUMMARY:JC-U16Z2-2A: TJ Slovan J. Hradec\, z.s. B-Volejbal Tábor C
END:VEVENT
BEGIN:VEVENT
UID:65636533-3465-4131-b861-356238383535
DTSTAMP:20260422T213348Z
DESCRIPTION:2/10 TJ Slovan J. Hradec\, z.s. B - Volejbal Rudolfov C 2:X
DTSTART;TZID=Europe/Berlin:20251012T150000
DTEND;TZID=Europe/Berlin:20251012T170000
LOCATION:Sportovní Hala Mír\, U Stadionu Míru 1579 Tábor
SUMMARY:JC-U16Z2-2A: TJ Slovan J. Hradec\, z.s. B-Volejbal Rudolfov C
END:VEVENT
BEGIN:VEVENT
UID:66653133-3735-4161-a566-353032313433
DTSTAMP:20260422T213348Z
DESCRIPTION:1/2 Sokol Písek - TJ Slovan J. Hradec\, z.s. B 2:0 (18\,24)
DTSTART;TZID=Europe/Berlin:20251012T090000
DTEND;TZID=Europe/Berlin:20251012T110000
LOCATION:Sportovní Hala Mír\, U Stadionu Míru 1579 Tábor
SUMMARY:JC-U16Z2-2A: Sokol Písek-TJ Slovan J. Hradec\, z.s. B
END:VEVENT
BEGIN:VEVENT
UID:63393030-3830-4332-a438-386465643138
DTSTAMP:20260422T213348Z
DESCRIPTION:1/5 VSK Slavia JU CB - TJ Slovan J. Hradec\, z.s. B 0:2 (-18\,-
 24)
DTSTART;TZID=Europe/Berlin:20251012T110000
DTEND;TZID=Europe/Berlin:20251012T130000
LOCATION:Sportovní Hala Mír\, U Stadionu Míru 1579 Tábor
SUMMARY:JC-U16Z2-2A: VSK Slavia JU CB-TJ Slovan J. Hradec\, z.s. B
END:VEVENT
BEGIN:VEVENT
UID:64383836-3865-4337-b266-346665656661
DTSTAMP:20260422T213348Z
DESCRIPTION:2/8 TJ Slovan J. Hradec\, z.s. B - Sokol Písek 1:2 (-26\,11\,-1
 6)
DTSTART;TZID=Europe/Berlin:20251109T133000
DTEND;TZID=Europe/Berlin:20251109T153000
LOCATION:ZŠ Máj I\, M. Chlajna 1319 České Budějovice - České Budějovice 2
SUMMARY:JC-U16Z2-3A: TJ Slovan J. Hradec\, z.s. B-Sokol Písek
END:VEVENT
BEGIN:VEVENT
UID:31613832-6564-4362-a339-333335636562
DTSTAMP:20260422T213348Z
DESCRIPTION:2/10 TJ Slovan J. Hradec\, z.s. B - Volejbal Tábor C 0:2 (-19\,
 -14)
DTSTART;TZID=Europe/Berlin:20251109T150000
DTEND;TZID=Europe/Berlin:20251109T170000
LOCATION:ZŠ Máj I\, M. Chlajna 1319 České Budějovice - České Budějovice 2
SUMMARY:JC-U16Z2-3A: TJ Slovan J. Hradec\, z.s. B-Volejbal Tábor C
END:VEVENT
BEGIN:VEVENT
UID:39303739-3930-4235-b635-616562633936
DTSTAMP:20260422T213348Z
DESCRIPTION:1/2 Volejbal Rudolfov B - TJ Slovan J. Hradec\, z.s. B 2:1 (17\
 ,-24\,5)
DTSTART;TZID=Europe/Berlin:20251109T090000
DTEND;TZID=Europe/Berlin:20251109T110000
LOCATION:ZŠ Máj I\, M. Chlajna 1319 České Budějovice - České Budějovice 2
SUMMARY:JC-U16Z2-3A: Volejbal Rudolfov B-TJ Slovan J. Hradec\, z.s. B
END:VEVENT
BEGIN:VEVENT
UID:30356536-3830-4739-a264-396266653762
DTSTAMP:20260422T213348Z
DESCRIPTION:1/5 VSK ČK B - TJ Slovan J. Hradec\, z.s. B 1:2 (20\,-17\,-14)
DTSTART;TZID=Europe/Berlin:20251109T120000
DTEND;TZID=Europe/Berlin:20251109T140000
LOCATION:ZŠ Máj I\, M. Chlajna 1319 České Budějovice - České Budějovice 2
SUMMARY:JC-U16Z2-3A: VSK ČK B-TJ Slovan J. Hradec\, z.s. B
END:VEVENT
BEGIN:VEVENT
UID:32386539-3431-4933-b566-663035303364
DTSTAMP:20260422T213348Z
DESCRIPTION:1/4 TJ Slovan J. Hradec\, z.s. B - SK Otava Písek B 0:2 (-11\,-
 22)
DTSTART;TZID=Europe/Berlin:20251207T101500
DTEND;TZID=Europe/Berlin:20251207T121500
LOCATION:Sportovní hala J. Hradec\, U Stadionu 1137 Jindřichův Hradec - Jin
 dřichův Hradec II
SUMMARY:JC-U16Z2-4B: TJ Slovan J. Hradec\, z.s. B-SK Otava Písek B
END:VEVENT
BEGIN:VEVENT
UID:66376266-3838-4263-b736-623162363764
DTSTAMP:20260422T213348Z
DESCRIPTION:2/7 TJ Slovan J. Hradec\, z.s. B - TJ Tatran Prachatice\, z.s. 
 2:0 (23\,13)
DTSTART;TZID=Europe/Berlin:20251207T124500
DTEND;TZID=Europe/Berlin:20251207T144500
LOCATION:Sportovní hala J. Hradec\, U Stadionu 1137 Jindřichův Hradec - Jin
 dřichův Hradec II
SUMMARY:JC-U16Z2-4B: TJ Slovan J. Hradec\, z.s. B-TJ Tatran Prachatice\, z.
 s.
END:VEVENT
BEGIN:VEVENT
UID:61663135-3164-4634-a535-343439393264
DTSTAMP:20260422T213348Z
DESCRIPTION:1/1 Sokol Písek - TJ Slovan J. Hradec\, z.s. B 1:2 (-19\,19\,-1
 2)
DTSTART;TZID=Europe/Berlin:20251207T090000
DTEND;TZID=Europe/Berlin:20251207T110000
LOCATION:Sportovní hala J. Hradec\, U Stadionu 1137 Jindřichův Hradec - Jin
 dřichův Hradec II
SUMMARY:JC-U16Z2-4B: Sokol Písek-TJ Slovan J. Hradec\, z.s. B
END:VEVENT
BEGIN:VEVENT
UID:30343737-3931-4032-b039-323135393830
DTSTAMP:20260422T213348Z
DESCRIPTION:2/10 Madeta Jihostroj ČB C - TJ Slovan J. Hradec\, z.s. B 0:2 (
 -23\,-16)
DTSTART;TZID=Europe/Berlin:20251207T140000
DTEND;TZID=Europe/Berlin:20251207T160000
LOCATION:Sportovní hala J. Hradec\, U Stadionu 1137 Jindřichův Hradec - Jin
 dřichův Hradec II
SUMMARY:JC-U16Z2-4B: Madeta Jihostroj ČB C-TJ Slovan J. Hradec\, z.s. B
END:VEVENT
BEGIN:VEVENT
UID:30653532-3663-4937-a464-386236623666
DTSTAMP:20260422T213348Z
DESCRIPTION:1/4 TJ Slovan J. Hradec\, z.s. B - VSK ČK B 2:1 (-21\,19\,7)
DTSTART;TZID=Europe/Berlin:20260111T101500
DTEND;TZID=Europe/Berlin:20260111T121500
LOCATION:Hala Gymnázium Písek\, Komenského 89 Písek - Budějovické Předměstí
SUMMARY:JC-U16Z2-5A: TJ Slovan J. Hradec\, z.s. B-VSK ČK B
END:VEVENT
BEGIN:VEVENT
UID:63383461-3530-4730-b434-376664613132
DTSTAMP:20260422T213348Z
DESCRIPTION:2/9 TJ Slovan J. Hradec\, z.s. B - Sokol Písek 2:1 (19\,-15\,14
 )
DTSTART;TZID=Europe/Berlin:20260111T140000
DTEND;TZID=Europe/Berlin:20260111T160000
LOCATION:Hala Gymnázium Písek\, Komenského 89 Písek - Budějovické Předměstí
SUMMARY:JC-U16Z2-5A: TJ Slovan J. Hradec\, z.s. B-Sokol Písek
END:VEVENT
BEGIN:VEVENT
UID:37336362-3237-4639-a363-376239393461
DTSTAMP:20260422T213348Z
DESCRIPTION:1/2 Volejbal Rudolfov C - TJ Slovan J. Hradec\, z.s. B 2:0 (17\
 ,8)
DTSTART;TZID=Europe/Berlin:20260111T090000
DTEND;TZID=Europe/Berlin:20260111T110000
LOCATION:Hala Gymnázium Písek\, Komenského 89 Písek - Budějovické Předměstí
SUMMARY:JC-U16Z2-5A: Volejbal Rudolfov C-TJ Slovan J. Hradec\, z.s. B
END:VEVENT
BEGIN:VEVENT
UID:35313463-3932-4265-a461-303032383432
DTSTAMP:20260422T213348Z
DESCRIPTION:2/6 Volejbal Tábor C - TJ Slovan J. Hradec\, z.s. B 2:0 (13\,6)
DTSTART;TZID=Europe/Berlin:20260111T113000
DTEND;TZID=Europe/Berlin:20260111T133000
LOCATION:Hala Gymnázium Písek\, Komenského 89 Písek - Budějovické Předměstí
SUMMARY:JC-U16Z2-5A: Volejbal Tábor C-TJ Slovan J. Hradec\, z.s. B
END:VEVENT
BEGIN:VEVENT
UID:63303435-3639-4633-b866-303566653239
DTSTAMP:20260422T213348Z
DESCRIPTION:1/3 TJ Slovan J. Hradec\, z.s. B - VSK ČK B 0:2 (-22\,-10)
DTSTART;TZID=Europe/Berlin:20260308T101500
DTEND;TZID=Europe/Berlin:20260308T121500
LOCATION:ZŠ a ZUŠ Bezdrevská 3\, Bezdrevská 1036 České Budějovice - České B
 udějovice 2
SUMMARY:JC-U16Z2-6B: TJ Slovan J. Hradec\, z.s. B-VSK ČK B
END:VEVENT
BEGIN:VEVENT
UID:34386238-3330-4630-b433-323737376434
DTSTAMP:20260422T213348Z
DESCRIPTION:1/5 TJ Slovan J. Hradec\, z.s. B - Madeta Jihostroj ČB C 0:2 (-
 23\,-20)
DTSTART;TZID=Europe/Berlin:20260308T113000
DTEND;TZID=Europe/Berlin:20260308T133000
LOCATION:ZŠ a ZUŠ Bezdrevská 3\, Bezdrevská 1036 České Budějovice - České B
 udějovice 2
SUMMARY:JC-U16Z2-6B: TJ Slovan J. Hradec\, z.s. B-Madeta Jihostroj ČB C
END:VEVENT
BEGIN:VEVENT
UID:62343230-6237-4164-a664-373266333234
DTSTAMP:20260422T213348Z
DESCRIPTION:2/7 VSK Slavia JU CB - TJ Slovan J. Hradec\, z.s. B 1:2 (18\,-1
 5\,-12)
DTSTART;TZID=Europe/Berlin:20260308T124500
DTEND;TZID=Europe/Berlin:20260308T144500
LOCATION:ZŠ a ZUŠ Bezdrevská 3\, Bezdrevská 1036 České Budějovice - České B
 udějovice 2
SUMMARY:JC-U16Z2-6B: VSK Slavia JU CB-TJ Slovan J. Hradec\, z.s. B
END:VEVENT
BEGIN:VEVENT
UID:62383036-6638-4130-a161-653663383432
DTSTAMP:20260422T213348Z
DESCRIPTION:2/9 TJ Tatran Prachatice\, z.s. - TJ Slovan J. Hradec\, z.s. B 
 1:2 (-8\,22\,-12)
DTSTART;TZID=Europe/Berlin:20260308T140000
DTEND;TZID=Europe/Berlin:20260308T160000
LOCATION:ZŠ a ZUŠ Bezdrevská 3\, Bezdrevská 1036 České Budějovice - České B
 udějovice 2
SUMMARY:JC-U16Z2-6B: TJ Tatran Prachatice\, z.s.-TJ Slovan J. Hradec\, z.s.
  B
END:VEVENT
BEGIN:VEVENT
UID:37303338-3161-4363-a631-386466363964
DTSTAMP:20260422T213348Z
DESCRIPTION:1/2 TJ Slovan J. Hradec\, z.s. B - VSK Slavia JU CB 2:1 (-23\,1
 1\,11)
DTSTART;TZID=Europe/Berlin:20260419T090000
DTEND;TZID=Europe/Berlin:20260419T110000
LOCATION:, U Stadionu 764 Prachatice - Prachatice II
SUMMARY:JC-U16Z2-7B: TJ Slovan J. Hradec\, z.s. B-VSK Slavia JU CB
END:VEVENT
BEGIN:VEVENT
UID:36376561-3538-4630-b161-626461636662
DTSTAMP:20260422T213348Z
DESCRIPTION:2/9 TJ Slovan J. Hradec\, z.s. B - TJ Tatran Prachatice\, z.s. 
 2:0 (19\,11)
DTSTART;TZID=Europe/Berlin:20260419T150000
DTEND;TZID=Europe/Berlin:20260419T170000
LOCATION:, U Stadionu 764 Prachatice - Prachatice II
SUMMARY:JC-U16Z2-7B: TJ Slovan J. Hradec\, z.s. B-TJ Tatran Prachatice\, z.
 s.
END:VEVENT
BEGIN:VEVENT
UID:33383764-6564-4464-a234-373534356139
DTSTAMP:20260422T213348Z
DESCRIPTION:1/4 SK Otava Písek B - TJ Slovan J. Hradec\, z.s. B 2:0 (16\,15
 )
DTSTART;TZID=Europe/Berlin:20260419T103000
DTEND;TZID=Europe/Berlin:20260419T123000
LOCATION:, U Stadionu 764 Prachatice - Prachatice II
SUMMARY:JC-U16Z2-7B: SK Otava Písek B-TJ Slovan J. Hradec\, z.s. B
END:VEVENT
BEGIN:VEVENT
UID:34663238-3439-4364-a361-666363356462
DTSTAMP:20260422T213348Z
DESCRIPTION:2/6 Volejbal Rudolfov C - TJ Slovan J. Hradec\, z.s. B 0:2 (-25
 \,-25)
DTSTART;TZID=Europe/Berlin:20260419T120000
DTEND;TZID=Europe/Berlin:20260419T140000
LOCATION:, U Stadionu 764 Prachatice - Prachatice II
SUMMARY:JC-U16Z2-7B: Volejbal Rudolfov C-TJ Slovan J. Hradec\, z.s. B
END:VEVENT
END:VCALENDAR
