BEGIN:VCALENDAR
VERSION:2.0
PRODID:-//Tělovýchovná jednota Spartak Smržovka, z.s.88996//NONSGML kigkonsult.se iCalcreator 2.41.80//
CALSCALE:GREGORIAN
UID:34656136-3337-4134-a132-303030366135
BEGIN:VEVENT
UID:30366136-3966-4531-b135-633434393664
DTSTAMP:20260422T052744Z
DESCRIPTION:1/2 Tělovýchovná jednota Spartak Smržovka\, z.s. - TJ Zákupy\, 
 z.s. 3:2 (-24\,20\,-20\,23\,16)
DTSTART;TZID=Europe/Berlin:20251025T100000
DTEND;TZID=Europe/Berlin:20251025T120000
LOCATION:Sportovní hala\, Tyršova 1369 Smržovka
SUMMARY:LIB-M-1: Tělovýchovná jednota Spartak Smržovka\, z.s.-TJ Zákupy\, z
 .s.
END:VEVENT
BEGIN:VEVENT
UID:61656563-3863-4364-a462-323533383931
DTSTAMP:20260422T052744Z
DESCRIPTION:2/7 Tělovýchovná jednota Spartak Smržovka\, z.s. - TJ Zákupy\, 
 z.s. 3:2 (-15\,-19\,22\,21\,12)
DTSTART;TZID=Europe/Berlin:20251025T130000
DTEND;TZID=Europe/Berlin:20251025T150000
LOCATION:Sportovní hala\, Tyršova 1369 Smržovka
SUMMARY:LIB-M-1: Tělovýchovná jednota Spartak Smržovka\, z.s.-TJ Zákupy\, z
 .s.
END:VEVENT
BEGIN:VEVENT
UID:62393330-3932-4663-b835-653433343736
DTSTAMP:20260422T052744Z
DESCRIPTION:5/21 Tělovýchovná jednota Spartak Smržovka\, z.s. - TJ Bižuteri
 e Jablonec n/N 2:3 (20\,-19\,22\,-17\,-9)
DTSTART;TZID=Europe/Berlin:20251018T100000
DTEND;TZID=Europe/Berlin:20251018T120000
LOCATION:Sportovní hala\, Tyršova 1369 Smržovka
SUMMARY:LIB-M-1: Tělovýchovná jednota Spartak Smržovka\, z.s.-TJ Bižuterie 
 Jablonec n/N
END:VEVENT
BEGIN:VEVENT
UID:66363437-3133-4932-b862-616563636165
DTSTAMP:20260422T052744Z
DESCRIPTION:6/26 Tělovýchovná jednota Spartak Smržovka\, z.s. - TJ Bižuteri
 e Jablonec n/N 3:1 (21\,24\,-22\,29)
DTSTART;TZID=Europe/Berlin:20251018T130000
DTEND;TZID=Europe/Berlin:20251018T150000
LOCATION:Sportovní hala\, Tyršova 1369 Smržovka
SUMMARY:LIB-M-1: Tělovýchovná jednota Spartak Smržovka\, z.s.-TJ Bižuterie 
 Jablonec n/N
END:VEVENT
BEGIN:VEVENT
UID:64396564-6633-4634-b265-333034343261
DTSTAMP:20260422T052744Z
DESCRIPTION:11/54 Tělovýchovná jednota Spartak Smržovka\, z.s. - Turnov 0:3
  (-15\,-20\,-22)
DTSTART;TZID=Europe/Berlin:20251122T100000
DTEND;TZID=Europe/Berlin:20251122T120000
LOCATION:Sportovní hala\, Tyršova 1369 Smržovka
SUMMARY:LIB-M-1: Tělovýchovná jednota Spartak Smržovka\, z.s.-Turnov
END:VEVENT
BEGIN:VEVENT
UID:62336433-6537-4932-a133-303766663564
DTSTAMP:20260422T052744Z
DESCRIPTION:12/59 Tělovýchovná jednota Spartak Smržovka\, z.s. - Turnov 1:3
  (-14\,20\,-21\,-15)
DTSTART;TZID=Europe/Berlin:20251122T130000
DTEND;TZID=Europe/Berlin:20251122T150000
LOCATION:Sportovní hala\, Tyršova 1369 Smržovka
SUMMARY:LIB-M-1: Tělovýchovná jednota Spartak Smržovka\, z.s.-Turnov
END:VEVENT
BEGIN:VEVENT
UID:34353964-3034-4566-b361-393263316563
DTSTAMP:20260422T052744Z
DESCRIPTION:15/73 Tělovýchovná jednota Spartak Smržovka\, z.s. - VK Malá Sk
 ála B 3:0 (23\,21\,19)
DTSTART;TZID=Europe/Berlin:20251206T100000
DTEND;TZID=Europe/Berlin:20251206T120000
LOCATION:Sportovní hala\, Tyršova 1369 Smržovka
SUMMARY:LIB-M-1: Tělovýchovná jednota Spartak Smržovka\, z.s.-VK Malá Skála
  B
END:VEVENT
BEGIN:VEVENT
UID:34333638-3865-4132-a364-643033383132
DTSTAMP:20260422T052744Z
DESCRIPTION:16/78 Tělovýchovná jednota Spartak Smržovka\, z.s. - VK Malá Sk
 ála B 3:1 (-16\,15\,24\,22)
DTSTART;TZID=Europe/Berlin:20251206T130000
DTEND;TZID=Europe/Berlin:20251206T150000
LOCATION:Sportovní hala\, Tyršova 1369 Smržovka
SUMMARY:LIB-M-1: Tělovýchovná jednota Spartak Smržovka\, z.s.-VK Malá Skála
  B
END:VEVENT
BEGIN:VEVENT
UID:34336139-6664-4437-b033-393737386336
DTSTAMP:20260422T052744Z
DESCRIPTION:17/84 Tělovýchovná jednota Spartak Smržovka\, z.s. - TJ Lokomot
 iva Česká Lípa\, z.s. 0:3 (-17\,-20\,-24)
DTSTART;TZID=Europe/Berlin:20251213T100000
DTEND;TZID=Europe/Berlin:20251213T120000
LOCATION:Sportovní hala\, Tyršova 1369 Smržovka
SUMMARY:LIB-M-1: Tělovýchovná jednota Spartak Smržovka\, z.s.-TJ Lokomotiva
  Česká Lípa\, z.s.
END:VEVENT
BEGIN:VEVENT
UID:62316234-3133-4135-b966-643531363036
DTSTAMP:20260422T052744Z
DESCRIPTION:18/89 Tělovýchovná jednota Spartak Smržovka\, z.s. - TJ Lokomot
 iva Česká Lípa\, z.s. 0:3 (-17\,-20\,-12)
DTSTART;TZID=Europe/Berlin:20251213T130000
DTEND;TZID=Europe/Berlin:20251213T150000
LOCATION:Sportovní hala\, Tyršova 1369 Smržovka
SUMMARY:LIB-M-1: Tělovýchovná jednota Spartak Smržovka\, z.s.-TJ Lokomotiva
  Česká Lípa\, z.s.
END:VEVENT
BEGIN:VEVENT
UID:62353163-6536-4838-b733-363637373463
DTSTAMP:20260422T052744Z
DESCRIPTION:21/105 Tělovýchovná jednota Spartak Smržovka\, z.s. - Tělovýcho
 vná jednota Lokomotiva Liberec I\, z.s. 3:0 (18\,18\,22)
DTSTART;TZID=Europe/Berlin:20260125T100000
DTEND;TZID=Europe/Berlin:20260125T120000
LOCATION:Sportovní hala\, Tyršova 1369 Smržovka
SUMMARY:LIB-M-1: Tělovýchovná jednota Spartak Smržovka\, z.s.-Tělovýchovná 
 jednota Lokomotiva Liberec I\, z.s.
END:VEVENT
BEGIN:VEVENT
UID:61396463-3763-4236-b439-396537616438
DTSTAMP:20260422T052744Z
DESCRIPTION:22/110 Tělovýchovná jednota Spartak Smržovka\, z.s. - Tělovýcho
 vná jednota Lokomotiva Liberec I\, z.s. 3:0 (22\,22\,16)
DTSTART;TZID=Europe/Berlin:20260125T130000
DTEND;TZID=Europe/Berlin:20260125T150000
LOCATION:Sportovní hala\, Tyršova 1369 Smržovka
SUMMARY:LIB-M-1: Tělovýchovná jednota Spartak Smržovka\, z.s.-Tělovýchovná 
 jednota Lokomotiva Liberec I\, z.s.
END:VEVENT
BEGIN:VEVENT
UID:36643331-6334-4130-b465-353961653265
DTSTAMP:20260422T052744Z
DESCRIPTION:25/125 Tělovýchovná jednota Spartak Smržovka\, z.s. - Vrtule Fr
 ýdlant\, z.s. 1:3 (-20\,11\,-18\,-20)
DTSTART;TZID=Europe/Berlin:20260207T100000
DTEND;TZID=Europe/Berlin:20260207T120000
LOCATION:Sportovní hala\, Tyršova 1369 Smržovka
SUMMARY:LIB-M-1: Tělovýchovná jednota Spartak Smržovka\, z.s.-Vrtule Frýdla
 nt\, z.s.
END:VEVENT
BEGIN:VEVENT
UID:33353038-3866-4337-b032-363638626130
DTSTAMP:20260422T052744Z
DESCRIPTION:26/130 Tělovýchovná jednota Spartak Smržovka\, z.s. - Vrtule Fr
 ýdlant\, z.s. 2:3 (-21\,27\,20\,-15\,-12)
DTSTART;TZID=Europe/Berlin:20260207T130000
DTEND;TZID=Europe/Berlin:20260207T150000
LOCATION:Sportovní hala\, Tyršova 1369 Smržovka
SUMMARY:LIB-M-1: Tělovýchovná jednota Spartak Smržovka\, z.s.-Vrtule Frýdla
 nt\, z.s.
END:VEVENT
BEGIN:VEVENT
UID:35373831-6230-4361-b034-643235306364
DTSTAMP:20260422T052744Z
DESCRIPTION:27/132 Tělovýchovná jednota Spartak Smržovka\, z.s. - Tělovýcho
 vná jednota SLAVIA Liberec\, z.s. 3:2 (20\,18\,-22\,-22\,9)
DTSTART;TZID=Europe/Berlin:20260215T100000
DTEND;TZID=Europe/Berlin:20260215T120000
LOCATION:Sportovní hala\, Tyršova 1369 Smržovka
SUMMARY:LIB-M-1: Tělovýchovná jednota Spartak Smržovka\, z.s.-Tělovýchovná 
 jednota SLAVIA Liberec\, z.s.
END:VEVENT
BEGIN:VEVENT
UID:30383830-3365-4135-a166-626363653163
DTSTAMP:20260422T052744Z
DESCRIPTION:28/137 Tělovýchovná jednota Spartak Smržovka\, z.s. - Tělovýcho
 vná jednota SLAVIA Liberec\, z.s. 0:3 (-22\,-26\,-13)
DTSTART;TZID=Europe/Berlin:20260215T130000
DTEND;TZID=Europe/Berlin:20260215T150000
LOCATION:Sportovní hala\, Tyršova 1369 Smržovka
SUMMARY:LIB-M-1: Tělovýchovná jednota Spartak Smržovka\, z.s.-Tělovýchovná 
 jednota SLAVIA Liberec\, z.s.
END:VEVENT
BEGIN:VEVENT
UID:33346439-6435-4761-b936-346338376439
DTSTAMP:20260422T052744Z
DESCRIPTION:31/153 Tělovýchovná jednota Spartak Smržovka\, z.s. - Tělovýcho
 vná jednota Jiskra Nový Bor\, z.s. 3:0 (25\,16\,21)
DTSTART;TZID=Europe/Berlin:20260315T100000
DTEND;TZID=Europe/Berlin:20260315T120000
LOCATION:Sportovní hala\, Tyršova 1369 Smržovka
SUMMARY:LIB-M-1: Tělovýchovná jednota Spartak Smržovka\, z.s.-Tělovýchovná 
 jednota Jiskra Nový Bor\, z.s.
END:VEVENT
BEGIN:VEVENT
UID:35333432-6561-4561-a164-396365306332
DTSTAMP:20260422T052744Z
DESCRIPTION:32/158 Tělovýchovná jednota Spartak Smržovka\, z.s. - Tělovýcho
 vná jednota Jiskra Nový Bor\, z.s. 3:0 (21\,14\,15)
DTSTART;TZID=Europe/Berlin:20260315T130000
DTEND;TZID=Europe/Berlin:20260315T150000
LOCATION:Sportovní hala\, Tyršova 1369 Smržovka
SUMMARY:LIB-M-1: Tělovýchovná jednota Spartak Smržovka\, z.s.-Tělovýchovná 
 jednota Jiskra Nový Bor\, z.s.
END:VEVENT
BEGIN:VEVENT
UID:38656137-3035-4138-b961-306361656662
DTSTAMP:20260422T052744Z
DESCRIPTION:3/15 Tělovýchovná jednota Lokomotiva Liberec I\, z.s. - Tělovýc
 hovná jednota Spartak Smržovka\, z.s. 0:3 (-18\,-17\,-16)
DTSTART;TZID=Europe/Berlin:20251011T100000
DTEND;TZID=Europe/Berlin:20251011T120000
LOCATION:TJ Lokomotiva Liberec 1.\, z.s.\, Jablonecká 562 Liberec - Liberec
  I-Staré Město
SUMMARY:LIB-M-1: Tělovýchovná jednota Lokomotiva Liberec I\, z.s.-Tělovýcho
 vná jednota Spartak Smržovka\, z.s.
END:VEVENT
BEGIN:VEVENT
UID:33346238-3333-4064-b661-333732636435
DTSTAMP:20260422T052744Z
DESCRIPTION:4/20 Tělovýchovná jednota Lokomotiva Liberec I\, z.s. - Tělovýc
 hovná jednota Spartak Smržovka\, z.s. 2:3 (25\,16\,-20\,-23\,-7)
DTSTART;TZID=Europe/Berlin:20251011T130000
DTEND;TZID=Europe/Berlin:20251011T150000
LOCATION:TJ Lokomotiva Liberec 1.\, z.s.\, Jablonecká 562 Liberec - Liberec
  I-Staré Město
SUMMARY:LIB-M-1: Tělovýchovná jednota Lokomotiva Liberec I\, z.s.-Tělovýcho
 vná jednota Spartak Smržovka\, z.s.
END:VEVENT
BEGIN:VEVENT
UID:31613138-3833-4331-b262-383965326163
DTSTAMP:20260422T052744Z
DESCRIPTION:7/35 Vrtule Frýdlant\, z.s. - Tělovýchovná jednota Spartak Smrž
 ovka\, z.s. 0:3 (-23\,-21\,-17)
DTSTART;TZID=Europe/Berlin:20251108T100000
DTEND;TZID=Europe/Berlin:20251108T120000
LOCATION:Střední škola hospodářská a lesnická \, Bělíkova 1387 Frýdlant
SUMMARY:LIB-M-1: Vrtule Frýdlant\, z.s.-Tělovýchovná jednota Spartak Smržov
 ka\, z.s.
END:VEVENT
BEGIN:VEVENT
UID:62653439-3366-4961-b732-633637663263
DTSTAMP:20260422T052744Z
DESCRIPTION:8/40 Vrtule Frýdlant\, z.s. - Tělovýchovná jednota Spartak Smrž
 ovka\, z.s. 1:3 (18\,-29\,-20\,-16)
DTSTART;TZID=Europe/Berlin:20251108T130000
DTEND;TZID=Europe/Berlin:20251108T150000
LOCATION:Střední škola hospodářská a lesnická \, Bělíkova 1387 Frýdlant
SUMMARY:LIB-M-1: Vrtule Frýdlant\, z.s.-Tělovýchovná jednota Spartak Smržov
 ka\, z.s.
END:VEVENT
BEGIN:VEVENT
UID:63343134-3934-4432-b331-626464353832
DTSTAMP:20260422T052744Z
DESCRIPTION:9/42 Tělovýchovná jednota SLAVIA Liberec\, z.s. - Tělovýchovná 
 jednota Spartak Smržovka\, z.s. 3:2 (-14\,25\,-21\,21\,10)
DTSTART;TZID=Europe/Berlin:20251115T100000
DTEND;TZID=Europe/Berlin:20251115T120000
LOCATION:SŠ Strojní\, Letná 90 Liberec - Liberec XII-Staré Pavlovice
SUMMARY:LIB-M-1: Tělovýchovná jednota SLAVIA Liberec\, z.s.-Tělovýchovná je
 dnota Spartak Smržovka\, z.s.
END:VEVENT
BEGIN:VEVENT
UID:66353038-3462-4665-a236-633836326539
DTSTAMP:20260422T052744Z
DESCRIPTION:10/47 Tělovýchovná jednota SLAVIA Liberec\, z.s. - Tělovýchovná
  jednota Spartak Smržovka\, z.s. 1:3 (15\,-28\,-16\,-20)
DTSTART;TZID=Europe/Berlin:20251115T130000
DTEND;TZID=Europe/Berlin:20251115T150000
LOCATION:SŠ Strojní\, Letná 90 Liberec - Liberec XII-Staré Pavlovice
SUMMARY:LIB-M-1: Tělovýchovná jednota SLAVIA Liberec\, z.s.-Tělovýchovná je
 dnota Spartak Smržovka\, z.s.
END:VEVENT
BEGIN:VEVENT
UID:64636662-3330-4731-a638-393434363039
DTSTAMP:20260422T052744Z
DESCRIPTION:13/63 Tělovýchovná jednota Jiskra Nový Bor\, z.s. - Tělovýchovn
 á jednota Spartak Smržovka\, z.s. 0:3 (-19\,-16\,-19)
DTSTART;TZID=Europe/Berlin:20251129T100000
DTEND;TZID=Europe/Berlin:20251129T120000
LOCATION:Sportovní hala Františka Arnošta Nový Bor\, U hřiště 1391 Nový Bor
SUMMARY:LIB-M-1: Tělovýchovná jednota Jiskra Nový Bor\, z.s.-Tělovýchovná j
 ednota Spartak Smržovka\, z.s.
END:VEVENT
BEGIN:VEVENT
UID:35353337-6334-4130-a637-333731643866
DTSTAMP:20260422T052744Z
DESCRIPTION:14/68 Tělovýchovná jednota Jiskra Nový Bor\, z.s. - Tělovýchovn
 á jednota Spartak Smržovka\, z.s. 0:3 (-12\,-20\,-10)
DTSTART;TZID=Europe/Berlin:20251129T130000
DTEND;TZID=Europe/Berlin:20251129T150000
LOCATION:Sportovní hala Františka Arnošta Nový Bor\, U hřiště 1391 Nový Bor
SUMMARY:LIB-M-1: Tělovýchovná jednota Jiskra Nový Bor\, z.s.-Tělovýchovná j
 ednota Spartak Smržovka\, z.s.
END:VEVENT
BEGIN:VEVENT
UID:64633035-6261-4461-b935-396138666630
DTSTAMP:20260422T052744Z
DESCRIPTION:19/92 TJ Zákupy\, z.s. - Tělovýchovná jednota Spartak Smržovka\
 , z.s. 3:0 (19\,20\,19)
DTSTART;TZID=Europe/Berlin:20260117T100000
DTEND;TZID=Europe/Berlin:20260117T120000
LOCATION:Hala ZŠ Zákupy\, Školní 347 Zákupy
SUMMARY:LIB-M-1: TJ Zákupy\, z.s.-Tělovýchovná jednota Spartak Smržovka\, z
 .s.
END:VEVENT
BEGIN:VEVENT
UID:63663665-3835-4338-b364-313234336435
DTSTAMP:20260422T052744Z
DESCRIPTION:20/97 TJ Zákupy\, z.s. - Tělovýchovná jednota Spartak Smržovka\
 , z.s. 3:0 (19\,20\,24)
DTSTART;TZID=Europe/Berlin:20260117T130000
DTEND;TZID=Europe/Berlin:20260117T150000
LOCATION:Hala ZŠ Zákupy\, Školní 347 Zákupy
SUMMARY:LIB-M-1: TJ Zákupy\, z.s.-Tělovýchovná jednota Spartak Smržovka\, z
 .s.
END:VEVENT
BEGIN:VEVENT
UID:39353736-3631-4536-b935-396634373139
DTSTAMP:20260422T052744Z
DESCRIPTION:23/111 TJ Bižuterie Jablonec n/N - Tělovýchovná jednota Spartak
  Smržovka\, z.s. 0:3 (-24\,-24\,-24)
DTSTART;TZID=Europe/Berlin:20260131T100000
DTEND;TZID=Europe/Berlin:20260131T120000
LOCATION:Městská sportovní hala\, U Přehrady 4747 Jablonec nad Nisou
SUMMARY:LIB-M-1: TJ Bižuterie Jablonec n/N-Tělovýchovná jednota Spartak Smr
 žovka\, z.s.
END:VEVENT
BEGIN:VEVENT
UID:39373136-3963-4230-b739-373166653563
DTSTAMP:20260422T052744Z
DESCRIPTION:24/116 TJ Bižuterie Jablonec n/N - Tělovýchovná jednota Spartak
  Smržovka\, z.s. 0:3 (-24\,-28\,-24)
DTSTART;TZID=Europe/Berlin:20260131T130000
DTEND;TZID=Europe/Berlin:20260131T150000
LOCATION:Městská sportovní hala\, U Přehrady 4747 Jablonec nad Nisou
SUMMARY:LIB-M-1: TJ Bižuterie Jablonec n/N-Tělovýchovná jednota Spartak Smr
 žovka\, z.s.
END:VEVENT
BEGIN:VEVENT
UID:63336531-3131-4461-b365-393836323336
DTSTAMP:20260422T052744Z
DESCRIPTION:29/144 Turnov - Tělovýchovná jednota Spartak Smržovka\, z.s. 3:
 0 (23\,22\,18)
DTSTART;TZID=Europe/Berlin:20260228T090000
DTEND;TZID=Europe/Berlin:20260228T110000
LOCATION:Tělocvična ZŠ Skálova\, Skálova 600 Turnov
SUMMARY:LIB-M-1: Turnov-Tělovýchovná jednota Spartak Smržovka\, z.s.
END:VEVENT
BEGIN:VEVENT
UID:34343062-3763-4932-b362-643133346230
DTSTAMP:20260422T052744Z
DESCRIPTION:30/149 Turnov - Tělovýchovná jednota Spartak Smržovka\, z.s. 3:
 0 (19\,22\,25)
DTSTART;TZID=Europe/Berlin:20260228T130000
DTEND;TZID=Europe/Berlin:20260228T150000
LOCATION:Tělocvična ZŠ Skálova\, Skálova 600 Turnov
SUMMARY:LIB-M-1: Turnov-Tělovýchovná jednota Spartak Smržovka\, z.s.
END:VEVENT
BEGIN:VEVENT
UID:31393338-3362-4662-b565-633565313633
DTSTAMP:20260422T052744Z
DESCRIPTION:33/163 VK Malá Skála B - Tělovýchovná jednota Spartak Smržovka\
 , z.s. 0:3 (-22\,-27\,-13)
DTSTART;TZID=Europe/Berlin:20260308T100000
DTEND;TZID=Europe/Berlin:20260308T120000
LOCATION:tělocvična ZŠ\,  Malá Skála - Vranové 1.díl60
SUMMARY:LIB-M-1: VK Malá Skála B-Tělovýchovná jednota Spartak Smržovka\, z.
 s.
END:VEVENT
BEGIN:VEVENT
UID:34303937-6461-4137-b931-616262656265
DTSTAMP:20260422T052744Z
DESCRIPTION:34/168 VK Malá Skála B - Tělovýchovná jednota Spartak Smržovka\
 , z.s. 0:3 (-21\,-15\,-24)
DTSTART;TZID=Europe/Berlin:20260308T130000
DTEND;TZID=Europe/Berlin:20260308T150000
LOCATION:tělocvična ZŠ\,  Malá Skála - Vranové 1.díl60
SUMMARY:LIB-M-1: VK Malá Skála B-Tělovýchovná jednota Spartak Smržovka\, z.
 s.
END:VEVENT
BEGIN:VEVENT
UID:63356264-3938-4664-a466-363262373938
DTSTAMP:20260422T052744Z
DESCRIPTION:35/174 TJ Lokomotiva Česká Lípa\, z.s. - Tělovýchovná jednota S
 partak Smržovka\, z.s. 3:0 (7\,9\,9)
DTSTART;TZID=Europe/Berlin:20260411T100000
DTEND;TZID=Europe/Berlin:20260411T120000
LOCATION:Stará sportovní hala\, Wedrichova 1439 Česká Lípa
SUMMARY:LIB-M-1: TJ Lokomotiva Česká Lípa\, z.s.-Tělovýchovná jednota Spart
 ak Smržovka\, z.s.
END:VEVENT
BEGIN:VEVENT
UID:37623763-6562-4464-a463-643636613535
DTSTAMP:20260422T052744Z
DESCRIPTION:36/179 TJ Lokomotiva Česká Lípa\, z.s. - Tělovýchovná jednota S
 partak Smržovka\, z.s. 3:0 (10\,10\,7)
DTSTART;TZID=Europe/Berlin:20260411T130000
DTEND;TZID=Europe/Berlin:20260411T150000
LOCATION:Stará sportovní hala\, Wedrichova 1439 Česká Lípa
SUMMARY:LIB-M-1: TJ Lokomotiva Česká Lípa\, z.s.-Tělovýchovná jednota Spart
 ak Smržovka\, z.s.
END:VEVENT
END:VCALENDAR
