BEGIN:VCALENDAR
VERSION:2.0
PRODID:-//Volejbal Tábor A89005//NONSGML kigkonsult.se iCalcreator 2.41.80//
CALSCALE:GREGORIAN
UID:35656663-3564-4530-b930-363339343334
BEGIN:VEVENT
UID:38373537-3365-4762-b664-353137653161
DTSTAMP:20260421T134928Z
DESCRIPTION:1/2 Volejbal Tábor A - Sokol Písek 1:0 (0)\nJindřichův Hradec
DTSTART;TZID=Europe/Berlin:20250921T100000
DTEND;TZID=Europe/Berlin:20250921T120000
LOCATION:Sportovní Hala Mír\, U Stadionu Míru 1579 Tábor
SUMMARY:JC-U14Z-1D: Volejbal Tábor A-Sokol Písek
END:VEVENT
BEGIN:VEVENT
UID:66343130-3839-4039-a330-623631643738
DTSTAMP:20260421T134928Z
DESCRIPTION:1/3 Volejbal Rudolfov B - Volejbal Tábor A 0:2 (-15\,-12)\nJind
 řichův Hradec
DTSTART;TZID=Europe/Berlin:20250921T110000
DTEND;TZID=Europe/Berlin:20250921T130000
LOCATION:Sportovní hala Rudolfov\, Adamovská 511 Rudolfov
SUMMARY:JC-U14Z-1D: Volejbal Rudolfov B-Volejbal Tábor A
END:VEVENT
BEGIN:VEVENT
UID:32353364-6438-4336-b366-313864316364
DTSTAMP:20260421T134928Z
DESCRIPTION:1/5 VSK Č. Krumlov B - Volejbal Tábor A 0:2 (-4\,-5)\nJindřichů
 v Hradec
DTSTART;TZID=Europe/Berlin:20250921T130000
DTEND;TZID=Europe/Berlin:20250921T150000
LOCATION:ZŠ Za Nádražím Český Krumlov\, Za Nádražím 222 Český Krumlov - Nád
 ražní Předměstí
SUMMARY:JC-U14Z-1D: VSK Č. Krumlov B-Volejbal Tábor A
END:VEVENT
BEGIN:VEVENT
UID:39376266-3030-4530-a565-653563376234
DTSTAMP:20260421T134928Z
DESCRIPTION:1/4 Volejbal Tábor A - SK TŘEBÍN 2:0 (16\,10)
DTSTART;TZID=Europe/Berlin:20251019T120000
DTEND;TZID=Europe/Berlin:20251019T140000
LOCATION:, U Stadionu 764 Prachatice - Prachatice II
SUMMARY:JC-U14Z-A1: Volejbal Tábor A-SK TŘEBÍN
END:VEVENT
BEGIN:VEVENT
UID:64396165-3665-4365-b237-643531633036
DTSTAMP:20260421T134928Z
DESCRIPTION:1/2 Volejbal Rudolfov A - Volejbal Tábor A 2:0 (17\,19)
DTSTART;TZID=Europe/Berlin:20251019T100000
DTEND;TZID=Europe/Berlin:20251019T120000
LOCATION:, U Stadionu 764 Prachatice - Prachatice II
SUMMARY:JC-U14Z-A1: Volejbal Rudolfov A-Volejbal Tábor A
END:VEVENT
BEGIN:VEVENT
UID:34363062-6331-4165-b738-326133386138
DTSTAMP:20260421T134928Z
DESCRIPTION:1/6 TJ Tatran Prachatice\, z.s. - Volejbal Tábor A 0:2 (-20\,-7
 )
DTSTART;TZID=Europe/Berlin:20251019T140000
DTEND;TZID=Europe/Berlin:20251019T160000
LOCATION:, U Stadionu 764 Prachatice - Prachatice II
SUMMARY:JC-U14Z-A1: TJ Tatran Prachatice\, z.s.-Volejbal Tábor A
END:VEVENT
BEGIN:VEVENT
UID:35643836-3563-4663-b561-386536306364
DTSTAMP:20260421T134928Z
DESCRIPTION:1/2 Volejbal Tábor A - Volejbal Rudolfov A 0:2 (-16\,-22)
DTSTART;TZID=Europe/Berlin:20251102T100000
DTEND;TZID=Europe/Berlin:20251102T120000
LOCATION:Sportovní Hala Mír\, U Stadionu Míru 1579 Tábor
SUMMARY:JC-U14Z-A2: Volejbal Tábor A-Volejbal Rudolfov A
END:VEVENT
BEGIN:VEVENT
UID:35623765-6330-4763-a436-363637346466
DTSTAMP:20260421T134928Z
DESCRIPTION:1/3 Škola volejbalu A - Volejbal Tábor A 1:2 (21\,-23\,-19)
DTSTART;TZID=Europe/Berlin:20251102T110000
DTEND;TZID=Europe/Berlin:20251102T130000
LOCATION:Sportovní hala Hrdějovice\,  Hrdějovice597
SUMMARY:JC-U14Z-A2: Škola volejbalu A-Volejbal Tábor A
END:VEVENT
BEGIN:VEVENT
UID:65346465-6533-4963-b134-663036656132
DTSTAMP:20260421T134928Z
DESCRIPTION:1/5 SK TŘEBÍN - Volejbal Tábor A 0:2 (-18\,-10)
DTSTART;TZID=Europe/Berlin:20251102T130000
DTEND;TZID=Europe/Berlin:20251102T150000
LOCATION:ZŠ Máj I\, M. Chlajna 1319 České Budějovice - České Budějovice 2
SUMMARY:JC-U14Z-A2: SK TŘEBÍN-Volejbal Tábor A
END:VEVENT
BEGIN:VEVENT
UID:30373633-6363-4965-a534-633133376534
DTSTAMP:20260421T134928Z
DESCRIPTION:1/5 Volejbal Tábor A - Volejbal Rudolfov B 2:0 (20\,20)
DTSTART;TZID=Europe/Berlin:20251214T130000
DTEND;TZID=Europe/Berlin:20251214T150000
LOCATION:Sportovní Hala Mír\, U Stadionu Míru 1579 Tábor
SUMMARY:JC-U14Z-A3: Volejbal Tábor A-Volejbal Rudolfov B
END:VEVENT
BEGIN:VEVENT
UID:37363234-3035-4038-b739-333263333135
DTSTAMP:20260421T134928Z
DESCRIPTION:1/1 Volejbal Rudolfov A - Volejbal Tábor A 2:0 (18\,13)
DTSTART;TZID=Europe/Berlin:20251214T090000
DTEND;TZID=Europe/Berlin:20251214T110000
LOCATION:Sportovní Hala Mír\, U Stadionu Míru 1579 Tábor
SUMMARY:JC-U14Z-A3: Volejbal Rudolfov A-Volejbal Tábor A
END:VEVENT
BEGIN:VEVENT
UID:33373262-6665-4138-b139-666131623032
DTSTAMP:20260421T134928Z
DESCRIPTION:1/4 Škola volejbalu A - Volejbal Tábor A 2:1 (-21\,20\,9)
DTSTART;TZID=Europe/Berlin:20251214T120000
DTEND;TZID=Europe/Berlin:20251214T140000
LOCATION:Sportovní Hala Mír\, U Stadionu Míru 1579 Tábor
SUMMARY:JC-U14Z-A3: Škola volejbalu A-Volejbal Tábor A
END:VEVENT
BEGIN:VEVENT
UID:37313036-6663-4964-b438-386534383238
DTSTAMP:20260421T134928Z
DESCRIPTION:1/5 Volejbal Tábor A - Škola volejbalu A 1:2 (-21\,15\,-9)
DTSTART;TZID=Europe/Berlin:20260118T130000
DTEND;TZID=Europe/Berlin:20260118T150000
LOCATION:Hala Gymnázium Písek\, Komenského 89 Písek - Budějovické Předměstí
SUMMARY:JC-U14Z-A4: Volejbal Tábor A-Škola volejbalu A
END:VEVENT
BEGIN:VEVENT
UID:66613432-6266-4965-a466-386434343165
DTSTAMP:20260421T134928Z
DESCRIPTION:1/1 Volejbal Rudolfov A - Volejbal Tábor A 2:0 (15\,20)
DTSTART;TZID=Europe/Berlin:20260118T090000
DTEND;TZID=Europe/Berlin:20260118T110000
LOCATION:Hala Gymnázium Písek\, Komenského 89 Písek - Budějovické Předměstí
SUMMARY:JC-U14Z-A4: Volejbal Rudolfov A-Volejbal Tábor A
END:VEVENT
BEGIN:VEVENT
UID:32663130-3237-4434-b832-313434353539
DTSTAMP:20260421T134928Z
DESCRIPTION:1/4 Madeta Jihostroj ČB A - Volejbal Tábor A 0:2 (-15\,-11)
DTSTART;TZID=Europe/Berlin:20260118T120000
DTEND;TZID=Europe/Berlin:20260118T140000
LOCATION:Hala Gymnázium Písek\, Komenského 89 Písek - Budějovické Předměstí
SUMMARY:JC-U14Z-A4: Madeta Jihostroj ČB A-Volejbal Tábor A
END:VEVENT
BEGIN:VEVENT
UID:30326632-3539-4562-b234-613463393561
DTSTAMP:20260421T134928Z
DESCRIPTION:1/5 Volejbal Tábor A - Škola volejbalu A 1:2 (17\,-21\,-13)
DTSTART;TZID=Europe/Berlin:20260329T130000
DTEND;TZID=Europe/Berlin:20260329T150000
LOCATION:Sportovní Hala Mír\, U Stadionu Míru 1579 Tábor
SUMMARY:JC-U14Z-A5: Volejbal Tábor A-Škola volejbalu A
END:VEVENT
BEGIN:VEVENT
UID:37376161-3431-4334-b865-633661626534
DTSTAMP:20260421T134928Z
DESCRIPTION:1/1 Volejbal Rudolfov A - Volejbal Tábor A 2:0 (13\,14)
DTSTART;TZID=Europe/Berlin:20260329T090000
DTEND;TZID=Europe/Berlin:20260329T110000
LOCATION:Sportovní hala Rudolfov\, Adamovská 511 Rudolfov
SUMMARY:JC-U14Z-A5: Volejbal Rudolfov A-Volejbal Tábor A
END:VEVENT
BEGIN:VEVENT
UID:36336232-6265-4733-a434-363030393830
DTSTAMP:20260421T134928Z
DESCRIPTION:1/4 SK TŘEBÍN - Volejbal Tábor A 1:2 (23\,-14\,-7)
DTSTART;TZID=Europe/Berlin:20260329T120000
DTEND;TZID=Europe/Berlin:20260329T140000
LOCATION:ZŠ Máj I\, M. Chlajna 1319 České Budějovice - České Budějovice 2
SUMMARY:JC-U14Z-A5: SK TŘEBÍN-Volejbal Tábor A
END:VEVENT
BEGIN:VEVENT
UID:65383431-3866-4737-a338-663362306534
DTSTAMP:20260421T134928Z
DESCRIPTION:1/5 Volejbal Tábor A - Škola volejbalu A 2:1 (-15\,17\,10)
DTSTART;TZID=Europe/Berlin:20260412T130000
DTEND;TZID=Europe/Berlin:20260412T150000
LOCATION:Sportovní Hala Mír\, U Stadionu Míru 1579 Tábor
SUMMARY:JC-U14Z-A6: Volejbal Tábor A-Škola volejbalu A
END:VEVENT
BEGIN:VEVENT
UID:35353534-3638-4064-b938-336261326662
DTSTAMP:20260421T134928Z
DESCRIPTION:1/1 Volejbal Rudolfov A - Volejbal Tábor A 2:0 (14\,9)
DTSTART;TZID=Europe/Berlin:20260412T090000
DTEND;TZID=Europe/Berlin:20260412T110000
LOCATION:Sportovní hala Rudolfov\, Adamovská 511 Rudolfov
SUMMARY:JC-U14Z-A6: Volejbal Rudolfov A-Volejbal Tábor A
END:VEVENT
BEGIN:VEVENT
UID:37663361-3331-4566-b261-313231323231
DTSTAMP:20260421T134928Z
DESCRIPTION:1/4 Volejbal Rudolfov B - Volejbal Tábor A 2:0 (21\,18)
DTSTART;TZID=Europe/Berlin:20260412T120000
DTEND;TZID=Europe/Berlin:20260412T140000
LOCATION:Sportovní hala Rudolfov\, Adamovská 511 Rudolfov
SUMMARY:JC-U14Z-A6: Volejbal Rudolfov B-Volejbal Tábor A
END:VEVENT
END:VCALENDAR
