BEGIN:VCALENDAR
VERSION:2.0
PRODID:-//Volejbal Tábor B89009//NONSGML kigkonsult.se iCalcreator 2.41.80//
CALSCALE:GREGORIAN
UID:65623439-3331-4464-b233-373731623931
BEGIN:VEVENT
UID:36363362-6266-4839-a664-356265326464
DTSTAMP:20260421T210047Z
DESCRIPTION:1/3 Volejbal Tábor B - VSK Slavia JU CB 3:0 (12\,15\,16)
DTSTART;TZID=Europe/Berlin:20250920T120000
DTEND;TZID=Europe/Berlin:20250920T140000
LOCATION:ZŠ a ZUŠ Bezdrevská 3\, Bezdrevská 1036 České Budějovice - České B
 udějovice 2
SUMMARY:JC-U18Z-2B1: Volejbal Tábor B-VSK Slavia JU CB
END:VEVENT
BEGIN:VEVENT
UID:34393432-3039-4530-b261-323865313962
DTSTAMP:20260421T210047Z
DESCRIPTION:1/2 J. Hradec B - Volejbal Tábor B 0:3 (-23\,-7\,-10)
DTSTART;TZID=Europe/Berlin:20250920T103000
DTEND;TZID=Europe/Berlin:20250920T123000
LOCATION:ZŠ a ZUŠ Bezdrevská 3\, Bezdrevská 1036 České Budějovice - České B
 udějovice 2
SUMMARY:JC-U18Z-2B1: J. Hradec B-Volejbal Tábor B
END:VEVENT
BEGIN:VEVENT
UID:32383531-3138-4732-b032-343938396133
DTSTAMP:20260421T210047Z
DESCRIPTION:1/3 Volejbal Tábor B - TJ ČZ Strakonice 2:3 (-17\,23\,-19\,23\,
 -12)
DTSTART;TZID=Europe/Berlin:20251004T120000
DTEND;TZID=Europe/Berlin:20251004T140000
LOCATION:Hala TJ ČZ Strakonice\, Máchova 108 Strakonice - Strakonice I
SUMMARY:JC-U18Z-2A2: Volejbal Tábor B-TJ ČZ Strakonice
END:VEVENT
BEGIN:VEVENT
UID:32366339-3866-4231-b630-656531363962
DTSTAMP:20260421T210047Z
DESCRIPTION:1/1 Škola volejbalu B - Volejbal Tábor B 3:0 (19\,16\,22)
DTSTART;TZID=Europe/Berlin:20251004T090000
DTEND;TZID=Europe/Berlin:20251004T110000
LOCATION:Hala TJ ČZ Strakonice\, Máchova 108 Strakonice - Strakonice I
SUMMARY:JC-U18Z-2A2: Škola volejbalu B-Volejbal Tábor B
END:VEVENT
BEGIN:VEVENT
UID:34393065-3834-4262-a366-663633316165
DTSTAMP:20260421T210047Z
DESCRIPTION:1/1 Volejbal Tábor B - VSK ČK B 0:3 (-26\,-15\,-18)
DTSTART;TZID=Europe/Berlin:20251101T090000
DTEND;TZID=Europe/Berlin:20251101T110000
LOCATION:ZŠ Máj I\, M. Chlajna 1319 České Budějovice - České Budějovice 2
SUMMARY:JC-U18Z-2B3: Volejbal Tábor B-VSK ČK B
END:VEVENT
BEGIN:VEVENT
UID:63386461-3461-4566-a538-373338333339
DTSTAMP:20260421T210047Z
DESCRIPTION:1/2 Volejbal Trhové Sviny - Volejbal Tábor B 0:3 (-10\,-22\,-15
 )
DTSTART;TZID=Europe/Berlin:20251101T103000
DTEND;TZID=Europe/Berlin:20251101T123000
LOCATION:ZŠ Máj I\, M. Chlajna 1319 České Budějovice - České Budějovice 2
SUMMARY:JC-U18Z-2B3: Volejbal Trhové Sviny-Volejbal Tábor B
END:VEVENT
BEGIN:VEVENT
UID:32356664-3539-4562-b064-303331323363
DTSTAMP:20260421T210047Z
DESCRIPTION:1/2 Volejbal Tábor B - SK TŘEBÍN B 2:3 (22\,-16\,-16\,21\,-13)
DTSTART;TZID=Europe/Berlin:20251206T103000
DTEND;TZID=Europe/Berlin:20251206T123000
LOCATION:Sportovní hala Jihočeské univerzity\, Na Sádkách 305 České Budějov
 ice - České Budějovice 2
SUMMARY:JC-U18Z-2B4: Volejbal Tábor B-SK TŘEBÍN B
END:VEVENT
BEGIN:VEVENT
UID:33303539-3330-4337-b330-643530313235
DTSTAMP:20260421T210047Z
DESCRIPTION:1/3 VSK Slavia JU CB - Volejbal Tábor B 3:1 (22\,-20\,20\,22)
DTSTART;TZID=Europe/Berlin:20251206T120000
DTEND;TZID=Europe/Berlin:20251206T140000
LOCATION:Sportovní hala Jihočeské univerzity\, Na Sádkách 305 České Budějov
 ice - České Budějovice 2
SUMMARY:JC-U18Z-2B4: VSK Slavia JU CB-Volejbal Tábor B
END:VEVENT
BEGIN:VEVENT
UID:39316462-3935-4130-b136-643261326330
DTSTAMP:20260421T210047Z
DESCRIPTION:1/1 Volejbal Tábor B - J. Hradec B 3:0 (15\,18\,15)
DTSTART;TZID=Europe/Berlin:20260124T090000
DTEND;TZID=Europe/Berlin:20260124T110000
LOCATION:Sportovní Hala Mír\, U Stadionu Míru 1579 Tábor
SUMMARY:JC-U18Z-2C5: Volejbal Tábor B-J. Hradec B
END:VEVENT
BEGIN:VEVENT
UID:36643938-3239-4635-a134-643964373732
DTSTAMP:20260421T210047Z
DESCRIPTION:1/2 Prachatice B - Volejbal Tábor B 0:3 (-24\,-20\,-20)
DTSTART;TZID=Europe/Berlin:20260124T103000
DTEND;TZID=Europe/Berlin:20260124T123000
LOCATION:Sportovní Hala Mír\, U Stadionu Míru 1579 Tábor
SUMMARY:JC-U18Z-2C5: Prachatice B-Volejbal Tábor B
END:VEVENT
BEGIN:VEVENT
UID:61336637-3939-4564-b537-646561346138
DTSTAMP:20260421T210047Z
DESCRIPTION:1/3 Volejbal Tábor B - TJ ČZ Strakonice 3:0 (14\,22\,17)
DTSTART;TZID=Europe/Berlin:20260321T120000
DTEND;TZID=Europe/Berlin:20260321T140000
LOCATION:ZŠ Máj I\, M. Chlajna 1319 České Budějovice - České Budějovice 2
SUMMARY:JC-U18Z-2B6: Volejbal Tábor B-TJ ČZ Strakonice
END:VEVENT
BEGIN:VEVENT
UID:33396364-6232-4861-b465-663132343834
DTSTAMP:20260421T210047Z
DESCRIPTION:1/1 VSK Slavia JU CB - Volejbal Tábor B 0:3 (-19\,-17\,-15)
DTSTART;TZID=Europe/Berlin:20260321T090000
DTEND;TZID=Europe/Berlin:20260321T110000
LOCATION:ZŠ Máj I\, M. Chlajna 1319 České Budějovice - České Budějovice 2
SUMMARY:JC-U18Z-2B6: VSK Slavia JU CB-Volejbal Tábor B
END:VEVENT
END:VCALENDAR
