BEGIN:VCALENDAR
VERSION:2.0
PRODID:-//TJ SLAVIA Liberec89015//NONSGML kigkonsult.se iCalcreator 2.41.80//
CALSCALE:GREGORIAN
UID:63303165-6532-4938-b432-326633343865
BEGIN:VEVENT
UID:35313962-6238-4461-a565-626363633330
DTSTAMP:20260422T033949Z
DESCRIPTION:1/4 Liberec - Benátky nad JizerouBolina Václav./Kinderman Milan
DTSTART;TZID=Europe/Berlin:20260425T170000
DTEND;TZID=Europe/Berlin:20260425T190000
LOCATION:Sportcentrum SLUNETA 2\, Jateční 1026 Ústí nad Labem - Klíše
SUMMARY:EX-U20M-KB: Liberec-Benátky nad Jizerou
END:VEVENT
BEGIN:VEVENT
UID:61303136-6135-4633-b732-326564643735
DTSTAMP:20260422T033949Z
DESCRIPTION:1/5 Liberec - HronovHavlík Matěj./Marschner Roman
DTSTART;TZID=Europe/Berlin:20260426T100000
DTEND;TZID=Europe/Berlin:20260426T120000
LOCATION:Sportcentrum SLUNETA 2\, Jateční 1026 Ústí nad Labem - Klíše
SUMMARY:EX-U20M-KB: Liberec-Hronov
END:VEVENT
BEGIN:VEVENT
UID:61646364-3230-4635-b838-376439366633
DTSTAMP:20260422T033949Z
DESCRIPTION:1/1 Ústí n. L. - LiberecHavlík Matěj./Beerová Irena
DTSTART;TZID=Europe/Berlin:20260425T100000
DTEND;TZID=Europe/Berlin:20260425T120000
LOCATION:Sportcentrum SLUNETA 2\, Jateční 1026 Ústí nad Labem - Klíše
SUMMARY:EX-U20M-KB: Ústí n. L.-Liberec
END:VEVENT
END:VCALENDAR
