BEGIN:VCALENDAR
VERSION:2.0
PRODID:-//Volejbal Rudolfov B89029//NONSGML kigkonsult.se iCalcreator 2.41.80//
CALSCALE:GREGORIAN
UID:34633430-3139-4761-a634-383965313939
BEGIN:VEVENT
UID:31306337-3837-4563-a238-666465336465
DTSTAMP:20260423T124829Z
DESCRIPTION:1/1 Volejbal Rudolfov B - VSK Č. Krumlov B 2:0 (5\,4)\nJindřich
 ův Hradec
DTSTART;TZID=Europe/Berlin:20250921T090000
DTEND;TZID=Europe/Berlin:20250921T110000
LOCATION:Sportovní hala Rudolfov\, Adamovská 511 Rudolfov
SUMMARY:JC-U14Z-1D: Volejbal Rudolfov B-VSK Č. Krumlov B
END:VEVENT
BEGIN:VEVENT
UID:63316664-3535-4531-b037-323739323232
DTSTAMP:20260423T124829Z
DESCRIPTION:1/3 Volejbal Rudolfov B - Volejbal Tábor A 0:2 (-15\,-12)\nJind
 řichův Hradec
DTSTART;TZID=Europe/Berlin:20250921T110000
DTEND;TZID=Europe/Berlin:20250921T130000
LOCATION:Sportovní hala Rudolfov\, Adamovská 511 Rudolfov
SUMMARY:JC-U14Z-1D: Volejbal Rudolfov B-Volejbal Tábor A
END:VEVENT
BEGIN:VEVENT
UID:30343865-6566-4930-b933-366130316165
DTSTAMP:20260423T124829Z
DESCRIPTION:1/6 Volejbal Rudolfov B - Sokol PísekKinšt Otakar\nJindřichův H
 radec
DTSTART;TZID=Europe/Berlin:20250921T140000
DTEND;TZID=Europe/Berlin:20250921T160000
LOCATION:Sportovní hala Rudolfov\, Adamovská 511 Rudolfov
SUMMARY:JC-U14Z-1D: Volejbal Rudolfov B-Sokol Písek
END:VEVENT
BEGIN:VEVENT
UID:35646337-3364-4133-a335-393766636265
DTSTAMP:20260423T124829Z
DESCRIPTION:1/4 Volejbal Rudolfov B - TJ Slovan J. Hradec\, z.s. 1:2 (20\,-
 14\,-12)
DTSTART;TZID=Europe/Berlin:20251019T120000
DTEND;TZID=Europe/Berlin:20251019T140000
LOCATION:, U Stadionu 764 Prachatice - Prachatice II
SUMMARY:JC-U14Z-B1: Volejbal Rudolfov B-TJ Slovan J. Hradec\, z.s.
END:VEVENT
BEGIN:VEVENT
UID:32346134-3464-4065-b065-613332643530
DTSTAMP:20260423T124829Z
DESCRIPTION:1/2 Madeta Jihostroj ČB A - Volejbal Rudolfov B 0:2 (-18\,-16)
DTSTART;TZID=Europe/Berlin:20251019T100000
DTEND;TZID=Europe/Berlin:20251019T120000
LOCATION:, U Stadionu 764 Prachatice - Prachatice II
SUMMARY:JC-U14Z-B1: Madeta Jihostroj ČB A-Volejbal Rudolfov B
END:VEVENT
BEGIN:VEVENT
UID:31303033-3837-4662-b166-356566623261
DTSTAMP:20260423T124829Z
DESCRIPTION:1/6 Škola volejbalu A - Volejbal Rudolfov B 2:0 (9\,21)
DTSTART;TZID=Europe/Berlin:20251019T140000
DTEND;TZID=Europe/Berlin:20251019T160000
LOCATION:, U Stadionu 764 Prachatice - Prachatice II
SUMMARY:JC-U14Z-B1: Škola volejbalu A-Volejbal Rudolfov B
END:VEVENT
BEGIN:VEVENT
UID:61303466-6333-4832-b133-626238306236
DTSTAMP:20260423T124829Z
DESCRIPTION:1/5 Volejbal Rudolfov B - TJ Slovan J. Hradec\, z.s. 2:1 (19\,-
 14\,11)
DTSTART;TZID=Europe/Berlin:20251102T130000
DTEND;TZID=Europe/Berlin:20251102T150000
LOCATION:Sportovní hala Rudolfov\, Adamovská 511 Rudolfov
SUMMARY:JC-U14Z-B2: Volejbal Rudolfov B-TJ Slovan J. Hradec\, z.s.
END:VEVENT
BEGIN:VEVENT
UID:36636264-6262-4164-b538-643833643337
DTSTAMP:20260423T124829Z
DESCRIPTION:1/1 TJ Tatran Prachatice\, z.s. - Volejbal Rudolfov B 0:2 (-11\
 ,-15)
DTSTART;TZID=Europe/Berlin:20251102T090000
DTEND;TZID=Europe/Berlin:20251102T110000
LOCATION:, U Stadionu 764 Prachatice - Prachatice II
SUMMARY:JC-U14Z-B2: TJ Tatran Prachatice\, z.s.-Volejbal Rudolfov B
END:VEVENT
BEGIN:VEVENT
UID:39393535-3561-4831-a137-633465613265
DTSTAMP:20260423T124829Z
DESCRIPTION:1/4 VSK Č. Krumlov A - Volejbal Rudolfov B 1:2 (22\,-20\,-13)
DTSTART;TZID=Europe/Berlin:20251102T120000
DTEND;TZID=Europe/Berlin:20251102T140000
LOCATION:ZŠ Za Nádražím Český Krumlov\, Za Nádražím 222 Český Krumlov - Nád
 ražní Předměstí
SUMMARY:JC-U14Z-B2: VSK Č. Krumlov A-Volejbal Rudolfov B
END:VEVENT
BEGIN:VEVENT
UID:66633465-6235-4466-b632-343037326236
DTSTAMP:20260423T124829Z
DESCRIPTION:1/2 Volejbal Rudolfov B - Škola volejbalu A 2:1 (-23\,13\,4)
DTSTART;TZID=Europe/Berlin:20251214T100000
DTEND;TZID=Europe/Berlin:20251214T120000
LOCATION:Sportovní Hala Mír\, U Stadionu Míru 1579 Tábor
SUMMARY:JC-U14Z-A3: Volejbal Rudolfov B-Škola volejbalu A
END:VEVENT
BEGIN:VEVENT
UID:61386332-3061-4965-b232-343937323038
DTSTAMP:20260423T124829Z
DESCRIPTION:1/3 Volejbal Rudolfov A - Volejbal Rudolfov B 2:0 (10\,14)
DTSTART;TZID=Europe/Berlin:20251214T110000
DTEND;TZID=Europe/Berlin:20251214T130000
LOCATION:Sportovní Hala Mír\, U Stadionu Míru 1579 Tábor
SUMMARY:JC-U14Z-A3: Volejbal Rudolfov A-Volejbal Rudolfov B
END:VEVENT
BEGIN:VEVENT
UID:61653465-6164-4635-b538-326435326265
DTSTAMP:20260423T124829Z
DESCRIPTION:1/5 Volejbal Tábor A - Volejbal Rudolfov B 2:0 (20\,20)
DTSTART;TZID=Europe/Berlin:20251214T130000
DTEND;TZID=Europe/Berlin:20251214T150000
LOCATION:Sportovní Hala Mír\, U Stadionu Míru 1579 Tábor
SUMMARY:JC-U14Z-A3: Volejbal Tábor A-Volejbal Rudolfov B
END:VEVENT
BEGIN:VEVENT
UID:39303532-3538-4433-a138-623663346232
DTSTAMP:20260423T124829Z
DESCRIPTION:1/1 Volejbal Rudolfov B - TJ Slovan J. Hradec\, z.s. 1:2 (-17\,
 18\,-10)
DTSTART;TZID=Europe/Berlin:20260118T090000
DTEND;TZID=Europe/Berlin:20260118T110000
LOCATION:Hala Gymnázium Písek\, Komenského 89 Písek - Budějovické Předměstí
SUMMARY:JC-U14Z-B4: Volejbal Rudolfov B-TJ Slovan J. Hradec\, z.s.
END:VEVENT
BEGIN:VEVENT
UID:39303362-3261-4539-b531-666661363665
DTSTAMP:20260423T124829Z
DESCRIPTION:1/3 Volejbal Rudolfov B - SK TŘEBÍN 0:2 (-22\,-21)
DTSTART;TZID=Europe/Berlin:20260118T110000
DTEND;TZID=Europe/Berlin:20260118T130000
LOCATION:Hala Gymnázium Písek\, Komenského 89 Písek - Budějovické Předměstí
SUMMARY:JC-U14Z-B4: Volejbal Rudolfov B-SK TŘEBÍN
END:VEVENT
BEGIN:VEVENT
UID:38653130-3733-4634-b738-376666346262
DTSTAMP:20260423T124829Z
DESCRIPTION:1/6 Volejbal Rudolfov B - Škola volejbalu B 2:0 (14\,8)
DTSTART;TZID=Europe/Berlin:20260118T140000
DTEND;TZID=Europe/Berlin:20260118T160000
LOCATION:Hala Gymnázium Písek\, Komenského 89 Písek - Budějovické Předměstí
SUMMARY:JC-U14Z-B4: Volejbal Rudolfov B-Škola volejbalu B
END:VEVENT
BEGIN:VEVENT
UID:61343933-6339-4433-b731-643632366165
DTSTAMP:20260423T124829Z
DESCRIPTION:1/5 Volejbal Rudolfov B - TJ Slovan J. Hradec\, z.s. 2:0 (17\,2
 3)
DTSTART;TZID=Europe/Berlin:20260329T130000
DTEND;TZID=Europe/Berlin:20260329T150000
LOCATION:Sportovní hala Rudolfov\, Adamovská 511 Rudolfov
SUMMARY:JC-U14Z-B5: Volejbal Rudolfov B-TJ Slovan J. Hradec\, z.s.
END:VEVENT
BEGIN:VEVENT
UID:35363936-6138-4434-b433-343565626630
DTSTAMP:20260423T124829Z
DESCRIPTION:1/1 Madeta Jihostroj ČB A - Volejbal Rudolfov B 0:2 (-14\,-14)
DTSTART;TZID=Europe/Berlin:20260329T090000
DTEND;TZID=Europe/Berlin:20260329T110000
LOCATION:Sportovní hala\, Stromovka 1216 České Budějovice - České Budějovic
 e 2
SUMMARY:JC-U14Z-B5: Madeta Jihostroj ČB A-Volejbal Rudolfov B
END:VEVENT
BEGIN:VEVENT
UID:35346134-3930-4339-b237-303933303938
DTSTAMP:20260423T124829Z
DESCRIPTION:1/4 VSK Č. Krumlov A - Volejbal Rudolfov B 0:2 (-21\,-16)
DTSTART;TZID=Europe/Berlin:20260329T120000
DTEND;TZID=Europe/Berlin:20260329T140000
LOCATION:ZŠ Za Nádražím Český Krumlov\, Za Nádražím 222 Český Krumlov - Nád
 ražní Předměstí
SUMMARY:JC-U14Z-B5: VSK Č. Krumlov A-Volejbal Rudolfov B
END:VEVENT
BEGIN:VEVENT
UID:32316332-6161-4536-a366-373835356235
DTSTAMP:20260423T124829Z
DESCRIPTION:1/4 Volejbal Rudolfov B - Volejbal Tábor A 2:0 (21\,18)
DTSTART;TZID=Europe/Berlin:20260412T120000
DTEND;TZID=Europe/Berlin:20260412T140000
LOCATION:Sportovní hala Rudolfov\, Adamovská 511 Rudolfov
SUMMARY:JC-U14Z-A6: Volejbal Rudolfov B-Volejbal Tábor A
END:VEVENT
BEGIN:VEVENT
UID:66653661-3462-4332-b534-633461303735
DTSTAMP:20260423T124829Z
DESCRIPTION:1/2 Škola volejbalu A - Volejbal Rudolfov B 2:0 (13\,19)
DTSTART;TZID=Europe/Berlin:20260412T100000
DTEND;TZID=Europe/Berlin:20260412T120000
LOCATION:Sportovní hala Hrdějovice\,  Hrdějovice597
SUMMARY:JC-U14Z-A6: Škola volejbalu A-Volejbal Rudolfov B
END:VEVENT
BEGIN:VEVENT
UID:38633033-3037-4064-b463-623462356230
DTSTAMP:20260423T124829Z
DESCRIPTION:1/6 Volejbal Rudolfov A - Volejbal Rudolfov B 2:0 (14\,11)
DTSTART;TZID=Europe/Berlin:20260412T140000
DTEND;TZID=Europe/Berlin:20260412T160000
LOCATION:Sportovní hala Rudolfov\, Adamovská 511 Rudolfov
SUMMARY:JC-U14Z-A6: Volejbal Rudolfov A-Volejbal Rudolfov B
END:VEVENT
END:VCALENDAR
