BEGIN:VCALENDAR
VERSION:2.0
PRODID:-//VK SPORT Rychnov nad Kněžnou, z.s.89045//NONSGML kigkonsult.se iCalcreator 2.41.80//
CALSCALE:GREGORIAN
UID:35656435-6363-4333-a631-383734373361
BEGIN:VEVENT
UID:32343036-6536-4263-a437-353837343539
DTSTAMP:20260423T042946Z
DESCRIPTION:1/1 VK SPORT Rychnov nad Kněžnou\, z.s. - VoCe 2:0 (14\,19)
DTSTART;TZID=Europe/Berlin:20250914T090000
DTEND;TZID=Europe/Berlin:20250914T110000
LOCATION:Hala VOŠ a SPŠS\, U Stadionu 1166 Rychnov nad Kněžnou
SUMMARY:PA-U16M-KV-I: VK SPORT Rychnov nad Kněžnou\, z.s.-VoCe
END:VEVENT
BEGIN:VEVENT
UID:36383966-6530-4262-b563-363261643564
DTSTAMP:20260423T042946Z
DESCRIPTION:1/8 VK SPORT Rychnov nad Kněžnou\, z.s. - Volejbalový klub Hron
 ov\, z.s. 1:1 (12\,-24)
DTSTART;TZID=Europe/Berlin:20250914T120000
DTEND;TZID=Europe/Berlin:20250914T140000
LOCATION:Hala VOŠ a SPŠS\, U Stadionu 1166 Rychnov nad Kněžnou
SUMMARY:PA-U16M-KV-I: VK SPORT Rychnov nad Kněžnou\, z.s.-Volejbalový klub 
 Hronov\, z.s.
END:VEVENT
BEGIN:VEVENT
UID:32626663-3535-4165-b264-646336313731
DTSTAMP:20260423T042946Z
DESCRIPTION:1/4 Tělocvičná jednota Sokol Kerhartice - VK SPORT Rychnov nad 
 Kněžnou\, z.s. 0:2 (-5\,-7)
DTSTART;TZID=Europe/Berlin:20250914T100000
DTEND;TZID=Europe/Berlin:20250914T120000
LOCATION:Střední škola automobilní\, Dukelská 313 Ústí nad Orlicí - Hylváty
SUMMARY:PA-U16M-KV-I: Tělocvičná jednota Sokol Kerhartice-VK SPORT Rychnov 
 nad Kněžnou\, z.s.
END:VEVENT
BEGIN:VEVENT
UID:36653365-3562-4062-b665-626261356335
DTSTAMP:20260423T042946Z
DESCRIPTION:1/9 TJ Slavia HK - VK SPORT Rychnov nad Kněžnou\, z.s. 2:0 (21\
 ,18)
DTSTART;TZID=Europe/Berlin:20250914T130000
DTEND;TZID=Europe/Berlin:20250914T150000
LOCATION:TJ Slavia Hradec Králové\, Víta Nejedlého 1216 Hradec Králové
SUMMARY:PA-U16M-KV-I: TJ Slavia HK-VK SPORT Rychnov nad Kněžnou\, z.s.
END:VEVENT
BEGIN:VEVENT
UID:31636134-3336-4739-b961-376162336232
DTSTAMP:20260423T042946Z
DESCRIPTION:1/2 VK SPORT Rychnov nad Kněžnou\, z.s. - TJ Slavia HK 2:1 (-14
 \,14\,10)
DTSTART;TZID=Europe/Berlin:20251109T100000
DTEND;TZID=Europe/Berlin:20251109T120000
LOCATION:Hala VOŠ a SPŠS\, U Stadionu 1166 Rychnov nad Kněžnou
SUMMARY:PA-U16M-2A: VK SPORT Rychnov nad Kněžnou\, z.s.-TJ Slavia HK
END:VEVENT
BEGIN:VEVENT
UID:39626633-3933-4036-a432-383937366338
DTSTAMP:20260423T042946Z
DESCRIPTION:1/5 VK SPORT Rychnov nad Kněžnou\, z.s. - Svitavy A 0:2 (-23\,-
 13)
DTSTART;TZID=Europe/Berlin:20251109T130000
DTEND;TZID=Europe/Berlin:20251109T150000
LOCATION:Hala VOŠ a SPŠS\, U Stadionu 1166 Rychnov nad Kněžnou
SUMMARY:PA-U16M-2A: VK SPORT Rychnov nad Kněžnou\, z.s.-Svitavy A
END:VEVENT
BEGIN:VEVENT
UID:36306563-6364-4931-a639-363565656664
DTSTAMP:20260423T042946Z
DESCRIPTION:1/4 Jihlava - VK SPORT Rychnov nad Kněžnou\, z.s. 0:2 (-21\,-13
 )
DTSTART;TZID=Europe/Berlin:20251109T120000
DTEND;TZID=Europe/Berlin:20251109T140000
LOCATION:SŠ Stavební Jihlava\, Žižkova 1939 Jihlava
SUMMARY:PA-U16M-2A: Jihlava-VK SPORT Rychnov nad Kněžnou\, z.s.
END:VEVENT
BEGIN:VEVENT
UID:32313861-3165-4333-a537-386630613636
DTSTAMP:20260423T042946Z
DESCRIPTION:1/1 VK SPORT Rychnov nad Kněžnou\, z.s. - TJ Slavia HK 2:0 (20\
 ,16)
DTSTART;TZID=Europe/Berlin:20251207T090000
DTEND;TZID=Europe/Berlin:20251207T110000
LOCATION:Hala VOŠ a SPŠS\, U Stadionu 1166 Rychnov nad Kněžnou
SUMMARY:PA-U16M-3A: VK SPORT Rychnov nad Kněžnou\, z.s.-TJ Slavia HK
END:VEVENT
BEGIN:VEVENT
UID:63633931-6130-4138-a435-303666623834
DTSTAMP:20260423T042946Z
DESCRIPTION:1/4 VK SPORT Rychnov nad Kněžnou\, z.s. - Svitavy A 2:0 (21\,16
 )
DTSTART;TZID=Europe/Berlin:20251207T120000
DTEND;TZID=Europe/Berlin:20251207T140000
LOCATION:Hala VOŠ a SPŠS\, U Stadionu 1166 Rychnov nad Kněžnou
SUMMARY:PA-U16M-3A: VK SPORT Rychnov nad Kněžnou\, z.s.-Svitavy A
END:VEVENT
BEGIN:VEVENT
UID:33626262-6331-4236-a139-343361326437
DTSTAMP:20260423T042946Z
DESCRIPTION:1/6 VK SPORT Rychnov nad Kněžnou\, z.s. - VoCe 2:0 (21\,18)
DTSTART;TZID=Europe/Berlin:20251207T140000
DTEND;TZID=Europe/Berlin:20251207T160000
LOCATION:Hala VOŠ a SPŠS\, U Stadionu 1166 Rychnov nad Kněžnou
SUMMARY:PA-U16M-3A: VK SPORT Rychnov nad Kněžnou\, z.s.-VoCe
END:VEVENT
BEGIN:VEVENT
UID:66383965-3535-4866-b036-373433353865
DTSTAMP:20260423T042946Z
DESCRIPTION:1/2 VK SPORT Rychnov nad Kněžnou\, z.s. - Svitavy A 2:1 (-21\,1
 8\,10)
DTSTART;TZID=Europe/Berlin:20260118T100000
DTEND;TZID=Europe/Berlin:20260118T120000
LOCATION:Hala VOŠ a SPŠS\, U Stadionu 1166 Rychnov nad Kněžnou
SUMMARY:PA-U16M-4A: VK SPORT Rychnov nad Kněžnou\, z.s.-Svitavy A
END:VEVENT
BEGIN:VEVENT
UID:38656138-6163-4631-a236-636562386332
DTSTAMP:20260423T042946Z
DESCRIPTION:1/5 VK SPORT Rychnov nad Kněžnou\, z.s. - TJ Slavia HK 2:1 (-19
 \,16\,18)
DTSTART;TZID=Europe/Berlin:20260118T130000
DTEND;TZID=Europe/Berlin:20260118T150000
LOCATION:Hala VOŠ a SPŠS\, U Stadionu 1166 Rychnov nad Kněžnou
SUMMARY:PA-U16M-4A: VK SPORT Rychnov nad Kněžnou\, z.s.-TJ Slavia HK
END:VEVENT
BEGIN:VEVENT
UID:39333161-6530-4730-b165-353639353765
DTSTAMP:20260423T042946Z
DESCRIPTION:1/4 Spartak Velké Meziříčí - VK SPORT Rychnov nad Kněžnou\, z.s
 . 0:2 (-11\,-12)
DTSTART;TZID=Europe/Berlin:20260118T120000
DTEND;TZID=Europe/Berlin:20260118T140000
LOCATION:ZŠ Komenského\, Komenského 1 Velké Meziříčí
SUMMARY:PA-U16M-4A: Spartak Velké Meziříčí-VK SPORT Rychnov nad Kněžnou\, z
 .s.
END:VEVENT
BEGIN:VEVENT
UID:36613062-6363-4435-a463-396339633537
DTSTAMP:20260423T042946Z
DESCRIPTION:1/3 VK SPORT Rychnov nad Kněžnou\, z.s. - TJ Slavia HK 1:2 (-20
 \,17\,-13)
DTSTART;TZID=Europe/Berlin:20260222T110000
DTEND;TZID=Europe/Berlin:20260222T130000
LOCATION:Hala VOŠ a SPŠS\, U Stadionu 1166 Rychnov nad Kněžnou
SUMMARY:PA-U16M-5A: VK SPORT Rychnov nad Kněžnou\, z.s.-TJ Slavia HK
END:VEVENT
BEGIN:VEVENT
UID:33663432-3736-4136-b461-363437386434
DTSTAMP:20260423T042946Z
DESCRIPTION:1/1 Volejbalový klub Hronov\, z.s. - VK SPORT Rychnov nad Kněžn
 ou\, z.s. 0:2 (-19\,-14)
DTSTART;TZID=Europe/Berlin:20260222T090000
DTEND;TZID=Europe/Berlin:20260222T110000
LOCATION:ZŠ Hronov\, Palackého 162 Hronov
SUMMARY:PA-U16M-5A: Volejbalový klub Hronov\, z.s.-VK SPORT Rychnov nad Kně
 žnou\, z.s.
END:VEVENT
BEGIN:VEVENT
UID:39626330-3562-4263-b365-656336643666
DTSTAMP:20260423T042946Z
DESCRIPTION:1/5 Svitavy A - VK SPORT Rychnov nad Kněžnou\, z.s. 0:2 (-11\,-
 15)
DTSTART;TZID=Europe/Berlin:20260222T130000
DTEND;TZID=Europe/Berlin:20260222T150000
LOCATION:Sportovní hala Na Střelnici\, Pražská 2162 Svitavy - Předměstí
SUMMARY:PA-U16M-5A: Svitavy A-VK SPORT Rychnov nad Kněžnou\, z.s.
END:VEVENT
BEGIN:VEVENT
UID:34653336-3666-4034-b334-613935336664
DTSTAMP:20260423T042946Z
DESCRIPTION:1/2 VK SPORT Rychnov nad Kněžnou\, z.s. - Spartak Velké Meziříč
 í 2:0 (15\,16)
DTSTART;TZID=Europe/Berlin:20260308T090000
DTEND;TZID=Europe/Berlin:20260308T110000
LOCATION:Hala VOŠ a SPŠS\, U Stadionu 1166 Rychnov nad Kněžnou
SUMMARY:PA-U16M-6A: VK SPORT Rychnov nad Kněžnou\, z.s.-Spartak Velké Meziř
 íčí
END:VEVENT
BEGIN:VEVENT
UID:62373537-3830-4030-b938-393837646663
DTSTAMP:20260423T042946Z
DESCRIPTION:1/5 VK SPORT Rychnov nad Kněžnou\, z.s. - Svitavy A 2:0 (20\,23
 )
DTSTART;TZID=Europe/Berlin:20260308T113000
DTEND;TZID=Europe/Berlin:20260308T133000
LOCATION:Hala VOŠ a SPŠS\, U Stadionu 1166 Rychnov nad Kněžnou
SUMMARY:PA-U16M-6A: VK SPORT Rychnov nad Kněžnou\, z.s.-Svitavy A
END:VEVENT
BEGIN:VEVENT
UID:61303964-3137-4766-b731-356362396439
DTSTAMP:20260423T042946Z
DESCRIPTION:1/4 TJ Slavia HK - VK SPORT Rychnov nad Kněžnou\, z.s. 0:2 (-11
 \,-22)
DTSTART;TZID=Europe/Berlin:20260308T101500
DTEND;TZID=Europe/Berlin:20260308T121500
LOCATION:TJ Slavia Hradec Králové\, Víta Nejedlého 1216 Hradec Králové
SUMMARY:PA-U16M-6A: TJ Slavia HK-VK SPORT Rychnov nad Kněžnou\, z.s.
END:VEVENT
BEGIN:VEVENT
UID:39376337-3137-4038-b266-353336313533
DTSTAMP:20260423T042946Z
DESCRIPTION:1/1 VK SPORT Rychnov nad Kněžnou\, z.s. - Orel Letohrad 2:0 (8\
 ,9)
DTSTART;TZID=Europe/Berlin:20260329T090000
DTEND;TZID=Europe/Berlin:20260329T110000
LOCATION:Hala VOŠ a SPŠS\, U Stadionu 1166 Rychnov nad Kněžnou
SUMMARY:PA-U16M-7AB1: VK SPORT Rychnov nad Kněžnou\, z.s.-Orel Letohrad
END:VEVENT
BEGIN:VEVENT
UID:38633434-3765-4361-b863-376562626436
DTSTAMP:20260423T042946Z
DESCRIPTION:1/3 VK SPORT Rychnov nad Kněžnou\, z.s. - Volejbalový klub Choc
 eň\, z.s. 2:0 (12\,13)
DTSTART;TZID=Europe/Berlin:20251012T110000
DTEND;TZID=Europe/Berlin:20251012T130000
LOCATION:Hala VOŠ a SPŠS\, U Stadionu 1166 Rychnov nad Kněžnou
SUMMARY:PA-U16M-1B: VK SPORT Rychnov nad Kněžnou\, z.s.-Volejbalový klub Ch
 oceň\, z.s.
END:VEVENT
BEGIN:VEVENT
UID:38643833-3534-4163-b134-636336356564
DTSTAMP:20260423T042946Z
DESCRIPTION:1/1 Volejbalový klub Hronov\, z.s. - VK SPORT Rychnov nad Kněžn
 ou\, z.s. 0:2 (-19\,-14)
DTSTART;TZID=Europe/Berlin:20251012T090000
DTEND;TZID=Europe/Berlin:20251012T110000
LOCATION:ZŠ Hronov\, Palackého 162 Hronov
SUMMARY:PA-U16M-1B: Volejbalový klub Hronov\, z.s.-VK SPORT Rychnov nad Kně
 žnou\, z.s.
END:VEVENT
BEGIN:VEVENT
UID:64663037-6531-4961-b761-393935376662
DTSTAMP:20260423T042946Z
DESCRIPTION:1/5 Spartak Velké Meziříčí - VK SPORT Rychnov nad Kněžnou\, z.s
 . 0:2 (-12\,-20)
DTSTART;TZID=Europe/Berlin:20251012T130000
DTEND;TZID=Europe/Berlin:20251012T150000
LOCATION:ZŠ Komenského\, Komenského 1 Velké Meziříčí
SUMMARY:PA-U16M-1B: Spartak Velké Meziříčí-VK SPORT Rychnov nad Kněžnou\, z
 .s.
END:VEVENT
BEGIN:VEVENT
UID:33336139-3734-4535-b462-386438396234
DTSTAMP:20260423T042946Z
DESCRIPTION:1/1 VK SPORT Rychnov nad Kněžnou\, z.s. - Volejbalový klub Hron
 ov\, z.s. 2:0 (20\,9)
DTSTART;TZID=Europe/Berlin:20260329T113000
DTEND;TZID=Europe/Berlin:20260329T133000
LOCATION:Hala VOŠ a SPŠS\, U Stadionu 1166 Rychnov nad Kněžnou
SUMMARY:PA-U16M-7AM2: VK SPORT Rychnov nad Kněžnou\, z.s.-Volejbalový klub 
 Hronov\, z.s.
END:VEVENT
BEGIN:VEVENT
UID:39653330-3466-4336-b661-303665643835
DTSTAMP:20260423T042946Z
DESCRIPTION:1/1 VK SPORT Rychnov nad Kněžnou\, z.s. - Svitavy A 0:2 (-18\,-
 23)
DTSTART;TZID=Europe/Berlin:20260329T134500
DTEND;TZID=Europe/Berlin:20260329T154500
LOCATION:Hala VOŠ a SPŠS\, U Stadionu 1166 Rychnov nad Kněžnou
SUMMARY:PA-U16M-7AB3: VK SPORT Rychnov nad Kněžnou\, z.s.-Svitavy A
END:VEVENT
END:VCALENDAR
