BEGIN:VCALENDAR
VERSION:2.0
PRODID:-//VK SPORT Rychnov nad Kněžnou, z.s.89047//NONSGML kigkonsult.se iCalcreator 2.41.80//
CALSCALE:GREGORIAN
UID:35356661-3332-4434-a637-373864646661
BEGIN:VEVENT
UID:30323539-6666-4566-a535-323366333864
DTSTAMP:20260422T070108Z
DESCRIPTION:2/2 VK SPORT Rychnov nad Kněžnou\, z.s. - TJ Slavia HK 2:0 (14\
 ,12)
DTSTART;TZID=Europe/Berlin:20250920T100000
DTEND;TZID=Europe/Berlin:20250920T120000
LOCATION:Hala VOŠ a SPŠS\, U Stadionu 1166 Rychnov nad Kněžnou
SUMMARY:HK-U14M-1A: VK SPORT Rychnov nad Kněžnou\, z.s.-TJ Slavia HK
END:VEVENT
BEGIN:VEVENT
UID:62336634-6435-4830-b738-396633313265
DTSTAMP:20260422T070108Z
DESCRIPTION:5/5 VK SPORT Rychnov nad Kněžnou\, z.s. - TJ Slavia HK 2:0 (11\
 ,8)
DTSTART;TZID=Europe/Berlin:20250920T130000
DTEND;TZID=Europe/Berlin:20250920T150000
LOCATION:Hala VOŠ a SPŠS\, U Stadionu 1166 Rychnov nad Kněžnou
SUMMARY:HK-U14M-1A: VK SPORT Rychnov nad Kněžnou\, z.s.-TJ Slavia HK
END:VEVENT
BEGIN:VEVENT
UID:66316261-6366-4866-b731-633161653561
DTSTAMP:20260422T070108Z
DESCRIPTION:3/3 Volejbalový klub Hronov\, z.s. - VK SPORT Rychnov nad Kněžn
 ou\, z.s. 0:2 (-8\,-7)
DTSTART;TZID=Europe/Berlin:20250920T110000
DTEND;TZID=Europe/Berlin:20250920T130000
LOCATION:ZŠ Hronov\, Palackého 162 Hronov
SUMMARY:HK-U14M-1A: Volejbalový klub Hronov\, z.s.-VK SPORT Rychnov nad Kně
 žnou\, z.s.
END:VEVENT
BEGIN:VEVENT
UID:38353363-3062-4233-b666-623635356661
DTSTAMP:20260422T070108Z
DESCRIPTION:6/6 Volejbalový klub Hronov\, z.s. - VK SPORT Rychnov nad Kněžn
 ou\, z.s. 0:2 (-13\,-12)
DTSTART;TZID=Europe/Berlin:20250920T140000
DTEND;TZID=Europe/Berlin:20250920T160000
LOCATION:ZŠ Hronov\, Palackého 162 Hronov
SUMMARY:HK-U14M-1A: Volejbalový klub Hronov\, z.s.-VK SPORT Rychnov nad Kně
 žnou\, z.s.
END:VEVENT
BEGIN:VEVENT
UID:66313234-3762-4264-b539-626565346631
DTSTAMP:20260422T070108Z
DESCRIPTION:2/2 VK SPORT Rychnov nad Kněžnou\, z.s. - Volejbalový klub Hron
 ov\, z.s. 2:0 (7\,10)
DTSTART;TZID=Europe/Berlin:20251004T090000
DTEND;TZID=Europe/Berlin:20251004T110000
LOCATION:Hala VOŠ a SPŠS\, U Stadionu 1166 Rychnov nad Kněžnou
SUMMARY:HK-U14M-2A: VK SPORT Rychnov nad Kněžnou\, z.s.-Volejbalový klub Hr
 onov\, z.s.
END:VEVENT
BEGIN:VEVENT
UID:32333135-3634-4730-b833-333337623563
DTSTAMP:20260422T070108Z
DESCRIPTION:4/4 VK SPORT Rychnov nad Kněžnou\, z.s. - Volejbalový oddíl TJ 
 Lanškroun\, z.s. 2:0 (20\,8)
DTSTART;TZID=Europe/Berlin:20251004T100000
DTEND;TZID=Europe/Berlin:20251004T120000
LOCATION:Hala VOŠ a SPŠS\, U Stadionu 1166 Rychnov nad Kněžnou
SUMMARY:HK-U14M-2A: VK SPORT Rychnov nad Kněžnou\, z.s.-Volejbalový oddíl T
 J Lanškroun\, z.s.
END:VEVENT
BEGIN:VEVENT
UID:39613665-3265-4338-b335-323966666536
DTSTAMP:20260422T070108Z
DESCRIPTION:6/6 Česká Třebová A - VK SPORT Rychnov nad Kněžnou\, z.s. 0:2 (
 -6\,-6)
DTSTART;TZID=Europe/Berlin:20251004T110000
DTEND;TZID=Europe/Berlin:20251004T130000
LOCATION:Základní škola Česká Třebová Habrmanova\, Na Skále\, Na Skále 566 
 Česká Třebová
SUMMARY:HK-U14M-2A: Česká Třebová A-VK SPORT Rychnov nad Kněžnou\, z.s.
END:VEVENT
BEGIN:VEVENT
UID:39623239-3661-4936-b936-623533383830
DTSTAMP:20260422T070108Z
DESCRIPTION:1/1 VK SPORT Rychnov nad Kněžnou\, z.s. - TJ Jiskra Havlíčkův B
 rod 2:0 (12\,10)\nRychnov
DTSTART;TZID=Europe/Berlin:20251122T090000
DTEND;TZID=Europe/Berlin:20251122T110000
LOCATION:Hala VOŠ a SPŠS\, U Stadionu 1166 Rychnov nad Kněžnou
SUMMARY:HK-U14M-3A: VK SPORT Rychnov nad Kněžnou\, z.s.-TJ Jiskra Havlíčkův
  Brod
END:VEVENT
BEGIN:VEVENT
UID:36393634-3366-4135-a636-353839383232
DTSTAMP:20260422T070108Z
DESCRIPTION:4/4 VK SPORT Rychnov nad Kněžnou\, z.s. - Volejbalový oddíl TJ 
 Lanškroun\, z.s. 2:0 (11\,14)
DTSTART;TZID=Europe/Berlin:20251122T100000
DTEND;TZID=Europe/Berlin:20251122T120000
LOCATION:Hala VOŠ a SPŠS\, U Stadionu 1166 Rychnov nad Kněžnou
SUMMARY:HK-U14M-3A: VK SPORT Rychnov nad Kněžnou\, z.s.-Volejbalový oddíl T
 J Lanškroun\, z.s.
END:VEVENT
BEGIN:VEVENT
UID:64323336-6666-4339-b839-303763326237
DTSTAMP:20260422T070108Z
DESCRIPTION:6/6 Česká Třebová A - VK SPORT Rychnov nad Kněžnou\, z.s. 0:2 (
 -7\,-21)
DTSTART;TZID=Europe/Berlin:20251122T110000
DTEND;TZID=Europe/Berlin:20251122T130000
LOCATION:Základní škola Česká Třebová Habrmanova\, Na Skále\, Na Skále 566 
 Česká Třebová
SUMMARY:HK-U14M-3A: Česká Třebová A-VK SPORT Rychnov nad Kněžnou\, z.s.
END:VEVENT
BEGIN:VEVENT
UID:62316135-3034-4235-b435-323337343732
DTSTAMP:20260422T070108Z
DESCRIPTION:1/1 VK SPORT Rychnov nad Kněžnou\, z.s. - TJ Svitavy 2:0 (9\,15
 )\nSvitavy
DTSTART;TZID=Europe/Berlin:20251213T090000
DTEND;TZID=Europe/Berlin:20251213T110000
LOCATION:Hala VOŠ a SPŠS\, U Stadionu 1166 Rychnov nad Kněžnou
SUMMARY:HK-U14M-4A: VK SPORT Rychnov nad Kněžnou\, z.s.-TJ Svitavy
END:VEVENT
BEGIN:VEVENT
UID:62653731-3630-4332-b035-336537646531
DTSTAMP:20260422T070108Z
DESCRIPTION:4/4 VK SPORT Rychnov nad Kněžnou\, z.s. - Volejbalový oddíl TJ 
 Lanškroun\, z.s. 2:0 (4\,21)
DTSTART;TZID=Europe/Berlin:20251213T100000
DTEND;TZID=Europe/Berlin:20251213T120000
LOCATION:Hala VOŠ a SPŠS\, U Stadionu 1166 Rychnov nad Kněžnou
SUMMARY:HK-U14M-4A: VK SPORT Rychnov nad Kněžnou\, z.s.-Volejbalový oddíl T
 J Lanškroun\, z.s.
END:VEVENT
BEGIN:VEVENT
UID:64626361-6431-4130-a662-313764306661
DTSTAMP:20260422T070108Z
DESCRIPTION:6/6 Česká Třebová A - VK SPORT Rychnov nad Kněžnou\, z.s. 0:2 (
 -15\,-21)
DTSTART;TZID=Europe/Berlin:20251213T110000
DTEND;TZID=Europe/Berlin:20251213T130000
LOCATION:Základní škola Česká Třebová Habrmanova\, Na Skále\, Na Skále 566 
 Česká Třebová
SUMMARY:HK-U14M-4A: Česká Třebová A-VK SPORT Rychnov nad Kněžnou\, z.s.
END:VEVENT
BEGIN:VEVENT
UID:62383163-3337-4734-b566-313164353734
DTSTAMP:20260422T070108Z
DESCRIPTION:2/2 VK SPORT Rychnov nad Kněžnou\, z.s. - TJ Slavia HK 2:0 (9\,
 11)
DTSTART;TZID=Europe/Berlin:20260124T090000
DTEND;TZID=Europe/Berlin:20260124T110000
LOCATION:Hala VOŠ a SPŠS\, U Stadionu 1166 Rychnov nad Kněžnou
SUMMARY:HK-U14M-5A: VK SPORT Rychnov nad Kněžnou\, z.s.-TJ Slavia HK
END:VEVENT
BEGIN:VEVENT
UID:32656265-6532-4166-b431-653934616662
DTSTAMP:20260422T070108Z
DESCRIPTION:4/4 VK SPORT Rychnov nad Kněžnou\, z.s. - Volejbalový oddíl TJ 
 Lanškroun\, z.s. 2:0 (15\,13)
DTSTART;TZID=Europe/Berlin:20260124T100000
DTEND;TZID=Europe/Berlin:20260124T120000
LOCATION:Hala VOŠ a SPŠS\, U Stadionu 1166 Rychnov nad Kněžnou
SUMMARY:HK-U14M-5A: VK SPORT Rychnov nad Kněžnou\, z.s.-Volejbalový oddíl T
 J Lanškroun\, z.s.
END:VEVENT
BEGIN:VEVENT
UID:39613333-6434-4430-a234-316162313661
DTSTAMP:20260422T070108Z
DESCRIPTION:6/6 Česká Třebová A - VK SPORT Rychnov nad Kněžnou\, z.s. 0:2 (
 -17\,-11)
DTSTART;TZID=Europe/Berlin:20260124T110000
DTEND;TZID=Europe/Berlin:20260124T130000
LOCATION:Základní škola Česká Třebová Habrmanova\, Na Skále\, Na Skále 566 
 Česká Třebová
SUMMARY:HK-U14M-5A: Česká Třebová A-VK SPORT Rychnov nad Kněžnou\, z.s.
END:VEVENT
BEGIN:VEVENT
UID:31373736-3532-4664-a664-613433326264
DTSTAMP:20260422T070108Z
DESCRIPTION:3/6 VK SPORT Rychnov nad Kněžnou\, z.s. - Česká Třebová A 2:0 (
 10\,18)
DTSTART;TZID=Europe/Berlin:20260314T110000
DTEND;TZID=Europe/Berlin:20260314T130000
LOCATION:Hala VOŠ a SPŠS\, U Stadionu 1166 Rychnov nad Kněžnou
SUMMARY:HK-U14M-6A: VK SPORT Rychnov nad Kněžnou\, z.s.-Česká Třebová A
END:VEVENT
BEGIN:VEVENT
UID:61633231-3934-4262-b564-353565316632
DTSTAMP:20260422T070108Z
DESCRIPTION:1/2 Volejbalový oddíl TJ Lanškroun\, z.s. - VK SPORT Rychnov na
 d Kněžnou\, z.s. 0:2 (-11\,-9)
DTSTART;TZID=Europe/Berlin:20260314T090000
DTEND;TZID=Europe/Berlin:20260314T110000
LOCATION:SOŠ a SOU Lanškroun\, Sokolská 288 Lanškroun - Ostrovské Předměstí
SUMMARY:HK-U14M-6A: Volejbalový oddíl TJ Lanškroun\, z.s.-VK SPORT Rychnov 
 nad Kněžnou\, z.s.
END:VEVENT
BEGIN:VEVENT
UID:34313732-6430-4962-a261-373361653637
DTSTAMP:20260422T070108Z
DESCRIPTION:2/3 TJ Jiskra Havlíčkův Brod - VK SPORT Rychnov nad Kněžnou\, z
 .s. 1:2 (17\,-14\,-12)
DTSTART;TZID=Europe/Berlin:20260314T100000
DTEND;TZID=Europe/Berlin:20260314T120000
LOCATION:Sportovní hala TJ Jiskra\, Ledečská 3028 Havlíčkův Brod
SUMMARY:HK-U14M-6A: TJ Jiskra Havlíčkův Brod-VK SPORT Rychnov nad Kněžnou\,
  z.s.
END:VEVENT
BEGIN:VEVENT
UID:31326364-3538-4666-b631-643164656566
DTSTAMP:20260422T070108Z
DESCRIPTION:1/1 VK SPORT Rychnov nad Kněžnou\, z.s. - Volejbalový oddíl TJ 
 Lanškroun\, z.s. 2:0 (10\,20)
DTSTART;TZID=Europe/Berlin:20260411T090000
DTEND;TZID=Europe/Berlin:20260411T110000
LOCATION:Hala VOŠ a SPŠS\, U Stadionu 1166 Rychnov nad Kněžnou
SUMMARY:HK-U14M-7A: VK SPORT Rychnov nad Kněžnou\, z.s.-Volejbalový oddíl T
 J Lanškroun\, z.s.
END:VEVENT
BEGIN:VEVENT
UID:39616236-6435-4130-b466-373038643030
DTSTAMP:20260422T070108Z
DESCRIPTION:2/4 TJ Jiskra Havlíčkův Brod - VK SPORT Rychnov nad Kněžnou\, z
 .s. 0:2 (-25\,-20)
DTSTART;TZID=Europe/Berlin:20260411T100000
DTEND;TZID=Europe/Berlin:20260411T120000
LOCATION:Sportovní hala TJ Jiskra\, Ledečská 3028 Havlíčkův Brod
SUMMARY:HK-U14M-7A: TJ Jiskra Havlíčkův Brod-VK SPORT Rychnov nad Kněžnou\,
  z.s.
END:VEVENT
BEGIN:VEVENT
UID:31613662-6230-4361-b631-376665353434
DTSTAMP:20260422T070108Z
DESCRIPTION:3/5 TJ Slavia HK - VK SPORT Rychnov nad Kněžnou\, z.s. 0:2 (-20
 \,-16)
DTSTART;TZID=Europe/Berlin:20260411T110000
DTEND;TZID=Europe/Berlin:20260411T130000
LOCATION:TJ Slavia Hradec Králové\, Víta Nejedlého 1216 Hradec Králové
SUMMARY:HK-U14M-7A: TJ Slavia HK-VK SPORT Rychnov nad Kněžnou\, z.s.
END:VEVENT
BEGIN:VEVENT
UID:61303837-6563-4132-b131-646163383366
DTSTAMP:20260422T070108Z
DESCRIPTION:3/4 VK SPORT Rychnov nad Kněžnou\, z.s. - Blue Ostrava 2:0 (9\,
 7)
DTSTART;TZID=Europe/Berlin:20251206T110000
DTEND;TZID=Europe/Berlin:20251206T130000
LOCATION:Sportovní hala Brušperk\, Sportovní 584 Brušperk
SUMMARY:CP-U14M-VB: VK SPORT Rychnov nad Kněžnou\, z.s.-Blue Ostrava
END:VEVENT
BEGIN:VEVENT
UID:63616266-3062-4437-b838-343762303162
DTSTAMP:20260422T070108Z
DESCRIPTION:6/8 VK SPORT Rychnov nad Kněžnou\, z.s. - Red Frýdlant n/O 2:0 
 (10\,14)
DTSTART;TZID=Europe/Berlin:20251206T140000
DTEND;TZID=Europe/Berlin:20251206T160000
LOCATION:Sportovní hala Brušperk\, Sportovní 584 Brušperk
SUMMARY:CP-U14M-VB: VK SPORT Rychnov nad Kněžnou\, z.s.-Red Frýdlant n/O
END:VEVENT
BEGIN:VEVENT
UID:39366131-3134-4633-b033-363263383563
DTSTAMP:20260422T070108Z
DESCRIPTION:2/3 VK Ostrava\, z.s. - VK SPORT Rychnov nad Kněžnou\, z.s. 0:2
  (-14\,-16)
DTSTART;TZID=Europe/Berlin:20251206T100000
DTEND;TZID=Europe/Berlin:20251206T120000
LOCATION:Sportovní hala Brušperk\, Sportovní 584 Brušperk
SUMMARY:CP-U14M-VB: VK Ostrava\, z.s.-VK SPORT Rychnov nad Kněžnou\, z.s.
END:VEVENT
BEGIN:VEVENT
UID:36383563-6464-4933-b633-383638653632
DTSTAMP:20260422T070108Z
DESCRIPTION:5/7 VSC Zlín - VK SPORT Rychnov nad Kněžnou\, z.s. 0:2 (-16\,-1
 3)
DTSTART;TZID=Europe/Berlin:20251206T130000
DTEND;TZID=Europe/Berlin:20251206T150000
LOCATION:Sportovní hala Brušperk\, Sportovní 584 Brušperk
SUMMARY:CP-U14M-VB: VSC Zlín-VK SPORT Rychnov nad Kněžnou\, z.s.
END:VEVENT
BEGIN:VEVENT
UID:32383333-3661-4635-b634-373936393835
DTSTAMP:20260422T070108Z
DESCRIPTION:2/4 VK SPORT Rychnov nad Kněžnou\, z.s. - SK Kojetín 2016\, z.s
 . 1:1 (-21\,25)\n1A-1B o 1.-2. místo
DTSTART;TZID=Europe/Berlin:20251206T170000
DTEND;TZID=Europe/Berlin:20251206T190000
LOCATION:Sportovní hala Brušperk\, Sportovní 584 Brušperk
SUMMARY:CP-U14M-VC: VK SPORT Rychnov nad Kněžnou\, z.s.-SK Kojetín 2016\, z
 .s.
END:VEVENT
BEGIN:VEVENT
UID:35666533-6535-4362-a132-643038393665
DTSTAMP:20260422T070108Z
DESCRIPTION:1/2 Volejbalový klub Hronov\, z.s. - VK SPORT Rychnov nad Kněžn
 ou\, z.s.
DTSTART;TZID=Europe/Berlin:20260425T090000
DTEND;TZID=Europe/Berlin:20260425T110000
LOCATION:SOŠ a SOU Lanškroun\, Sokolská 288 Lanškroun - Ostrovské Předměstí
SUMMARY:MCR-U14MF: Volejbalový klub Hronov\, z.s.-VK SPORT Rychnov nad Kněž
 nou\, z.s.
END:VEVENT
BEGIN:VEVENT
UID:62646264-6561-4862-a535-373435333239
DTSTAMP:20260422T070108Z
DESCRIPTION:3/6 TJ VK DUKLA LIBEREC z.s. - VK SPORT Rychnov nad Kněžnou\, z
 .s.
DTSTART;TZID=Europe/Berlin:20260425T120000
DTEND;TZID=Europe/Berlin:20260425T140000
LOCATION:SOŠ a SOU Lanškroun\, Sokolská 288 Lanškroun - Ostrovské Předměstí
SUMMARY:MCR-U14MF: TJ VK DUKLA LIBEREC z.s.-VK SPORT Rychnov nad Kněžnou\, 
 z.s.
END:VEVENT
BEGIN:VEVENT
UID:32363131-6530-4432-b263-376232643934
DTSTAMP:20260422T070108Z
DESCRIPTION:5/10 TJ Slavia HK - VK SPORT Rychnov nad Kněžnou\, z.s.
DTSTART;TZID=Europe/Berlin:20260425T150000
DTEND;TZID=Europe/Berlin:20260425T170000
LOCATION:SOŠ a SOU Lanškroun\, Sokolská 288 Lanškroun - Ostrovské Předměstí
SUMMARY:MCR-U14MF: TJ Slavia HK-VK SPORT Rychnov nad Kněžnou\, z.s.
END:VEVENT
BEGIN:VEVENT
UID:34323064-6239-4561-b863-303030646362
DTSTAMP:20260422T070108Z
DESCRIPTION:7/14 Sokol Mn. Hradiště - VK SPORT Rychnov nad Kněžnou\, z.s.
DTSTART;TZID=Europe/Berlin:20260425T180000
DTEND;TZID=Europe/Berlin:20260425T200000
LOCATION:SOŠ a SOU Lanškroun\, Sokolská 288 Lanškroun - Ostrovské Předměstí
SUMMARY:MCR-U14MF: Sokol Mn. Hradiště-VK SPORT Rychnov nad Kněžnou\, z.s.
END:VEVENT
BEGIN:VEVENT
UID:38383535-6138-4162-b962-653132373065
DTSTAMP:20260422T070108Z
DESCRIPTION:8/15 Volejbalový oddíl TJ Lanškroun\, z.s. - VK SPORT Rychnov n
 ad Kněžnou\, z.s.
DTSTART;TZID=Europe/Berlin:20260425T193000
DTEND;TZID=Europe/Berlin:20260425T213000
LOCATION:SOŠ a SOU Lanškroun\, Sokolská 288 Lanškroun - Ostrovské Předměstí
SUMMARY:MCR-U14MF: Volejbalový oddíl TJ Lanškroun\, z.s.-VK SPORT Rychnov n
 ad Kněžnou\, z.s.
END:VEVENT
END:VCALENDAR
