BEGIN:VCALENDAR
VERSION:2.0
PRODID:-//VK SPORT Rychnov nad Kněžnou, z.s. B89051//NONSGML kigkonsult.se iCalcreator 2.41.80//
CALSCALE:GREGORIAN
UID:34323730-3530-4661-b965-643130333138
BEGIN:VEVENT
UID:63656231-3331-4535-a664-626139323730
DTSTAMP:20260422T034042Z
DESCRIPTION:1/1 SPORT Rychnov nad Kněžnou B - Ruchadlo 2:0 (18\,12)\nPoucho
 v
DTSTART;TZID=Europe/Berlin:20250928T090000
DTEND;TZID=Europe/Berlin:20250928T110000
LOCATION:Hala VOŠ a SPŠS\, U Stadionu 1166 Rychnov nad Kněžnou
SUMMARY:HK-MINI-1A: SPORT Rychnov nad Kněžnou B-Ruchadlo
END:VEVENT
BEGIN:VEVENT
UID:35303437-3636-4431-a133-626133353035
DTSTAMP:20260422T034042Z
DESCRIPTION:3/6 SPORT Rychnov nad Kněžnou B - Hronov 1:2 (13\,-23\,-8)
DTSTART;TZID=Europe/Berlin:20250928T103000
DTEND;TZID=Europe/Berlin:20250928T123000
LOCATION:Hala VOŠ a SPŠS\, U Stadionu 1166 Rychnov nad Kněžnou
SUMMARY:HK-MINI-1A: SPORT Rychnov nad Kněžnou B-Hronov
END:VEVENT
BEGIN:VEVENT
UID:62343464-6538-4936-a262-353638393763
DTSTAMP:20260422T034042Z
DESCRIPTION:6/11 SPORT Rychnov nad Kněžnou B - Sokol Pouchov 2:0 (20\,13)
DTSTART;TZID=Europe/Berlin:20250928T124500
DTEND;TZID=Europe/Berlin:20250928T144500
LOCATION:Hala VOŠ a SPŠS\, U Stadionu 1166 Rychnov nad Kněžnou
SUMMARY:HK-MINI-1A: SPORT Rychnov nad Kněžnou B-Sokol Pouchov
END:VEVENT
BEGIN:VEVENT
UID:37613766-3836-4664-a665-613734326137
DTSTAMP:20260422T034042Z
DESCRIPTION:8/16 SPORT Rychnov nad Kněžnou B - Ruchadlo 2:0 (17\,10)\nSport
  RK
DTSTART;TZID=Europe/Berlin:20251012T090000
DTEND;TZID=Europe/Berlin:20251012T110000
LOCATION:Hala VOŠ a SPŠS\, U Stadionu 1166 Rychnov nad Kněžnou
SUMMARY:HK-MINI-1A: SPORT Rychnov nad Kněžnou B-Ruchadlo
END:VEVENT
BEGIN:VEVENT
UID:63343261-3034-4537-b433-343831623363
DTSTAMP:20260422T034042Z
DESCRIPTION:11/21 SPORT Rychnov nad Kněžnou B - Hronov 2:1 (-15\,22\,10)
DTSTART;TZID=Europe/Berlin:20251012T103000
DTEND;TZID=Europe/Berlin:20251012T123000
LOCATION:Hala VOŠ a SPŠS\, U Stadionu 1166 Rychnov nad Kněžnou
SUMMARY:HK-MINI-1A: SPORT Rychnov nad Kněžnou B-Hronov
END:VEVENT
BEGIN:VEVENT
UID:63306238-3633-4731-a236-623332633137
DTSTAMP:20260422T034042Z
DESCRIPTION:13/26 SPORT Rychnov nad Kněžnou B - Sokol Pouchov 2:1 (16\,-21\
 ,10)
DTSTART;TZID=Europe/Berlin:20251012T124500
DTEND;TZID=Europe/Berlin:20251012T144500
LOCATION:Hala VOŠ a SPŠS\, U Stadionu 1166 Rychnov nad Kněžnou
SUMMARY:HK-MINI-1A: SPORT Rychnov nad Kněžnou B-Sokol Pouchov
END:VEVENT
BEGIN:VEVENT
UID:66643837-3432-4762-b138-376139666630
DTSTAMP:20260422T034042Z
DESCRIPTION:16/31 SPORT Rychnov nad Kněžnou B - Ruchadlo 2:0 (7\,18)\nZájez
 d
DTSTART;TZID=Europe/Berlin:20251109T090000
DTEND;TZID=Europe/Berlin:20251109T110000
LOCATION:Hala VOŠ a SPŠS\, U Stadionu 1166 Rychnov nad Kněžnou
SUMMARY:HK-MINI-1A: SPORT Rychnov nad Kněžnou B-Ruchadlo
END:VEVENT
BEGIN:VEVENT
UID:36636536-6538-4636-b561-633363626434
DTSTAMP:20260422T034042Z
DESCRIPTION:18/36 SPORT Rychnov nad Kněžnou B - Hronov 1:2 (23\,-18\,-9)
DTSTART;TZID=Europe/Berlin:20251109T103000
DTEND;TZID=Europe/Berlin:20251109T123000
LOCATION:Hala VOŠ a SPŠS\, U Stadionu 1166 Rychnov nad Kněžnou
SUMMARY:HK-MINI-1A: SPORT Rychnov nad Kněžnou B-Hronov
END:VEVENT
BEGIN:VEVENT
UID:64316139-3864-4166-b766-366234393535
DTSTAMP:20260422T034042Z
DESCRIPTION:21/41 SPORT Rychnov nad Kněžnou B - Sokol Pouchov 2:0 (14\,21)
DTSTART;TZID=Europe/Berlin:20251109T124500
DTEND;TZID=Europe/Berlin:20251109T144500
LOCATION:Hala VOŠ a SPŠS\, U Stadionu 1166 Rychnov nad Kněžnou
SUMMARY:HK-MINI-1A: SPORT Rychnov nad Kněžnou B-Sokol Pouchov
END:VEVENT
BEGIN:VEVENT
UID:31346261-3238-4434-b934-636233653030
DTSTAMP:20260422T034042Z
DESCRIPTION:4/8 Chlumec nad Cidlinou B - SPORT Rychnov nad Kněžnou B 2:0 (1
 2\,8)
DTSTART;TZID=Europe/Berlin:20250928T111500
DTEND;TZID=Europe/Berlin:20250928T131500
LOCATION:Slavíčkova hala\, Sokolská 795 Chlumec nad Cidlinou - Chlumec nad 
 Cidlinou IV
SUMMARY:HK-MINI-1A: Chlumec nad Cidlinou B-SPORT Rychnov nad Kněžnou B
END:VEVENT
BEGIN:VEVENT
UID:30333066-3864-4736-b863-663931303463
DTSTAMP:20260422T034042Z
DESCRIPTION:7/14 TJ Slavia HK B dívky - SPORT Rychnov nad Kněžnou B 0:2 (-1
 5\,-13)
DTSTART;TZID=Europe/Berlin:20250928T133000
DTEND;TZID=Europe/Berlin:20250928T153000
LOCATION:TJ Slavia Hradec Králové\, Víta Nejedlého 1216 Hradec Králové
SUMMARY:HK-MINI-1A: TJ Slavia HK B dívky-SPORT Rychnov nad Kněžnou B
END:VEVENT
BEGIN:VEVENT
UID:62386166-3139-4335-b337-656639646432
DTSTAMP:20260422T034042Z
DESCRIPTION:12/23 Chlumec nad Cidlinou B - SPORT Rychnov nad Kněžnou B 2:0 
 (16\,13)
DTSTART;TZID=Europe/Berlin:20251012T111500
DTEND;TZID=Europe/Berlin:20251012T131500
LOCATION:Slavíčkova hala\, Sokolská 795 Chlumec nad Cidlinou - Chlumec nad 
 Cidlinou IV
SUMMARY:HK-MINI-1A: Chlumec nad Cidlinou B-SPORT Rychnov nad Kněžnou B
END:VEVENT
BEGIN:VEVENT
UID:63363831-6165-4838-b230-633135363738
DTSTAMP:20260422T034042Z
DESCRIPTION:15/29 TJ Slavia HK B dívky - SPORT Rychnov nad Kněžnou B 0:2 (-
 11\,-14)
DTSTART;TZID=Europe/Berlin:20251012T133000
DTEND;TZID=Europe/Berlin:20251012T153000
LOCATION:TJ Slavia Hradec Králové\, Víta Nejedlého 1216 Hradec Králové
SUMMARY:HK-MINI-1A: TJ Slavia HK B dívky-SPORT Rychnov nad Kněžnou B
END:VEVENT
BEGIN:VEVENT
UID:61326430-6430-4339-b039-396537393361
DTSTAMP:20260422T034042Z
DESCRIPTION:19/38 Chlumec nad Cidlinou B - SPORT Rychnov nad Kněžnou B 2:0 
 (15\,12)
DTSTART;TZID=Europe/Berlin:20251109T111500
DTEND;TZID=Europe/Berlin:20251109T131500
LOCATION:Slavíčkova hala\, Sokolská 795 Chlumec nad Cidlinou - Chlumec nad 
 Cidlinou IV
SUMMARY:HK-MINI-1A: Chlumec nad Cidlinou B-SPORT Rychnov nad Kněžnou B
END:VEVENT
BEGIN:VEVENT
UID:61646131-3133-4135-a633-613030386230
DTSTAMP:20260422T034042Z
DESCRIPTION:22/44 TJ Slavia HK B dívky - SPORT Rychnov nad Kněžnou B 0:2 (-
 11\,-20)
DTSTART;TZID=Europe/Berlin:20251109T133000
DTEND;TZID=Europe/Berlin:20251109T153000
LOCATION:TJ Slavia Hradec Králové\, Víta Nejedlého 1216 Hradec Králové
SUMMARY:HK-MINI-1A: TJ Slavia HK B dívky-SPORT Rychnov nad Kněžnou B
END:VEVENT
END:VCALENDAR
