BEGIN:VCALENDAR
VERSION:2.0
PRODID:-//Happy Sport Opava89110//NONSGML kigkonsult.se iCalcreator 2.41.80//
CALSCALE:GREGORIAN
UID:65343638-3465-4432-a330-376536643831
BEGIN:VEVENT
UID:62663231-6331-4265-b562-313636316164
DTSTAMP:20260422T144925Z
DESCRIPTION:1/2 Happy Opava - VK Polanka 3:0 (22\,25\,16)
DTSTART;TZID=Europe/Berlin:20250927T100000
DTEND;TZID=Europe/Berlin:20250927T120000
LOCATION:Sportovní hala Obchodní akademie\, Hany Kvapilové 1656 Opava - Pře
 dměstí
SUMMARY:MS-Z: Happy Opava-VK Polanka
END:VEVENT
BEGIN:VEVENT
UID:30363161-3636-4866-a639-613837656237
DTSTAMP:20260422T144925Z
DESCRIPTION:2/6 Happy Opava - VK Polanka 3:1 (19\,-15\,25\,26)
DTSTART;TZID=Europe/Berlin:20250927T140000
DTEND;TZID=Europe/Berlin:20250927T160000
LOCATION:Sportovní hala Obchodní akademie\, Hany Kvapilové 1656 Opava - Pře
 dměstí
SUMMARY:MS-Z: Happy Opava-VK Polanka
END:VEVENT
BEGIN:VEVENT
UID:37626235-3830-4362-a335-383839626138
DTSTAMP:20260422T144925Z
DESCRIPTION:5/17 Happy Opava - VŠB - TU Ostrava 1:3 (17\,-13\,-20\,-18)
DTSTART;TZID=Europe/Berlin:20251011T100000
DTEND;TZID=Europe/Berlin:20251011T120000
LOCATION:SHŠ Husova\, Husova 507 Opava - Předměstí
SUMMARY:MS-Z: Happy Opava-VŠB - TU Ostrava
END:VEVENT
BEGIN:VEVENT
UID:61313832-6363-4663-b232-306565616136
DTSTAMP:20260422T144925Z
DESCRIPTION:6/21 Happy Opava - VŠB - TU Ostrava 1:3 (20\,-11\,-21\,-17)
DTSTART;TZID=Europe/Berlin:20251011T140000
DTEND;TZID=Europe/Berlin:20251011T160000
LOCATION:SHŠ Husova\, Husova 507 Opava - Předměstí
SUMMARY:MS-Z: Happy Opava-VŠB - TU Ostrava
END:VEVENT
BEGIN:VEVENT
UID:66346437-3735-4466-b631-303839646561
DTSTAMP:20260422T144925Z
DESCRIPTION:7/28 Happy Opava - TJ Český Těšín 3:0 (18\,23\,21)
DTSTART;TZID=Europe/Berlin:20251018T100000
DTEND;TZID=Europe/Berlin:20251018T120000
LOCATION:SHŠ Husova\, Husova 507 Opava - Předměstí
SUMMARY:MS-Z: Happy Opava-TJ Český Těšín
END:VEVENT
BEGIN:VEVENT
UID:31346661-3362-4837-a331-666330343664
DTSTAMP:20260422T144925Z
DESCRIPTION:8/32 Happy Opava - TJ Český Těšín 3:0 (16\,23\,22)
DTSTART;TZID=Europe/Berlin:20251018T140000
DTEND;TZID=Europe/Berlin:20251018T160000
LOCATION:SHŠ Husova\, Husova 507 Opava - Předměstí
SUMMARY:MS-Z: Happy Opava-TJ Český Těšín
END:VEVENT
BEGIN:VEVENT
UID:63346330-3234-4136-b338-333331623037
DTSTAMP:20260422T144925Z
DESCRIPTION:11/43 Happy Opava - TJ Hlučín 3:0 (10\,7\,10)
DTSTART;TZID=Europe/Berlin:20251130T100000
DTEND;TZID=Europe/Berlin:20251130T120000
LOCATION:SHŠ Husova\, Husova 507 Opava - Předměstí
SUMMARY:MS-Z: Happy Opava-TJ Hlučín
END:VEVENT
BEGIN:VEVENT
UID:32396637-3865-4031-b965-353233663061
DTSTAMP:20260422T144925Z
DESCRIPTION:12/47 Happy Opava - TJ Hlučín 3:0 (14\,5\,23)
DTSTART;TZID=Europe/Berlin:20251130T140000
DTEND;TZID=Europe/Berlin:20251130T160000
LOCATION:SHŠ Husova\, Husova 507 Opava - Předměstí
SUMMARY:MS-Z: Happy Opava-TJ Hlučín
END:VEVENT
BEGIN:VEVENT
UID:64646133-6636-4438-a262-656531383564
DTSTAMP:20260422T144925Z
DESCRIPTION:17/68 Happy Opava - VK Karviná 2:3 (22\,-22\,22\,-22\,-14)
DTSTART;TZID=Europe/Berlin:20260110T100000
DTEND;TZID=Europe/Berlin:20260110T120000
LOCATION:SHŠ Husova\, Husova 507 Opava - Předměstí
SUMMARY:MS-Z: Happy Opava-VK Karviná
END:VEVENT
BEGIN:VEVENT
UID:39323335-3139-4233-b631-383330666563
DTSTAMP:20260422T144925Z
DESCRIPTION:18/72 Happy Opava - VK Karviná 3:1 (12\,26\,-18\,17)
DTSTART;TZID=Europe/Berlin:20260110T140000
DTEND;TZID=Europe/Berlin:20260110T160000
LOCATION:SHŠ Husova\, Husova 507 Opava - Předměstí
SUMMARY:MS-Z: Happy Opava-VK Karviná
END:VEVENT
BEGIN:VEVENT
UID:36316563-3838-4238-b437-353630666262
DTSTAMP:20260422T144925Z
DESCRIPTION:23/90 Happy Opava - SVK Nový Jičín 0:3 (-9\,-15\,-11)
DTSTART;TZID=Europe/Berlin:20260221T100000
DTEND;TZID=Europe/Berlin:20260221T120000
LOCATION:SHŠ Husova\, Husova 507 Opava - Předměstí
SUMMARY:MS-Z: Happy Opava-SVK Nový Jičín
END:VEVENT
BEGIN:VEVENT
UID:66396134-3262-4636-b331-386335633030
DTSTAMP:20260422T144925Z
DESCRIPTION:24/94 Happy Opava - SVK Nový Jičín 3:2 (-21\,13\,-22\,19\,7)
DTSTART;TZID=Europe/Berlin:20260221T140000
DTEND;TZID=Europe/Berlin:20260221T160000
LOCATION:SHŠ Husova\, Husova 507 Opava - Předměstí
SUMMARY:MS-Z: Happy Opava-SVK Nový Jičín
END:VEVENT
BEGIN:VEVENT
UID:63373563-6432-4165-a664-646639626664
DTSTAMP:20260422T144925Z
DESCRIPTION:27/107 Happy Opava - VK Polanka 'B' 3:0 (18\,19\,17)
DTSTART;TZID=Europe/Berlin:20260321T100000
DTEND;TZID=Europe/Berlin:20260321T120000
LOCATION:SHŠ Husova\, Husova 507 Opava - Předměstí
SUMMARY:MS-Z: Happy Opava-VK Polanka 'B'
END:VEVENT
BEGIN:VEVENT
UID:36396566-3063-4461-a139-623033616233
DTSTAMP:20260422T144925Z
DESCRIPTION:28/111 Happy Opava - VK Polanka 'B' 3:0 (16\,24\,23)
DTSTART;TZID=Europe/Berlin:20260321T140000
DTEND;TZID=Europe/Berlin:20260321T160000
LOCATION:SHŠ Husova\, Husova 507 Opava - Předměstí
SUMMARY:MS-Z: Happy Opava-VK Polanka 'B'
END:VEVENT
BEGIN:VEVENT
UID:39396235-6437-4434-b530-363065666530
DTSTAMP:20260422T144925Z
DESCRIPTION:3/12 VK Karviná - Happy Opava 1:3 (-24\,27\,-17\,-23)
DTSTART;TZID=Europe/Berlin:20251004T090000
DTEND;TZID=Europe/Berlin:20251004T110000
LOCATION:Tělocvična ZŠ Družby\, tř. Družby 1383 Karviná - Nové Město
SUMMARY:MS-Z: VK Karviná-Happy Opava
END:VEVENT
BEGIN:VEVENT
UID:39393263-3662-4165-b264-646135393766
DTSTAMP:20260422T144925Z
DESCRIPTION:4/16 VK Karviná - Happy Opava 0:3 (-12\,-19\,-27)
DTSTART;TZID=Europe/Berlin:20251004T130000
DTEND;TZID=Europe/Berlin:20251004T150000
LOCATION:Tělocvična ZŠ Družby\, tř. Družby 1383 Karviná - Nové Město
SUMMARY:MS-Z: VK Karviná-Happy Opava
END:VEVENT
BEGIN:VEVENT
UID:63303061-6635-4264-b063-366661323935
DTSTAMP:20260422T144925Z
DESCRIPTION:9/34 SVK Nový Jičín - Happy Opava 3:1 (22\,13\,-20\,21)
DTSTART;TZID=Europe/Berlin:20251108T100000
DTEND;TZID=Europe/Berlin:20251108T120000
LOCATION:Hala ABC\, Purkyňova 116 Nový Jičín
SUMMARY:MS-Z: SVK Nový Jičín-Happy Opava
END:VEVENT
BEGIN:VEVENT
UID:38306261-3865-4435-b835-613330316130
DTSTAMP:20260422T144925Z
DESCRIPTION:10/38 SVK Nový Jičín - Happy Opava 3:0 (23\,20\,18)
DTSTART;TZID=Europe/Berlin:20251108T140000
DTEND;TZID=Europe/Berlin:20251108T160000
LOCATION:Hala ABC\, Purkyňova 116 Nový Jičín
SUMMARY:MS-Z: SVK Nový Jičín-Happy Opava
END:VEVENT
BEGIN:VEVENT
UID:33306532-6566-4239-b936-633062346630
DTSTAMP:20260422T144925Z
DESCRIPTION:13/51 VK Polanka 'B' - Happy Opava 0:3 (-22\,-22\,-17)
DTSTART;TZID=Europe/Berlin:20251206T090000
DTEND;TZID=Europe/Berlin:20251206T110000
LOCATION:Sportovní hala\, Heleny Salichové 1275 Ostrava - Polanka nad Odrou
SUMMARY:MS-Z: VK Polanka 'B'-Happy Opava
END:VEVENT
BEGIN:VEVENT
UID:66313066-3663-4363-a564-613639613431
DTSTAMP:20260422T144925Z
DESCRIPTION:14/55 VK Polanka 'B' - Happy Opava 2:3 (22\,-23\,-20\,16\,-13)
DTSTART;TZID=Europe/Berlin:20251206T130000
DTEND;TZID=Europe/Berlin:20251206T150000
LOCATION:Sportovní hala\, Heleny Salichové 1275 Ostrava - Polanka nad Odrou
SUMMARY:MS-Z: VK Polanka 'B'-Happy Opava
END:VEVENT
BEGIN:VEVENT
UID:37643065-6331-4633-b730-303663363239
DTSTAMP:20260422T144925Z
DESCRIPTION:15/58 VK Polanka - Happy Opava 3:2 (19\,-19\,16\,-22\,11)
DTSTART;TZID=Europe/Berlin:20251213T090000
DTEND;TZID=Europe/Berlin:20251213T110000
LOCATION:Sportovní hala\, Heleny Salichové 1275 Ostrava - Polanka nad Odrou
SUMMARY:MS-Z: VK Polanka-Happy Opava
END:VEVENT
BEGIN:VEVENT
UID:32313132-3539-4237-a439-643064333862
DTSTAMP:20260422T144925Z
DESCRIPTION:16/62 VK Polanka - Happy Opava 3:0 (20\,14\,20)
DTSTART;TZID=Europe/Berlin:20251213T130000
DTEND;TZID=Europe/Berlin:20251213T150000
LOCATION:Sportovní hala\, Heleny Salichové 1275 Ostrava - Polanka nad Odrou
SUMMARY:MS-Z: VK Polanka-Happy Opava
END:VEVENT
BEGIN:VEVENT
UID:36643165-3134-4937-b730-656665303665
DTSTAMP:20260422T144925Z
DESCRIPTION:19/73 VŠB - TU Ostrava - Happy Opava 2:3 (20\,-23\,-17\,21\,-7)
DTSTART;TZID=Europe/Berlin:20260124T090000
DTEND;TZID=Europe/Berlin:20260124T110000
LOCATION:Sportovní hala VŠB-TUO\, Studentská 6175 Ostrava - Poruba
SUMMARY:MS-Z: VŠB - TU Ostrava-Happy Opava
END:VEVENT
BEGIN:VEVENT
UID:36376530-3661-4035-b536-306437376161
DTSTAMP:20260422T144925Z
DESCRIPTION:20/77 VŠB - TU Ostrava - Happy Opava 1:3 (-20\,-21\,11\,-24)
DTSTART;TZID=Europe/Berlin:20260124T130000
DTEND;TZID=Europe/Berlin:20260124T150000
LOCATION:Sportovní hala VŠB-TUO\, Studentská 6175 Ostrava - Poruba
SUMMARY:MS-Z: VŠB - TU Ostrava-Happy Opava
END:VEVENT
BEGIN:VEVENT
UID:64353633-3165-4433-a231-356238616233
DTSTAMP:20260422T144925Z
DESCRIPTION:21/84 TJ Český Těšín - Happy Opava 0:3 (-19\,-11\,-22)
DTSTART;TZID=Europe/Berlin:20260207T090000
DTEND;TZID=Europe/Berlin:20260207T110000
LOCATION:Pink ARÉNA\, Frýdecká 690 Český Těšín
SUMMARY:MS-Z: TJ Český Těšín-Happy Opava
END:VEVENT
BEGIN:VEVENT
UID:35393435-3361-4839-b766-313134396130
DTSTAMP:20260422T144925Z
DESCRIPTION:22/88 TJ Český Těšín - Happy Opava 0:3 (-22\,-18\,-16)
DTSTART;TZID=Europe/Berlin:20260207T130000
DTEND;TZID=Europe/Berlin:20260207T150000
LOCATION:Pink ARÉNA\, Frýdecká 690 Český Těšín
SUMMARY:MS-Z: TJ Český Těšín-Happy Opava
END:VEVENT
BEGIN:VEVENT
UID:31626261-3132-4564-a636-306538616638
DTSTAMP:20260422T144925Z
DESCRIPTION:25/99 TJ Hlučín - Happy Opava 0:3 (-10\,-13\,-17)
DTSTART;TZID=Europe/Berlin:20260307T100000
DTEND;TZID=Europe/Berlin:20260307T120000
LOCATION:Hala Hlučín - Darkovičky\, Nový svět 402 Hlučín - Darkovičky
SUMMARY:MS-Z: TJ Hlučín-Happy Opava
END:VEVENT
BEGIN:VEVENT
UID:65313763-6462-4935-b036-373131343066
DTSTAMP:20260422T144925Z
DESCRIPTION:26/103 TJ Hlučín - Happy Opava 0:3 (-10\,-10\,-14)
DTSTART;TZID=Europe/Berlin:20260307T140000
DTEND;TZID=Europe/Berlin:20260307T160000
LOCATION:Hala Hlučín - Darkovičky\, Nový svět 402 Hlučín - Darkovičky
SUMMARY:MS-Z: TJ Hlučín-Happy Opava
END:VEVENT
END:VCALENDAR
