BEGIN:VCALENDAR
VERSION:2.0
PRODID:-//Volejbalový klub Choceň, z.s.89119//NONSGML kigkonsult.se iCalcreator 2.41.80//
CALSCALE:GREGORIAN
UID:65303662-3732-4537-b766-333439323565
BEGIN:VEVENT
UID:31663466-3632-4263-a633-646361656261
DTSTAMP:20260422T154732Z
DESCRIPTION:1/8 Volejbalový klub Choceň\, z.s. - TJ Slovan Moravská Třebová
 \, z.s. 2:0 (14\,18)
DTSTART;TZID=Europe/Berlin:20251005T101500
DTEND;TZID=Europe/Berlin:20251005T121500
LOCATION:Volejbalová hala \, U Koupaliště 1734 Choceň
SUMMARY:PA-U16Z-KVAL-B: Volejbalový klub Choceň\, z.s.-TJ Slovan Moravská T
 řebová\, z.s.
END:VEVENT
BEGIN:VEVENT
UID:63376636-3762-4566-a534-303435383431
DTSTAMP:20260422T154732Z
DESCRIPTION:1/2 TJ Žichlínek\, z.s. - Volejbalový klub Choceň\, z.s. 0:2 (-
 13\,-20)
DTSTART;TZID=Europe/Berlin:20251005T080000
DTEND;TZID=Europe/Berlin:20251005T100000
LOCATION:Tělocvična Žichlínek\,  Žichlínek65
SUMMARY:PA-U16Z-KVAL-B: TJ Žichlínek\, z.s.-Volejbalový klub Choceň\, z.s.
END:VEVENT
BEGIN:VEVENT
UID:34346166-3864-4038-b638-613533363333
DTSTAMP:20260422T154732Z
DESCRIPTION:1/4 Sokol Pardubice I. B - Volejbalový klub Choceň\, z.s. 1:1 (
 16\,-12)
DTSTART;TZID=Europe/Berlin:20251005T084500
DTEND;TZID=Europe/Berlin:20251005T104500
LOCATION:Sokolovna\, Jiráskova 29 Pardubice - Zelené Předměstí
SUMMARY:PA-U16Z-KVAL-B: Sokol Pardubice I. B-Volejbalový klub Choceň\, z.s.
END:VEVENT
BEGIN:VEVENT
UID:35636264-6463-4637-b534-303631633566
DTSTAMP:20260422T154732Z
DESCRIPTION:1/10 Sokol Pardubice I. A - Volejbalový klub Choceň\, z.s. 2:0 
 (14\,17)
DTSTART;TZID=Europe/Berlin:20251005T110000
DTEND;TZID=Europe/Berlin:20251005T130000
LOCATION:Sokolovna\, Jiráskova 29 Pardubice - Zelené Předměstí
SUMMARY:PA-U16Z-KVAL-B: Sokol Pardubice I. A-Volejbalový klub Choceň\, z.s.
END:VEVENT
BEGIN:VEVENT
UID:33326465-3830-4436-b637-343732653961
DTSTAMP:20260422T154732Z
DESCRIPTION:1/13 Lanškroun - Volejbalový klub Choceň\, z.s. 2:0 (22\,11)
DTSTART;TZID=Europe/Berlin:20251005T121500
DTEND;TZID=Europe/Berlin:20251005T141500
LOCATION:SOŠ a SOU Lanškroun\, Sokolská 288 Lanškroun - Ostrovské Předměstí
SUMMARY:PA-U16Z-KVAL-B: Lanškroun-Volejbalový klub Choceň\, z.s.
END:VEVENT
BEGIN:VEVENT
UID:62643936-6439-4964-b130-366432633062
DTSTAMP:20260422T154732Z
DESCRIPTION:1/1 Volejbalový klub Choceň\, z.s. - SKO Hlinsko 2:0 (20\,15)
DTSTART;TZID=Europe/Berlin:20251012T090000
DTEND;TZID=Europe/Berlin:20251012T110000
LOCATION:Volejbalová hala \, U Koupaliště 1734 Choceň
SUMMARY:PA-U16Z-1KOLO-B: Volejbalový klub Choceň\, z.s.-SKO Hlinsko
END:VEVENT
BEGIN:VEVENT
UID:34346335-3436-4739-b461-376261356635
DTSTAMP:20260422T154732Z
DESCRIPTION:1/4 Volejbalový klub Choceň\, z.s. - Tělocvičná jednota Sokol Č
 eská Třebová 0:2 (-17\,-15)
DTSTART;TZID=Europe/Berlin:20251012T090000
DTEND;TZID=Europe/Berlin:20251012T110000
LOCATION:Volejbalová hala \, U Koupaliště 1734 Choceň
SUMMARY:PA-U16Z-1KOLO-B: Volejbalový klub Choceň\, z.s.-Tělocvičná jednota 
 Sokol Česká Třebová
END:VEVENT
BEGIN:VEVENT
UID:36643438-6263-4161-b730-613337343966
DTSTAMP:20260422T154732Z
DESCRIPTION:1/6 Svitavy - Volejbalový klub Choceň\, z.s. 1:2 (22\,-14\,-11)
DTSTART;TZID=Europe/Berlin:20251012T090000
DTEND;TZID=Europe/Berlin:20251012T110000
LOCATION:Sportovní hala Na Střelnici\, Pražská 2162 Svitavy - Předměstí
SUMMARY:PA-U16Z-1KOLO-B: Svitavy-Volejbalový klub Choceň\, z.s.
END:VEVENT
BEGIN:VEVENT
UID:65343437-3664-4339-b766-623464313066
DTSTAMP:20260422T154732Z
DESCRIPTION:1/1 Volejbalový klub Choceň\, z.s. - Sokol Pardubice I. A 0:2 (
 -21\,-16)
DTSTART;TZID=Europe/Berlin:20251109T090000
DTEND;TZID=Europe/Berlin:20251109T110000
LOCATION:Volejbalová hala \, U Koupaliště 1734 Choceň
SUMMARY:PA-U16Z-2KOLO-B: Volejbalový klub Choceň\, z.s.-Sokol Pardubice I. 
 A
END:VEVENT
BEGIN:VEVENT
UID:63366561-3365-4735-b932-613331363563
DTSTAMP:20260422T154732Z
DESCRIPTION:1/4 Volejbalový klub Choceň\, z.s. - TJ Sokol Dolní Újezd 0:2 (
 -25\,-25)
DTSTART;TZID=Europe/Berlin:20251109T120000
DTEND;TZID=Europe/Berlin:20251109T140000
LOCATION:Volejbalová hala \, U Koupaliště 1734 Choceň
SUMMARY:PA-U16Z-2KOLO-B: Volejbalový klub Choceň\, z.s.-TJ Sokol Dolní Újez
 d
END:VEVENT
BEGIN:VEVENT
UID:62326361-6433-4665-b835-346566363433
DTSTAMP:20260422T154732Z
DESCRIPTION:1/6 TJ Žichlínek\, z.s. - Volejbalový klub Choceň\, z.s. 0:2 (-
 17\,-8)
DTSTART;TZID=Europe/Berlin:20251109T140000
DTEND;TZID=Europe/Berlin:20251109T160000
LOCATION:Tělocvična Žichlínek\,  Žichlínek65
SUMMARY:PA-U16Z-2KOLO-B: TJ Žichlínek\, z.s.-Volejbalový klub Choceň\, z.s.
END:VEVENT
BEGIN:VEVENT
UID:39383633-3531-4935-a566-383363613232
DTSTAMP:20260422T154732Z
DESCRIPTION:1/1 Tělocvičná jednota Sokol Česká Třebová - Volejbalový klub C
 hoceň\, z.s. 0:2 (-14\,-20)
DTSTART;TZID=Europe/Berlin:20251123T090000
DTEND;TZID=Europe/Berlin:20251123T110000
LOCATION:Hala VDA\, Na Skále 573 Česká Třebová
SUMMARY:PA-U16Z-3KOLO-B: Tělocvičná jednota Sokol Česká Třebová-Volejbalový
  klub Choceň\, z.s.
END:VEVENT
BEGIN:VEVENT
UID:36396165-6563-4563-b963-343365646663
DTSTAMP:20260422T154732Z
DESCRIPTION:1/3 TJ Slovan Moravská Třebová\, z.s. - Volejbalový klub Choceň
 \, z.s. 0:2 (-22\,-19)
DTSTART;TZID=Europe/Berlin:20251123T110000
DTEND;TZID=Europe/Berlin:20251123T130000
LOCATION:Hala VDA\, Na Skále 573 Česká Třebová
SUMMARY:PA-U16Z-3KOLO-B: TJ Slovan Moravská Třebová\, z.s.-Volejbalový klub
  Choceň\, z.s.
END:VEVENT
BEGIN:VEVENT
UID:32376130-6463-4564-b964-356565383830
DTSTAMP:20260422T154732Z
DESCRIPTION:1/5 TJ Spartak Polička\, z.s. A - Volejbalový klub Choceň\, z.s
 . 2:1 (-20\,21\,8)
DTSTART;TZID=Europe/Berlin:20251123T130000
DTEND;TZID=Europe/Berlin:20251123T150000
LOCATION:Hala VDA\, Na Skále 573 Česká Třebová
SUMMARY:PA-U16Z-3KOLO-B: TJ Spartak Polička\, z.s. A-Volejbalový klub Choce
 ň\, z.s.
END:VEVENT
BEGIN:VEVENT
UID:37613331-3938-4461-b930-393766613762
DTSTAMP:20260422T154732Z
DESCRIPTION:1/1 TJ Sokol Dolní Újezd - Volejbalový klub Choceň\, z.s. 2:0 (
 9\,16)
DTSTART;TZID=Europe/Berlin:20251214T083000
DTEND;TZID=Europe/Berlin:20251214T103000
LOCATION:tělocvična Základní školy\,  Dolní Újezd342
SUMMARY:PA-U16Z-4KOLO-A: TJ Sokol Dolní Újezd-Volejbalový klub Choceň\, z.s
 .
END:VEVENT
BEGIN:VEVENT
UID:33356631-3431-4535-b062-313138643236
DTSTAMP:20260422T154732Z
DESCRIPTION:1/4 Lanškroun - Volejbalový klub Choceň\, z.s. 2:0 (9\,13)
DTSTART;TZID=Europe/Berlin:20251214T113000
DTEND;TZID=Europe/Berlin:20251214T133000
LOCATION:tělocvična Základní školy\,  Dolní Újezd342
SUMMARY:PA-U16Z-4KOLO-A: Lanškroun-Volejbalový klub Choceň\, z.s.
END:VEVENT
BEGIN:VEVENT
UID:63336237-3162-4235-b761-643632653766
DTSTAMP:20260422T154732Z
DESCRIPTION:1/5 TJ Spartak Polička\, z.s. A - Volejbalový klub Choceň\, z.s
 . 2:0 (10\,22)
DTSTART;TZID=Europe/Berlin:20260113T161500
DTEND;TZID=Europe/Berlin:20260113T181500
LOCATION:tělocvična Základní školy\,  Dolní Újezd342
SUMMARY:PA-U16Z-4KOLO-A: TJ Spartak Polička\, z.s. A-Volejbalový klub Choce
 ň\, z.s.
END:VEVENT
BEGIN:VEVENT
UID:35336662-6333-4932-a662-363939393438
DTSTAMP:20260422T154732Z
DESCRIPTION:1/2 Volejbalový klub Choceň\, z.s. - TJ Sokol Dolní Újezd 0:2 (
 -21\,-19)
DTSTART;TZID=Europe/Berlin:20260125T090000
DTEND;TZID=Europe/Berlin:20260125T110000
LOCATION:Sportovní areál Univerzity Pardubice\, Studentská 95 Pardubice - P
 olabiny
SUMMARY:PA-U16Z-5KOLO-B: Volejbalový klub Choceň\, z.s.-TJ Sokol Dolní Újez
 d
END:VEVENT
BEGIN:VEVENT
UID:65353530-3735-4965-b530-316663353533
DTSTAMP:20260422T154732Z
DESCRIPTION:1/3 Volejbalový klub Choceň\, z.s. - TJ Slovan Moravská Třebová
 \, z.s. 2:0 (12\,12)
DTSTART;TZID=Europe/Berlin:20260125T100000
DTEND;TZID=Europe/Berlin:20260125T120000
LOCATION:Sportovní areál Univerzity Pardubice\, Studentská 95 Pardubice - P
 olabiny
SUMMARY:PA-U16Z-5KOLO-B: Volejbalový klub Choceň\, z.s.-TJ Slovan Moravská 
 Třebová\, z.s.
END:VEVENT
BEGIN:VEVENT
UID:63323037-3730-4864-a233-316433303533
DTSTAMP:20260422T154732Z
DESCRIPTION:1/5 Volejbalový klub Choceň\, z.s. - Sokol Pardubice I. A 0:2 (
 -23\,-21)
DTSTART;TZID=Europe/Berlin:20260125T110000
DTEND;TZID=Europe/Berlin:20260125T130000
LOCATION:Sportovní areál Univerzity Pardubice\, Studentská 95 Pardubice - P
 olabiny
SUMMARY:PA-U16Z-5KOLO-B: Volejbalový klub Choceň\, z.s.-Sokol Pardubice I. 
 A
END:VEVENT
BEGIN:VEVENT
UID:33333366-6533-4763-b237-323361396134
DTSTAMP:20260422T154732Z
DESCRIPTION:1/1 Volejbalový klub Choceň\, z.s. - Svitavy 0:2 (-21\,-19)
DTSTART;TZID=Europe/Berlin:20260222T090000
DTEND;TZID=Europe/Berlin:20260222T110000
LOCATION:Volejbalová hala \, U Koupaliště 1734 Choceň
SUMMARY:PA-U16Z-6KOLO-B: Volejbalový klub Choceň\, z.s.-Svitavy
END:VEVENT
BEGIN:VEVENT
UID:62333434-3936-4531-b536-353266396235
DTSTAMP:20260422T154732Z
DESCRIPTION:1/4 Volejbalový klub Choceň\, z.s. - SKO Hlinsko 1:2 (19\,-24\,
 -12)
DTSTART;TZID=Europe/Berlin:20260222T120000
DTEND;TZID=Europe/Berlin:20260222T140000
LOCATION:Volejbalová hala \, U Koupaliště 1734 Choceň
SUMMARY:PA-U16Z-6KOLO-B: Volejbalový klub Choceň\, z.s.-SKO Hlinsko
END:VEVENT
BEGIN:VEVENT
UID:38343533-6134-4562-b131-633538656339
DTSTAMP:20260422T154732Z
DESCRIPTION:1/6 Tělocvičná jednota Sokol Česká Třebová - Volejbalový klub C
 hoceň\, z.s. 0:2 (-12\,-20)
DTSTART;TZID=Europe/Berlin:20260222T140000
DTEND;TZID=Europe/Berlin:20260222T160000
LOCATION:Volejbalová hala \, U Koupaliště 1734 Choceň
SUMMARY:PA-U16Z-6KOLO-B: Tělocvičná jednota Sokol Česká Třebová-Volejbalový
  klub Choceň\, z.s.
END:VEVENT
BEGIN:VEVENT
UID:30333131-6638-4432-b666-653133663864
DTSTAMP:20260422T154732Z
DESCRIPTION:1/6 Volejbalový klub Choceň\, z.s. - Sokol Pardubice I. A 0:2 (
 -23\,-17)
DTSTART;TZID=Europe/Berlin:20260301T110000
DTEND;TZID=Europe/Berlin:20260301T130000
LOCATION:Sportovní areál Univerzity Pardubice\, Studentská 95 Pardubice - P
 olabiny
SUMMARY:PA-U16Z-7KOLO-B: Volejbalový klub Choceň\, z.s.-Sokol Pardubice I. 
 A
END:VEVENT
BEGIN:VEVENT
UID:63623632-3539-4838-a366-616639356563
DTSTAMP:20260422T154732Z
DESCRIPTION:1/2 TJ Sokol Dolní Újezd - Volejbalový klub Choceň\, z.s. 2:0 (
 10\,22)
DTSTART;TZID=Europe/Berlin:20260301T090000
DTEND;TZID=Europe/Berlin:20260301T110000
LOCATION:Sportovní areál Univerzity Pardubice\, Studentská 95 Pardubice - P
 olabiny
SUMMARY:PA-U16Z-7KOLO-B: TJ Sokol Dolní Újezd-Volejbalový klub Choceň\, z.s
 .
END:VEVENT
BEGIN:VEVENT
UID:33366335-3735-4237-a339-653137393738
DTSTAMP:20260422T154732Z
DESCRIPTION:1/3 TJ Svitavy B - Volejbalový klub Choceň\, z.s. 2:1 (21\,-20\
 ,12)
DTSTART;TZID=Europe/Berlin:20260301T100000
DTEND;TZID=Europe/Berlin:20260301T120000
LOCATION:Sportovní areál Univerzity Pardubice\, Studentská 95 Pardubice - P
 olabiny
SUMMARY:PA-U16Z-7KOLO-B: TJ Svitavy B-Volejbalový klub Choceň\, z.s.
END:VEVENT
BEGIN:VEVENT
UID:64643965-3037-4532-b233-313464386238
DTSTAMP:20260422T154732Z
DESCRIPTION:1/2 Volejbalový klub Choceň\, z.s. - Sokol Pardubice I. B 2:0 (
 20\,11)
DTSTART;TZID=Europe/Berlin:20260315T100000
DTEND;TZID=Europe/Berlin:20260315T120000
LOCATION:Tělocvična Žichlínek\,  Žichlínek65
SUMMARY:PA-U16Z-8KOLO-C: Volejbalový klub Choceň\, z.s.-Sokol Pardubice I. 
 B
END:VEVENT
BEGIN:VEVENT
UID:61643436-3166-4461-b936-316530376564
DTSTAMP:20260422T154732Z
DESCRIPTION:1/5 Volejbalový klub Choceň\, z.s. - TJ Slovan Moravská Třebová
 \, z.s. 2:0 (8\,11)
DTSTART;TZID=Europe/Berlin:20260315T130000
DTEND;TZID=Europe/Berlin:20260315T150000
LOCATION:Tělocvična Žichlínek\,  Žichlínek65
SUMMARY:PA-U16Z-8KOLO-C: Volejbalový klub Choceň\, z.s.-TJ Slovan Moravská 
 Třebová\, z.s.
END:VEVENT
BEGIN:VEVENT
UID:34613237-6531-4362-a636-316233663631
DTSTAMP:20260422T154732Z
DESCRIPTION:1/4 TJ Žichlínek\, z.s. - Volejbalový klub Choceň\, z.s. 0:2 (-
 17\,-22)
DTSTART;TZID=Europe/Berlin:20260315T120000
DTEND;TZID=Europe/Berlin:20260315T140000
LOCATION:Tělocvična Žichlínek\,  Žichlínek65
SUMMARY:PA-U16Z-8KOLO-C: TJ Žichlínek\, z.s.-Volejbalový klub Choceň\, z.s.
END:VEVENT
END:VCALENDAR
