BEGIN:VCALENDAR
VERSION:2.0
PRODID:-//TJ Slovan Varnsdorf z.s. "C"89123//NONSGML kigkonsult.se iCalcreator 2.41.80//
CALSCALE:GREGORIAN
UID:32653536-3663-4830-a332-626234656637
BEGIN:VEVENT
UID:32326337-6132-4662-a235-643166326262
DTSTAMP:20260422T221330Z
DESCRIPTION:6/16 TJ Slovan Varnsdorf z.s. 'C' - SK Ještědská Liberec z.s. '
 B' 0:2 (-12\,-14)
DTSTART;TZID=Europe/Berlin:20250921T140000
DTEND;TZID=Europe/Berlin:20250921T160000
LOCATION:Sportovní hala Varnsdorf\, Západní 2984 Varnsdorf
SUMMARY:LIB-U16Z-K-A: TJ Slovan Varnsdorf z.s. 'C'-SK Ještědská Liberec z.s
 . 'B'
END:VEVENT
BEGIN:VEVENT
UID:32386633-3134-4235-a461-623232663062
DTSTAMP:20260422T221330Z
DESCRIPTION:2/4 SK Ještědská Liberec z.s. 'A' - TJ Slovan Varnsdorf z.s. 'C
 ' 2:0 (5\,11)
DTSTART;TZID=Europe/Berlin:20250921T100000
DTEND;TZID=Europe/Berlin:20250921T120000
LOCATION:ZŠ Ještědská\, Ještědská 354 Liberec - Liberec VIII-Dolní Hanychov
SUMMARY:LIB-U16Z-K-A: SK Ještědská Liberec z.s. 'A'-TJ Slovan Varnsdorf z.s
 . 'C'
END:VEVENT
BEGIN:VEVENT
UID:31343265-6431-4138-a663-663130666632
DTSTAMP:20260422T221330Z
DESCRIPTION:4/10 Vrtule Frýdlant\, z.s. - TJ Slovan Varnsdorf z.s. 'C' 2:0 
 (14\,22)
DTSTART;TZID=Europe/Berlin:20250921T120000
DTEND;TZID=Europe/Berlin:20250921T140000
LOCATION:Střední škola hospodářská a lesnická \, Bělíkova 1387 Frýdlant
SUMMARY:LIB-U16Z-K-A: Vrtule Frýdlant\, z.s.-TJ Slovan Varnsdorf z.s. 'C'
END:VEVENT
BEGIN:VEVENT
UID:32653031-6132-4565-b034-663035646364
DTSTAMP:20260422T221330Z
DESCRIPTION:1/3 BV Vratislavice n. N - TJ Slovan Varnsdorf z.s. 'C' 2:0 (6\
 ,8)
DTSTART;TZID=Europe/Berlin:20251012T090000
DTEND;TZID=Europe/Berlin:20251012T110000
LOCATION:, Nad Školou 278 Liberec - Liberec XXX-Vratislavice nad Nisou
SUMMARY:LIB-U16Z-K-H: BV Vratislavice n. N-TJ Slovan Varnsdorf z.s. 'C'
END:VEVENT
BEGIN:VEVENT
UID:32663263-3565-4965-b961-366333666334
DTSTAMP:20260422T221330Z
DESCRIPTION:3/11 Tělovýchovná jednota SLAVIA Liberec\, z.s. - TJ Slovan Var
 nsdorf z.s. 'C' 2:0 (4\,15)
DTSTART;TZID=Europe/Berlin:20251012T110000
DTEND;TZID=Europe/Berlin:20251012T130000
LOCATION:Základní škola\, Liberec\, Sokolovská \, Sokolovská 328 Liberec - 
 Liberec XIII-Nové Pavlovice
SUMMARY:LIB-U16Z-K-H: Tělovýchovná jednota SLAVIA Liberec\, z.s.-TJ Slovan 
 Varnsdorf z.s. 'C'
END:VEVENT
BEGIN:VEVENT
UID:35653435-3037-4338-b032-333332303735
DTSTAMP:20260422T221330Z
DESCRIPTION:6/23 TJ Lokomotiva Česká Lípa - TJ Slovan Varnsdorf z.s. 'C' 1:
 2 (15\,-29\,-10)
DTSTART;TZID=Europe/Berlin:20251012T140000
DTEND;TZID=Europe/Berlin:20251012T160000
LOCATION:ZŠ Lada\, Šluknovská 2904 Česká Lípa
SUMMARY:LIB-U16Z-K-H: TJ Lokomotiva Česká Lípa-TJ Slovan Varnsdorf z.s. 'C'
END:VEVENT
BEGIN:VEVENT
UID:33623963-3538-4262-b037-633730313964
DTSTAMP:20260422T221330Z
DESCRIPTION:2/2 TJ Slovan Varnsdorf z.s. 'C' - TJ Sokol M. Hradiště 0:2 (-5
 \,-12)
DTSTART;TZID=Europe/Berlin:20251102T100000
DTEND;TZID=Europe/Berlin:20251102T120000
LOCATION:Sportovní hala Varnsdorf\, Západní 2984 Varnsdorf
SUMMARY:LIB-U16Z-1-4-L: TJ Slovan Varnsdorf z.s. 'C'-TJ Sokol M. Hradiště
END:VEVENT
BEGIN:VEVENT
UID:34326665-3664-4132-b365-303534393962
DTSTAMP:20260422T221330Z
DESCRIPTION:3/3 TJ Slovan Varnsdorf z.s. 'C' - SK Osečná\, z.s. 0:2 (-8\,-8
 )
DTSTART;TZID=Europe/Berlin:20251102T110000
DTEND;TZID=Europe/Berlin:20251102T130000
LOCATION:Sportovní hala Varnsdorf\, Západní 2984 Varnsdorf
SUMMARY:LIB-U16Z-1-4-L: TJ Slovan Varnsdorf z.s. 'C'-SK Osečná\, z.s.
END:VEVENT
BEGIN:VEVENT
UID:39366636-3733-4931-a330-326335373332
DTSTAMP:20260422T221330Z
DESCRIPTION:5/5 TJ Slovan Varnsdorf z.s. 'C' - TJ Lokomotiva Česká Lípa 0:2
  (-15\,-18)
DTSTART;TZID=Europe/Berlin:20251102T130000
DTEND;TZID=Europe/Berlin:20251102T150000
LOCATION:Sportovní hala Varnsdorf\, Západní 2984 Varnsdorf
SUMMARY:LIB-U16Z-1-4-L: TJ Slovan Varnsdorf z.s. 'C'-TJ Lokomotiva Česká Lí
 pa
END:VEVENT
BEGIN:VEVENT
UID:32316132-3933-4138-a465-643437326264
DTSTAMP:20260422T221330Z
DESCRIPTION:1/1 TJ Slovan Varnsdorf z.s. 'C' - Tělovýchovná jednota Jiskra 
 Nový Bor\, z.s. 0:2 (-23\,-18)
DTSTART;TZID=Europe/Berlin:20251123T090000
DTEND;TZID=Europe/Berlin:20251123T110000
LOCATION:Sportovní hala Varnsdorf\, Západní 2984 Varnsdorf
SUMMARY:LIB-U16Z-2-5-L: TJ Slovan Varnsdorf z.s. 'C'-Tělovýchovná jednota J
 iskra Nový Bor\, z.s.
END:VEVENT
BEGIN:VEVENT
UID:30343761-6630-4536-a335-396362336363
DTSTAMP:20260422T221330Z
DESCRIPTION:3/3 TJ Slovan Varnsdorf z.s. 'C' - SK Ještědská Liberec z.s. 'B
 ' 1:2 (-14\,24\,-8)
DTSTART;TZID=Europe/Berlin:20251123T110000
DTEND;TZID=Europe/Berlin:20251123T130000
LOCATION:Sportovní hala Varnsdorf\, Západní 2984 Varnsdorf
SUMMARY:LIB-U16Z-2-5-L: TJ Slovan Varnsdorf z.s. 'C'-SK Ještědská Liberec z
 .s. 'B'
END:VEVENT
BEGIN:VEVENT
UID:39376433-3763-4862-b731-616334333531
DTSTAMP:20260422T221330Z
DESCRIPTION:2/2 TJ Lokomotiva Česká Lípa - TJ Slovan Varnsdorf z.s. 'C' 2:0
  (13\,12)
DTSTART;TZID=Europe/Berlin:20260104T100000
DTEND;TZID=Europe/Berlin:20260104T120000
LOCATION:ZŠ Lada\, Šluknovská 2904 Česká Lípa
SUMMARY:LIB-U16Z-3-5-L: TJ Lokomotiva Česká Lípa-TJ Slovan Varnsdorf z.s. '
 C'
END:VEVENT
BEGIN:VEVENT
UID:38383962-3837-4865-b839-646535356131
DTSTAMP:20260422T221330Z
DESCRIPTION:3/3 Tělovýchovná jednota Jiskra Nový Bor\, z.s. - TJ Slovan Var
 nsdorf z.s. 'C' 2:0 (21\,15)
DTSTART;TZID=Europe/Berlin:20260104T110000
DTEND;TZID=Europe/Berlin:20260104T130000
LOCATION:Sportovní hala Františka Arnošta Nový Bor\, U hřiště 1391 Nový Bor
SUMMARY:LIB-U16Z-3-5-L: Tělovýchovná jednota Jiskra Nový Bor\, z.s.-TJ Slov
 an Varnsdorf z.s. 'C'
END:VEVENT
BEGIN:VEVENT
UID:36363534-3565-4066-a639-613936643332
DTSTAMP:20260422T221330Z
DESCRIPTION:3/3 TJ Slovan Varnsdorf z.s. 'C' - TJ Lokomotiva Česká Lípa 1:2
  (-15\,22\,-10)
DTSTART;TZID=Europe/Berlin:20260201T110000
DTEND;TZID=Europe/Berlin:20260201T130000
LOCATION:Sportovní hala Varnsdorf\, Západní 2984 Varnsdorf
SUMMARY:LIB-U16Z-4-5-L: TJ Slovan Varnsdorf z.s. 'C'-TJ Lokomotiva Česká Lí
 pa
END:VEVENT
BEGIN:VEVENT
UID:33313338-3666-4135-b430-353238666334
DTSTAMP:20260422T221330Z
DESCRIPTION:1/1 TJ Zákupy\, z.s. - TJ Slovan Varnsdorf z.s. 'C' 2:0 (18\,24
 )
DTSTART;TZID=Europe/Berlin:20260201T090000
DTEND;TZID=Europe/Berlin:20260201T110000
LOCATION:Hala ZŠ Zákupy\, Školní 347 Zákupy
SUMMARY:LIB-U16Z-4-5-L: TJ Zákupy\, z.s.-TJ Slovan Varnsdorf z.s. 'C'
END:VEVENT
BEGIN:VEVENT
UID:62323066-3630-4134-b533-643432616636
DTSTAMP:20260422T221330Z
DESCRIPTION:2/2 Tělovýchovná jednota Jiskra Nový Bor\, z.s. - TJ Slovan Var
 nsdorf z.s. 'C' 2:1 (-15\,22\,10)
DTSTART;TZID=Europe/Berlin:20260219T170000
DTEND;TZID=Europe/Berlin:20260219T190000
LOCATION:Sportovní hala Františka Arnošta Nový Bor\, U hřiště 1391 Nový Bor
SUMMARY:LIB-U16Z-5-5-L: Tělovýchovná jednota Jiskra Nový Bor\, z.s.-TJ Slov
 an Varnsdorf z.s. 'C'
END:VEVENT
BEGIN:VEVENT
UID:38313936-3330-4834-b035-356337386463
DTSTAMP:20260422T221330Z
DESCRIPTION:3/3 TJ Lokomotiva Česká Lípa - TJ Slovan Varnsdorf z.s. 'C' 0:2
  (-0\,-0)
DTSTART;TZID=Europe/Berlin:20260222T110000
DTEND;TZID=Europe/Berlin:20260222T130000
LOCATION:ZŠ Lada\, Šluknovská 2904 Česká Lípa
SUMMARY:LIB-U16Z-5-5-L: TJ Lokomotiva Česká Lípa-TJ Slovan Varnsdorf z.s. '
 C'
END:VEVENT
BEGIN:VEVENT
UID:64643130-3165-4364-b639-373036333464
DTSTAMP:20260422T221330Z
DESCRIPTION:2/2 TJ Lokomotiva Česká Lípa - TJ Slovan Varnsdorf z.s. 'C' 2:0
  (0\,0)
DTSTART;TZID=Europe/Berlin:20260321T100000
DTEND;TZID=Europe/Berlin:20260321T120000
LOCATION:ZŠ Lada\, Šluknovská 2904 Česká Lípa
SUMMARY:LIB-U16Z-F-E: TJ Lokomotiva Česká Lípa-TJ Slovan Varnsdorf z.s. 'C'
END:VEVENT
BEGIN:VEVENT
UID:30616332-3836-4139-b738-333532343635
DTSTAMP:20260422T221330Z
DESCRIPTION:3/3 Tělovýchovná jednota Jiskra Nový Bor\, z.s. - TJ Slovan Var
 nsdorf z.s. 'C' 2:0 (0\,0)
DTSTART;TZID=Europe/Berlin:20260321T110000
DTEND;TZID=Europe/Berlin:20260321T130000
LOCATION:Sportovní hala Františka Arnošta Nový Bor\, U hřiště 1391 Nový Bor
SUMMARY:LIB-U16Z-F-E: Tělovýchovná jednota Jiskra Nový Bor\, z.s.-TJ Slovan
  Varnsdorf z.s. 'C'
END:VEVENT
END:VCALENDAR
