BEGIN:VCALENDAR
VERSION:2.0
PRODID:-//VSK Staré Město89129//NONSGML kigkonsult.se iCalcreator 2.41.80//
CALSCALE:GREGORIAN
UID:33646435-6437-4234-b431-623262613638
BEGIN:VEVENT
UID:38353635-3236-4631-a133-363639373164
DTSTAMP:20260421T183714Z
DESCRIPTION:2/4 Staré Město - Uh.Hradiště 2:0 (13\,19)
DTSTART;TZID=Europe/Berlin:20250927T100000
DTEND;TZID=Europe/Berlin:20250927T120000
LOCATION:Městská sportovní hala Širůch\, Nad Hřištěm 1921 Staré Město
SUMMARY:ZLK-P-U16Z-1B: Staré Město-Uh.Hradiště
END:VEVENT
BEGIN:VEVENT
UID:61613066-6637-4235-a662-653739356636
DTSTAMP:20260421T183714Z
DESCRIPTION:3/5 Staré Město - Staré Město B 2:1 (-22\,24\,10)
DTSTART;TZID=Europe/Berlin:20250927T110000
DTEND;TZID=Europe/Berlin:20250927T130000
LOCATION:Městská sportovní hala Širůch\, Nad Hřištěm 1921 Staré Město
SUMMARY:ZLK-P-U16Z-1B: Staré Město-Staré Město B
END:VEVENT
BEGIN:VEVENT
UID:63613161-3233-4131-b732-336338663930
DTSTAMP:20260421T183714Z
DESCRIPTION:1/2 NIVNICE - Staré Město 0:2 (-6\,-13)
DTSTART;TZID=Europe/Berlin:20250927T090000
DTEND;TZID=Europe/Berlin:20250927T110000
LOCATION:Sportovní hala Nivnice\, Podohradí 888 Nivnice
SUMMARY:ZLK-P-U16Z-1B: NIVNICE-Staré Město
END:VEVENT
BEGIN:VEVENT
UID:36613564-3135-4966-a564-653939383530
DTSTAMP:20260421T183714Z
DESCRIPTION:5/10 Uh.Brod - Staré Město 0:2 (-16\,-11)
DTSTART;TZID=Europe/Berlin:20250927T130000
DTEND;TZID=Europe/Berlin:20250927T150000
LOCATION:TJ SPARTAK UHERSKÝ BROD z.s.\, U Stadionu 2295 Uherský Brod
SUMMARY:ZLK-P-U16Z-1B: Uh.Brod-Staré Město
END:VEVENT
BEGIN:VEVENT
UID:61633835-6433-4433-b563-623961323030
DTSTAMP:20260421T183714Z
DESCRIPTION:2/4 Staré Město - Zlín 1:2 (-24\,20\,-10)
DTSTART;TZID=Europe/Berlin:20260411T100000
DTEND;TZID=Europe/Berlin:20260411T120000
LOCATION:Městská sportovní hala Širůch\, Nad Hřištěm 1921 Staré Město
SUMMARY:ZLK-P-U16Z-1: Staré Město-Zlín
END:VEVENT
BEGIN:VEVENT
UID:39653031-3639-4433-a435-336532303166
DTSTAMP:20260421T183714Z
DESCRIPTION:3/5 Staré Město - AUSTIN Vsetín 1:2 (10\,-19\,-8)
DTSTART;TZID=Europe/Berlin:20260411T110000
DTEND;TZID=Europe/Berlin:20260411T130000
LOCATION:Městská sportovní hala Širůch\, Nad Hřištěm 1921 Staré Město
SUMMARY:ZLK-P-U16Z-1: Staré Město-AUSTIN Vsetín
END:VEVENT
BEGIN:VEVENT
UID:33336635-3763-4532-b339-376637313938
DTSTAMP:20260421T183714Z
DESCRIPTION:1/2 Hošťálková - Staré Město 0:2 (-16\,-5)
DTSTART;TZID=Europe/Berlin:20260411T090000
DTEND;TZID=Europe/Berlin:20260411T110000
LOCATION:ZŠ Hošťálková \,  Hošťálková380
SUMMARY:ZLK-P-U16Z-1: Hošťálková-Staré Město
END:VEVENT
BEGIN:VEVENT
UID:38623637-3135-4638-b236-336237333338
DTSTAMP:20260421T183714Z
DESCRIPTION:4/7 VC Kroměříž - Staré Město 0:2 (-21\,-21)
DTSTART;TZID=Europe/Berlin:20260411T120000
DTEND;TZID=Europe/Berlin:20260411T140000
LOCATION:ZŠ Zachar\, Albertova 4062 Kroměříž
SUMMARY:ZLK-P-U16Z-1: VC Kroměříž-Staré Město
END:VEVENT
BEGIN:VEVENT
UID:30303861-3230-4231-b461-326331313330
DTSTAMP:20260421T183714Z
DESCRIPTION:2/4 Staré Město - Zlín 0:2 (-22\,-22)
DTSTART;TZID=Europe/Berlin:20251011T100000
DTEND;TZID=Europe/Berlin:20251011T120000
LOCATION:Městská sportovní hala Širůch\, Nad Hřištěm 1921 Staré Město
SUMMARY:ZLK-U16Z-1A: Staré Město-Zlín
END:VEVENT
BEGIN:VEVENT
UID:33646632-3335-4233-b362-643263643163
DTSTAMP:20260421T183714Z
DESCRIPTION:5/9 Staré Město - VC Kroměříž 2:0 (17\,17)
DTSTART;TZID=Europe/Berlin:20251011T130000
DTEND;TZID=Europe/Berlin:20251011T150000
LOCATION:Městská sportovní hala Širůch\, Nad Hřištěm 1921 Staré Město
SUMMARY:ZLK-U16Z-1A: Staré Město-VC Kroměříž
END:VEVENT
BEGIN:VEVENT
UID:31616163-3865-4666-b363-343831336662
DTSTAMP:20260421T183714Z
DESCRIPTION:1/2 Hošťálková - Staré Město 1:2 (19\,-27\,-8)
DTSTART;TZID=Europe/Berlin:20251011T090000
DTEND;TZID=Europe/Berlin:20251011T110000
LOCATION:ZŠ Hošťálková \,  Hošťálková380
SUMMARY:ZLK-U16Z-1A: Hošťálková-Staré Město
END:VEVENT
BEGIN:VEVENT
UID:30303639-6161-4537-a464-303962373237
DTSTAMP:20260421T183714Z
DESCRIPTION:3/5 AUSTIN Vsetín - Staré Město 2:0 (22\,23)
DTSTART;TZID=Europe/Berlin:20251011T110000
DTEND;TZID=Europe/Berlin:20251011T130000
LOCATION:Sportovní hala Na Lapači\, Na Lapači 247 Vsetín - Rokytnice
SUMMARY:ZLK-U16Z-1A: AUSTIN Vsetín-Staré Město
END:VEVENT
BEGIN:VEVENT
UID:32396137-3838-4232-a464-616634653135
DTSTAMP:20260421T183714Z
DESCRIPTION:1/2 Staré Město - Zlín 0:2 (-19\,-18)
DTSTART;TZID=Europe/Berlin:20251108T090000
DTEND;TZID=Europe/Berlin:20251108T110000
LOCATION:Městská sportovní hala Širůch\, Nad Hřištěm 1921 Staré Město
SUMMARY:ZLK-U16Z-2A: Staré Město-Zlín
END:VEVENT
BEGIN:VEVENT
UID:35363733-3937-4661-a230-363932343835
DTSTAMP:20260421T183714Z
DESCRIPTION:5/9 Staré Město - AUSTIN Vsetín 2:0 (15\,15)
DTSTART;TZID=Europe/Berlin:20251108T130000
DTEND;TZID=Europe/Berlin:20251108T150000
LOCATION:Městská sportovní hala Širůch\, Nad Hřištěm 1921 Staré Město
SUMMARY:ZLK-U16Z-2A: Staré Město-AUSTIN Vsetín
END:VEVENT
BEGIN:VEVENT
UID:65323263-3864-4634-b432-656363663534
DTSTAMP:20260421T183714Z
DESCRIPTION:2/3 NIVNICE - Staré Město 0:2 (-20\,-15)
DTSTART;TZID=Europe/Berlin:20251108T100000
DTEND;TZID=Europe/Berlin:20251108T120000
LOCATION:Sportovní hala Nivnice\, Podohradí 888 Nivnice
SUMMARY:ZLK-U16Z-2A: NIVNICE-Staré Město
END:VEVENT
BEGIN:VEVENT
UID:31343765-3764-4661-a132-383063613761
DTSTAMP:20260421T183714Z
DESCRIPTION:3/6 Staré Město B - Staré Město 0:2 (-12\,-21)
DTSTART;TZID=Europe/Berlin:20251108T110000
DTEND;TZID=Europe/Berlin:20251108T130000
LOCATION:Městská sportovní hala Širůch\, Nad Hřištěm 1921 Staré Město
SUMMARY:ZLK-U16Z-2A: Staré Město B-Staré Město
END:VEVENT
BEGIN:VEVENT
UID:30643033-3936-4237-b964-346632376631
DTSTAMP:20260421T183714Z
DESCRIPTION:2/4 Staré Město - AUSTIN Vsetín 2:0 (15\,24)
DTSTART;TZID=Europe/Berlin:20251213T100000
DTEND;TZID=Europe/Berlin:20251213T120000
LOCATION:Městská sportovní hala Širůch\, Nad Hřištěm 1921 Staré Město
SUMMARY:ZLK-U16Z-3A: Staré Město-AUSTIN Vsetín
END:VEVENT
BEGIN:VEVENT
UID:64343532-3335-4134-b966-663531623137
DTSTAMP:20260421T183714Z
DESCRIPTION:3/5 Staré Město - Zlín 0:2 (-23\,-13)
DTSTART;TZID=Europe/Berlin:20251213T110000
DTEND;TZID=Europe/Berlin:20251213T130000
LOCATION:Městská sportovní hala Širůch\, Nad Hřištěm 1921 Staré Město
SUMMARY:ZLK-U16Z-3A: Staré Město-Zlín
END:VEVENT
BEGIN:VEVENT
UID:38653836-6131-4461-a638-386464393963
DTSTAMP:20260421T183714Z
DESCRIPTION:1/2 Hošťálková - Staré Město 0:2 (-12\,-17)
DTSTART;TZID=Europe/Berlin:20251213T090000
DTEND;TZID=Europe/Berlin:20251213T110000
LOCATION:ZŠ Hošťálková \,  Hošťálková380
SUMMARY:ZLK-U16Z-3A: Hošťálková-Staré Město
END:VEVENT
BEGIN:VEVENT
UID:39363130-3032-4666-a565-313465623964
DTSTAMP:20260421T183714Z
DESCRIPTION:4/7 NAPAJEDLA - Staré Město 2:0 (31\,15)
DTSTART;TZID=Europe/Berlin:20251213T120000
DTEND;TZID=Europe/Berlin:20251213T140000
LOCATION:2.ZŠ Napajedla\, Komenského 298 Napajedla
SUMMARY:ZLK-U16Z-3A: NAPAJEDLA-Staré Město
END:VEVENT
BEGIN:VEVENT
UID:32613961-3564-4035-a366-303165306337
DTSTAMP:20260421T183714Z
DESCRIPTION:8/10 Staré Město - Staré Město B 2:0 (24\,17)
DTSTART;TZID=Europe/Berlin:20260113T170000
DTEND;TZID=Europe/Berlin:20260113T190000
LOCATION:Městská sportovní hala Širůch\, Nad Hřištěm 1921 Staré Město
SUMMARY:ZLK-U16Z-4A: Staré Město-Staré Město B
END:VEVENT
BEGIN:VEVENT
UID:39363964-6535-4636-a532-313635316466
DTSTAMP:20260421T183714Z
DESCRIPTION:1/1 NAPAJEDLA - Staré Město 0:2 (-10\,-21)
DTSTART;TZID=Europe/Berlin:20260109T171500
DTEND;TZID=Europe/Berlin:20260109T191500
LOCATION:2.ZŠ Napajedla\, Komenského 298 Napajedla
SUMMARY:ZLK-U16Z-4A: NAPAJEDLA-Staré Město
END:VEVENT
BEGIN:VEVENT
UID:62323433-6264-4537-a162-376635626435
DTSTAMP:20260421T183714Z
DESCRIPTION:2/3 Zlín - Staré Město 2:0 (13\,19)
DTSTART;TZID=Europe/Berlin:20260109T181000
DTEND;TZID=Europe/Berlin:20260109T201000
LOCATION:ZŠ Okružní Zlín\, Okružní 4685 Zlín
SUMMARY:ZLK-U16Z-4A: Zlín-Staré Město
END:VEVENT
BEGIN:VEVENT
UID:30326664-3061-4331-a639-653964636637
DTSTAMP:20260421T183714Z
DESCRIPTION:6/8 Val. Meziříčí - Staré Město 0:2 (-11\,-18)
DTSTART;TZID=Europe/Berlin:20260110T120000
DTEND;TZID=Europe/Berlin:20260110T140000
LOCATION:ZŠ Šafaříkova\, Šafaříkova 726 Valašské Meziříčí
SUMMARY:ZLK-U16Z-4A: Val. Meziříčí-Staré Město
END:VEVENT
BEGIN:VEVENT
UID:39363834-6331-4639-a237-616263646631
DTSTAMP:20260421T183714Z
DESCRIPTION:2/4 Staré Město - Zlín 0:2 (-21\,-19)
DTSTART;TZID=Europe/Berlin:20260221T100000
DTEND;TZID=Europe/Berlin:20260221T120000
LOCATION:Městská sportovní hala Širůch\, Nad Hřištěm 1921 Staré Město
SUMMARY:ZLK-U16Z-5A: Staré Město-Zlín
END:VEVENT
BEGIN:VEVENT
UID:36613537-6334-4831-b164-626239363238
DTSTAMP:20260421T183714Z
DESCRIPTION:3/5 Staré Město - Uh.Hradiště 2:0 (15\,12)
DTSTART;TZID=Europe/Berlin:20260221T110000
DTEND;TZID=Europe/Berlin:20260221T130000
LOCATION:Městská sportovní hala Širůch\, Nad Hřištěm 1921 Staré Město
SUMMARY:ZLK-U16Z-5A: Staré Město-Uh.Hradiště
END:VEVENT
BEGIN:VEVENT
UID:66333066-3838-4639-b839-333962366665
DTSTAMP:20260421T183714Z
DESCRIPTION:1/2 Staré Město B - Staré Město 0:2 (-17\,-12)
DTSTART;TZID=Europe/Berlin:20260221T090000
DTEND;TZID=Europe/Berlin:20260221T110000
LOCATION:Městská sportovní hala Širůch\, Nad Hřištěm 1921 Staré Město
SUMMARY:ZLK-U16Z-5A: Staré Město B-Staré Město
END:VEVENT
BEGIN:VEVENT
UID:64363863-3531-4339-b834-363265323235
DTSTAMP:20260421T183714Z
DESCRIPTION:4/7 AUSTIN Vsetín - Staré Město 0:2 (-15\,-14)
DTSTART;TZID=Europe/Berlin:20260221T120000
DTEND;TZID=Europe/Berlin:20260221T140000
LOCATION:Sportovní hala Na Lapači\, Na Lapači 247 Vsetín - Rokytnice
SUMMARY:ZLK-U16Z-5A: AUSTIN Vsetín-Staré Město
END:VEVENT
BEGIN:VEVENT
UID:38636138-3765-4739-b733-306561646264
DTSTAMP:20260421T183714Z
DESCRIPTION:2/4 Staré Město - Zlín 2:1 (20\,-25\,4)
DTSTART;TZID=Europe/Berlin:20260314T100000
DTEND;TZID=Europe/Berlin:20260314T120000
LOCATION:Městská sportovní hala Širůch\, Nad Hřištěm 1921 Staré Město
SUMMARY:ZLK-U16Z-6A: Staré Město-Zlín
END:VEVENT
BEGIN:VEVENT
UID:37313562-3030-4639-b638-626234326538
DTSTAMP:20260421T183714Z
DESCRIPTION:3/5 Staré Město - Brumov-Bylnice 2:0 (11\,15)
DTSTART;TZID=Europe/Berlin:20260314T110000
DTEND;TZID=Europe/Berlin:20260314T130000
LOCATION:Městská sportovní hala Širůch\, Nad Hřištěm 1921 Staré Město
SUMMARY:ZLK-U16Z-6A: Staré Město-Brumov-Bylnice
END:VEVENT
BEGIN:VEVENT
UID:35343332-3862-4232-b330-633438343261
DTSTAMP:20260421T183714Z
DESCRIPTION:1/2 AUSTIN Vsetín - Staré Město 0:2 (-15\,-14)
DTSTART;TZID=Europe/Berlin:20260314T090000
DTEND;TZID=Europe/Berlin:20260314T110000
LOCATION:Sportovní hala Na Lapači\, Na Lapači 247 Vsetín - Rokytnice
SUMMARY:ZLK-U16Z-6A: AUSTIN Vsetín-Staré Město
END:VEVENT
BEGIN:VEVENT
UID:62663461-3536-4933-a566-333265323662
DTSTAMP:20260421T183714Z
DESCRIPTION:4/7 NAPAJEDLA - Staré Město 0:2 (-10\,-16)
DTSTART;TZID=Europe/Berlin:20260314T120000
DTEND;TZID=Europe/Berlin:20260314T140000
LOCATION:2.ZŠ Napajedla\, Komenského 298 Napajedla
SUMMARY:ZLK-U16Z-6A: NAPAJEDLA-Staré Město
END:VEVENT
BEGIN:VEVENT
UID:31336562-3531-4733-b938-613739303731
DTSTAMP:20260421T183714Z
DESCRIPTION:2/6 Staré Město - Č. BudějoviceChutný Pavel
DTSTART;TZID=Europe/Berlin:20260425T113000
DTEND;TZID=Europe/Berlin:20260425T133000
LOCATION:STAREZ ARÉNA VODOVA (Hala 3)\, Vodova 336 Brno - Královo Pole
SUMMARY:MCR-U16Z-B: Staré Město-Č. Budějovice
END:VEVENT
BEGIN:VEVENT
UID:31376530-3434-4236-b931-383265636437
DTSTAMP:20260421T183714Z
DESCRIPTION:3/9 Staré Město - ŽatecMyronov Vitalii
DTSTART;TZID=Europe/Berlin:20260425T124500
DTEND;TZID=Europe/Berlin:20260425T144500
LOCATION:STAREZ ARÉNA VODOVA (Hala 3)\, Vodova 336 Brno - Královo Pole
SUMMARY:MCR-U16Z-B: Staré Město-Žatec
END:VEVENT
BEGIN:VEVENT
UID:37353064-3935-4433-b938-343030316461
DTSTAMP:20260421T183714Z
DESCRIPTION:5/14 Staré Město - NymburkChutný Pavel
DTSTART;TZID=Europe/Berlin:20260425T151500
DTEND;TZID=Europe/Berlin:20260425T171500
LOCATION:STAREZ ARÉNA VODOVA (Hala 3)\, Vodova 336 Brno - Královo Pole
SUMMARY:MCR-U16Z-B: Staré Město-Nymburk
END:VEVENT
BEGIN:VEVENT
UID:63626333-6438-4838-b833-663331393061
DTSTAMP:20260421T183714Z
DESCRIPTION:1/1 K. Pole - Staré MěstoMyronov Vitalii
DTSTART;TZID=Europe/Berlin:20260425T100000
DTEND;TZID=Europe/Berlin:20260425T120000
LOCATION:STAREZ ARÉNA VODOVA (Hala 3)\, Vodova 336 Brno - Královo Pole
SUMMARY:MCR-U16Z-B: K. Pole-Staré Město
END:VEVENT
BEGIN:VEVENT
UID:64306163-3330-4331-b964-303166353865
DTSTAMP:20260421T183714Z
DESCRIPTION:9/21 Karlovy Vary - Staré MěstoPřibík Aleš\nNH: SG Botanická
DTSTART;TZID=Europe/Berlin:20260426T114500
DTEND;TZID=Europe/Berlin:20260426T134500
LOCATION:STAREZ ARÉNA VODOVA (Hala 3)\, Vodova 336 Brno - Královo Pole
SUMMARY:MCR-U16Z-B: Karlovy Vary-Staré Město
END:VEVENT
BEGIN:VEVENT
UID:63633835-6566-4230-b331-623433303463
DTSTAMP:20260421T183714Z
DESCRIPTION:10/24 Loko Plzeň - Staré MěstoPřibík Aleš\nNH: SG Botanická
DTSTART;TZID=Europe/Berlin:20260426T130000
DTEND;TZID=Europe/Berlin:20260426T150000
LOCATION:STAREZ ARÉNA VODOVA (Hala 3)\, Vodova 336 Brno - Královo Pole
SUMMARY:MCR-U16Z-B: Loko Plzeň-Staré Město
END:VEVENT
BEGIN:VEVENT
UID:61343761-3964-4838-a164-326339663533
DTSTAMP:20260421T183714Z
DESCRIPTION:12/27 H. Brod - Staré MěstoPřibík Aleš\nNH: SG Botanická
DTSTART;TZID=Europe/Berlin:20260426T153000
DTEND;TZID=Europe/Berlin:20260426T173000
LOCATION:STAREZ ARÉNA VODOVA (Hala 3)\, Vodova 336 Brno - Královo Pole
SUMMARY:MCR-U16Z-B: H. Brod-Staré Město
END:VEVENT
END:VCALENDAR
