BEGIN:VCALENDAR
VERSION:2.0
PRODID:-//TJ Zákupy, z.s.89139//NONSGML kigkonsult.se iCalcreator 2.41.80//
CALSCALE:GREGORIAN
UID:62633264-6637-4334-b737-356234613463
BEGIN:VEVENT
UID:39663765-6162-4531-b031-376431626364
DTSTAMP:20260421T164553Z
DESCRIPTION:1/3 TJ Zákupy\, z.s. - Tělovýchovná jednota SLAVIA Liberec\, z.
 s. 'B' 2:0 (21\,23)\nSportovní hala BIOS\, Sokolovská 254\, Mnichovo Hradi
 ště
DTSTART;TZID=Europe/Berlin:20250928T100000
DTEND;TZID=Europe/Berlin:20250928T120000
LOCATION:Hala ZŠ Zákupy\, Školní 347 Zákupy
SUMMARY:LIB-U22M-1: TJ Zákupy\, z.s.-Tělovýchovná jednota SLAVIA Liberec\, 
 z.s. 'B'
END:VEVENT
BEGIN:VEVENT
UID:36653933-3431-4462-b366-636165366166
DTSTAMP:20260421T164553Z
DESCRIPTION:1/5 TJ Zákupy\, z.s. - Tělovýchovná jednota SLAVIA Liberec\, z.
 s. 'C' 2:0 (14\,19)\nSportovní hala BIOS\, Sokolovská 254\, Mnichovo Hradi
 ště
DTSTART;TZID=Europe/Berlin:20250928T110000
DTEND;TZID=Europe/Berlin:20250928T130000
LOCATION:Hala ZŠ Zákupy\, Školní 347 Zákupy
SUMMARY:LIB-U22M-1: TJ Zákupy\, z.s.-Tělovýchovná jednota SLAVIA Liberec\, 
 z.s. 'C'
END:VEVENT
BEGIN:VEVENT
UID:61313636-3932-4033-b535-633364316139
DTSTAMP:20260421T164553Z
DESCRIPTION:1/8 TJ Zákupy\, z.s. - TJ Lokomotiva Česká Lípa\, z.s. 2:1 (-22
 \,23\,13)\nSportovní hala BIOS\, Sokolovská 254\, Mnichovo Hradiště
DTSTART;TZID=Europe/Berlin:20250928T120000
DTEND;TZID=Europe/Berlin:20250928T140000
LOCATION:Hala ZŠ Zákupy\, Školní 347 Zákupy
SUMMARY:LIB-U22M-1: TJ Zákupy\, z.s.-TJ Lokomotiva Česká Lípa\, z.s.
END:VEVENT
BEGIN:VEVENT
UID:31656132-6330-4163-b265-353636303137
DTSTAMP:20260421T164553Z
DESCRIPTION:1/10 TJ Zákupy\, z.s. - Sokol Mn. Hradiště 2:0 (13\,15)\nSporto
 vní hala BIOS\, Sokolovská 254\, Mnichovo Hradiště
DTSTART;TZID=Europe/Berlin:20250928T130000
DTEND;TZID=Europe/Berlin:20250928T150000
LOCATION:Hala ZŠ Zákupy\, Školní 347 Zákupy
SUMMARY:LIB-U22M-1: TJ Zákupy\, z.s.-Sokol Mn. Hradiště
END:VEVENT
BEGIN:VEVENT
UID:63373761-3037-4463-a164-393164656332
DTSTAMP:20260421T164553Z
DESCRIPTION:2/2 TJ Zákupy\, z.s. - Sokol Mn. Hradiště 1:2 (-24\,26\,-11)\nZ
 ákladní škola\, Liberec\, Aloisina výšina 642/51
DTSTART;TZID=Europe/Berlin:20251130T090000
DTEND;TZID=Europe/Berlin:20251130T110000
LOCATION:Hala ZŠ Zákupy\, Školní 347 Zákupy
SUMMARY:LIB-U22M-2: TJ Zákupy\, z.s.-Sokol Mn. Hradiště
END:VEVENT
BEGIN:VEVENT
UID:63656235-6238-4033-b038-393533383331
DTSTAMP:20260421T164553Z
DESCRIPTION:2/7 TJ Zákupy\, z.s. - Tělovýchovná jednota SLAVIA Liberec\, z.
 s. 'C' 2:0 (25\,12)\nZákladní škola\, Liberec\, Aloisina výšina 642/51
DTSTART;TZID=Europe/Berlin:20251130T120000
DTEND;TZID=Europe/Berlin:20251130T140000
LOCATION:Hala ZŠ Zákupy\, Školní 347 Zákupy
SUMMARY:LIB-U22M-2: TJ Zákupy\, z.s.-Tělovýchovná jednota SLAVIA Liberec\, 
 z.s. 'C'
END:VEVENT
BEGIN:VEVENT
UID:30336534-3232-4462-a639-663238646637
DTSTAMP:20260421T164553Z
DESCRIPTION:2/5 Tělovýchovná jednota Jiskra Nový Bor\, z.s. - TJ Zákupy\, z
 .s. 2:1 (-24\,16\,11)\nZákladní škola\, Liberec\, Aloisina výšina 642/51
DTSTART;TZID=Europe/Berlin:20251130T110000
DTEND;TZID=Europe/Berlin:20251130T130000
LOCATION:Sportovní hala Františka Arnošta Nový Bor\, U hřiště 1391 Nový Bor
SUMMARY:LIB-U22M-2: Tělovýchovná jednota Jiskra Nový Bor\, z.s.-TJ Zákupy\,
  z.s.
END:VEVENT
BEGIN:VEVENT
UID:38323230-3731-4434-b433-333063333363
DTSTAMP:20260421T164553Z
DESCRIPTION:2/9 Tělovýchovná jednota SLAVIA Liberec\, z.s. 'B' - TJ Zákupy\
 , z.s. 2:1 (-13\,22\,6)\nZákladní škola\, Liberec\, Aloisina výšina 642/51
DTSTART;TZID=Europe/Berlin:20251130T130000
DTEND;TZID=Europe/Berlin:20251130T150000
LOCATION:Základní škola\, Liberec\, Švermova 403/40\, Švermova 403 Liberec 
 - Liberec X-Františkov
SUMMARY:LIB-U22M-2: Tělovýchovná jednota SLAVIA Liberec\, z.s. 'B'-TJ Zákup
 y\, z.s.
END:VEVENT
BEGIN:VEVENT
UID:65306438-3832-4035-b862-646132666439
DTSTAMP:20260421T164553Z
DESCRIPTION:3/2 TJ Zákupy\, z.s. - Tělovýchovná jednota Jiskra Nový Bor\, z
 .s. 2:0 (20\,19)\nZákladní škola\, Liberec\, Aloisina výšina 642/51
DTSTART;TZID=Europe/Berlin:20251220T090000
DTEND;TZID=Europe/Berlin:20251220T110000
LOCATION:Hala ZŠ Zákupy\, Školní 347 Zákupy
SUMMARY:LIB-U22M-3: TJ Zákupy\, z.s.-Tělovýchovná jednota Jiskra Nový Bor\,
  z.s.
END:VEVENT
BEGIN:VEVENT
UID:31313632-6636-4539-b332-306562303936
DTSTAMP:20260421T164553Z
DESCRIPTION:3/7 TJ Zákupy\, z.s. - Tělovýchovná jednota SLAVIA Liberec\, z.
 s. 'C' 2:0 (16\,22)\nZákladní škola\, Liberec\, Aloisina výšina 642/51
DTSTART;TZID=Europe/Berlin:20251220T120000
DTEND;TZID=Europe/Berlin:20251220T140000
LOCATION:Hala ZŠ Zákupy\, Školní 347 Zákupy
SUMMARY:LIB-U22M-3: TJ Zákupy\, z.s.-Tělovýchovná jednota SLAVIA Liberec\, 
 z.s. 'C'
END:VEVENT
BEGIN:VEVENT
UID:30663366-3330-4137-b539-333332623339
DTSTAMP:20260421T164553Z
DESCRIPTION:3/5 TJ Lokomotiva Česká Lípa\, z.s. - TJ Zákupy\, z.s. 2:0 (13\
 ,23)\nZákladní škola\, Liberec\, Aloisina výšina 642/51
DTSTART;TZID=Europe/Berlin:20251220T110000
DTEND;TZID=Europe/Berlin:20251220T130000
LOCATION:ZŠ Lada\, Šluknovská 2904 Česká Lípa
SUMMARY:LIB-U22M-3: TJ Lokomotiva Česká Lípa\, z.s.-TJ Zákupy\, z.s.
END:VEVENT
BEGIN:VEVENT
UID:39333166-3536-4635-a162-336631343765
DTSTAMP:20260421T164553Z
DESCRIPTION:3/9 Tělovýchovná jednota SLAVIA Liberec\, z.s. 'B' - TJ Zákupy\
 , z.s. 2:1 (-15\,16\,12)\nZákladní škola\, Liberec\, Aloisina výšina 642/5
 1
DTSTART;TZID=Europe/Berlin:20251220T130000
DTEND;TZID=Europe/Berlin:20251220T150000
LOCATION:Základní škola\, Liberec\, Švermova 403/40\, Švermova 403 Liberec 
 - Liberec X-Františkov
SUMMARY:LIB-U22M-3: Tělovýchovná jednota SLAVIA Liberec\, z.s. 'B'-TJ Zákup
 y\, z.s.
END:VEVENT
BEGIN:VEVENT
UID:34346633-3934-4163-b965-393266303566
DTSTAMP:20260421T164553Z
DESCRIPTION:4/1 TJ Lokomotiva Česká Lípa\, z.s. - TJ Zákupy\, z.s. 2:0 (16\
 ,21)\nSportovní hala Františka Arnošta Nový Bor
DTSTART;TZID=Europe/Berlin:20260118T090000
DTEND;TZID=Europe/Berlin:20260118T110000
LOCATION:ZŠ Lada\, Šluknovská 2904 Česká Lípa
SUMMARY:LIB-U22M-4: TJ Lokomotiva Česká Lípa\, z.s.-TJ Zákupy\, z.s.
END:VEVENT
BEGIN:VEVENT
UID:36643937-3735-4138-b938-663237613065
DTSTAMP:20260421T164553Z
DESCRIPTION:4/4 Sokol Mn. Hradiště - TJ Zákupy\, z.s. 2:1 (-22\,19\,13)\nSp
 ortovní hala Františka Arnošta Nový Bor
DTSTART;TZID=Europe/Berlin:20260118T100000
DTEND;TZID=Europe/Berlin:20260118T120000
LOCATION:Sportovní hala BIOS\, Sokolovská 254 Mnichovo Hradiště
SUMMARY:LIB-U22M-4: Sokol Mn. Hradiště-TJ Zákupy\, z.s.
END:VEVENT
BEGIN:VEVENT
UID:65336131-3036-4430-b631-356531626361
DTSTAMP:20260421T164553Z
DESCRIPTION:4/7 Tělovýchovná jednota Jiskra Nový Bor\, z.s. - TJ Zákupy\, z
 .s. 2:1 (-22\,22\,7)\nSportovní hala Františka Arnošta Nový Bor
DTSTART;TZID=Europe/Berlin:20260118T120000
DTEND;TZID=Europe/Berlin:20260118T140000
LOCATION:Sportovní hala Františka Arnošta Nový Bor\, U hřiště 1391 Nový Bor
SUMMARY:LIB-U22M-4: Tělovýchovná jednota Jiskra Nový Bor\, z.s.-TJ Zákupy\,
  z.s.
END:VEVENT
BEGIN:VEVENT
UID:30623661-6134-4139-a338-353364383330
DTSTAMP:20260421T164553Z
DESCRIPTION:4/10 Tělovýchovná jednota SLAVIA Liberec\, z.s. 'B' - TJ Zákupy
 \, z.s. 2:0 (14\,16)\nSportovní hala Františka Arnošta Nový Bor
DTSTART;TZID=Europe/Berlin:20260118T130000
DTEND;TZID=Europe/Berlin:20260118T150000
LOCATION:Základní škola\, Liberec\, Švermova 403/40\, Švermova 403 Liberec 
 - Liberec X-Františkov
SUMMARY:LIB-U22M-4: Tělovýchovná jednota SLAVIA Liberec\, z.s. 'B'-TJ Zákup
 y\, z.s.
END:VEVENT
BEGIN:VEVENT
UID:63306561-3163-4637-b561-613130663132
DTSTAMP:20260421T164553Z
DESCRIPTION:6/1 TJ Lokomotiva Česká Lípa\, z.s. - TJ Zákupy\, z.s. 2:0 (21\
 ,23)\nHala ZŠ Zákupy\, Školní 347
DTSTART;TZID=Europe/Berlin:20260301T090000
DTEND;TZID=Europe/Berlin:20260301T110000
LOCATION:ZŠ Lada\, Šluknovská 2904 Česká Lípa
SUMMARY:LIB-U22M-6: TJ Lokomotiva Česká Lípa\, z.s.-TJ Zákupy\, z.s.
END:VEVENT
BEGIN:VEVENT
UID:37623031-6631-4461-b034-656632393337
DTSTAMP:20260421T164553Z
DESCRIPTION:6/4 Sokol Mn. Hradiště - TJ Zákupy\, z.s. 1:2 (-21\,24\,-10)\nH
 ala ZŠ Zákupy\, Školní 347
DTSTART;TZID=Europe/Berlin:20260301T100000
DTEND;TZID=Europe/Berlin:20260301T120000
LOCATION:Sportovní hala BIOS\, Sokolovská 254 Mnichovo Hradiště
SUMMARY:LIB-U22M-6: Sokol Mn. Hradiště-TJ Zákupy\, z.s.
END:VEVENT
BEGIN:VEVENT
UID:38323936-3833-4230-b430-316461373339
DTSTAMP:20260421T164553Z
DESCRIPTION:6/7 Tělovýchovná jednota Jiskra Nový Bor\, z.s. - TJ Zákupy\, z
 .s. 2:1 (-12\,21\,11)\nHala ZŠ Zákupy\, Školní 347
DTSTART;TZID=Europe/Berlin:20260301T120000
DTEND;TZID=Europe/Berlin:20260301T140000
LOCATION:Sportovní hala Františka Arnošta Nový Bor\, U hřiště 1391 Nový Bor
SUMMARY:LIB-U22M-6: Tělovýchovná jednota Jiskra Nový Bor\, z.s.-TJ Zákupy\,
  z.s.
END:VEVENT
BEGIN:VEVENT
UID:34646133-3530-4238-b634-613430653335
DTSTAMP:20260421T164553Z
DESCRIPTION:6/10 Tělovýchovná jednota SLAVIA Liberec\, z.s. 'C' - TJ Zákupy
 \, z.s. 0:2 (-23\,-24)\nHala ZŠ Zákupy\, Školní 347
DTSTART;TZID=Europe/Berlin:20260301T130000
DTEND;TZID=Europe/Berlin:20260301T150000
LOCATION:Základní škola\, Liberec\, Sokolovská \, Sokolovská 328 Liberec - 
 Liberec XIII-Nové Pavlovice
SUMMARY:LIB-U22M-6: Tělovýchovná jednota SLAVIA Liberec\, z.s. 'C'-TJ Zákup
 y\, z.s.
END:VEVENT
BEGIN:VEVENT
UID:36323066-3862-4234-b766-636566653034
DTSTAMP:20260421T164553Z
DESCRIPTION:7/4 TJ Zákupy\, z.s. - TJ Lokomotiva Česká Lípa\, z.s. 2:0 (19\
 ,13)\nHala ZŠ Zákupy\, Školní 347
DTSTART;TZID=Europe/Berlin:20260322T100000
DTEND;TZID=Europe/Berlin:20260322T120000
LOCATION:Hala ZŠ Zákupy\, Školní 347 Zákupy
SUMMARY:LIB-U22M-F: TJ Zákupy\, z.s.-TJ Lokomotiva Česká Lípa\, z.s.
END:VEVENT
BEGIN:VEVENT
UID:39396561-6637-4862-b966-663531666137
DTSTAMP:20260421T164553Z
DESCRIPTION:7/2 Tělovýchovná jednota Jiskra Nový Bor\, z.s. - TJ Zákupy\, z
 .s. 0:2 (-17\,-20)\nHala ZŠ Zákupy\, Školní 347
DTSTART;TZID=Europe/Berlin:20260322T090000
DTEND;TZID=Europe/Berlin:20260322T110000
LOCATION:Sportovní hala Františka Arnošta Nový Bor\, U hřiště 1391 Nový Bor
SUMMARY:LIB-U22M-F: Tělovýchovná jednota Jiskra Nový Bor\, z.s.-TJ Zákupy\,
  z.s.
END:VEVENT
BEGIN:VEVENT
UID:31343132-6166-4665-b936-653763653261
DTSTAMP:20260421T164553Z
DESCRIPTION:7/6 Sokol Mn. Hradiště - TJ Zákupy\, z.s. 1:2 (-20\,19\,-11)\nH
 ala ZŠ Zákupy\, Školní 347
DTSTART;TZID=Europe/Berlin:20260322T110000
DTEND;TZID=Europe/Berlin:20260322T130000
LOCATION:Sportovní hala BIOS\, Sokolovská 254 Mnichovo Hradiště
SUMMARY:LIB-U22M-F: Sokol Mn. Hradiště-TJ Zákupy\, z.s.
END:VEVENT
BEGIN:VEVENT
UID:36336433-3939-4038-b861-353466366136
DTSTAMP:20260421T164553Z
DESCRIPTION:7/8 Tělovýchovná jednota SLAVIA Liberec\, z.s. 'B' - TJ Zákupy\
 , z.s. 2:0 (22\,16)\nHala ZŠ Zákupy\, Školní 347
DTSTART;TZID=Europe/Berlin:20260322T120000
DTEND;TZID=Europe/Berlin:20260322T140000
LOCATION:Základní škola\, Liberec\, Švermova 403/40\, Švermova 403 Liberec 
 - Liberec X-Františkov
SUMMARY:LIB-U22M-F: Tělovýchovná jednota SLAVIA Liberec\, z.s. 'B'-TJ Zákup
 y\, z.s.
END:VEVENT
END:VCALENDAR
