BEGIN:VCALENDAR
VERSION:2.0
PRODID:-//TJ VK DUKLA LIBEREC z.s.89151//NONSGML kigkonsult.se iCalcreator 2.41.80//
CALSCALE:GREGORIAN
UID:63343030-6461-4935-b931-356633323239
BEGIN:VEVENT
UID:30313735-3564-4039-a264-393336376462
DTSTAMP:20260422T065055Z
DESCRIPTION:2/6 TJ VK DUKLA LIBEREC z.s. - TJ Bižuterie Jablonec n/N 2:1 (1
 8\,-17\,9)
DTSTART;TZID=Europe/Berlin:20251019T103000
DTEND;TZID=Europe/Berlin:20251019T123000
LOCATION:Dukla Liberec\, Jeronýmova 558 Liberec - Liberec VII-Horní Růžodol
SUMMARY:LIB-U14M-4CI: TJ VK DUKLA LIBEREC z.s.-TJ Bižuterie Jablonec n/N
END:VEVENT
BEGIN:VEVENT
UID:66303633-3164-4831-a431-346136313765
DTSTAMP:20260422T065055Z
DESCRIPTION:3/11 TJ VK DUKLA LIBEREC z.s. - Beach Vratislavice 2:0 (11\,21)
DTSTART;TZID=Europe/Berlin:20251019T124500
DTEND;TZID=Europe/Berlin:20251019T144500
LOCATION:Dukla Liberec\, Jeronýmova 558 Liberec - Liberec VII-Horní Růžodol
SUMMARY:LIB-U14M-4CI: TJ VK DUKLA LIBEREC z.s.-Beach Vratislavice
END:VEVENT
BEGIN:VEVENT
UID:32323437-3566-4163-b164-333665353462
DTSTAMP:20260422T065055Z
DESCRIPTION:3/13 TJ VK DUKLA LIBEREC z.s. - TJ Lokomotiva Česká Lípa\, z.s.
  0:2 (-15\,-25)
DTSTART;TZID=Europe/Berlin:20251019T133000
DTEND;TZID=Europe/Berlin:20251019T153000
LOCATION:Dukla Liberec\, Jeronýmova 558 Liberec - Liberec VII-Horní Růžodol
SUMMARY:LIB-U14M-4CI: TJ VK DUKLA LIBEREC z.s.-TJ Lokomotiva Česká Lípa\, z
 .s.
END:VEVENT
BEGIN:VEVENT
UID:66653861-3837-4739-b166-643835356330
DTSTAMP:20260422T065055Z
DESCRIPTION:4/18 TJ VK DUKLA LIBEREC z.s. - TJ VK DUKLA LIBEREC z.s. B 2:0 
 (18\,18)
DTSTART;TZID=Europe/Berlin:20251116T090000
DTEND;TZID=Europe/Berlin:20251116T110000
LOCATION:Dukla Liberec\, Jeronýmova 558 Liberec - Liberec VII-Horní Růžodol
SUMMARY:LIB-U14M-4CI: TJ VK DUKLA LIBEREC z.s.-TJ VK DUKLA LIBEREC z.s. B
END:VEVENT
BEGIN:VEVENT
UID:34383736-3739-4562-b238-653765636465
DTSTAMP:20260422T065055Z
DESCRIPTION:5/24 TJ VK DUKLA LIBEREC z.s. - Beach Vratislavice 2:0 (19\,12)
DTSTART;TZID=Europe/Berlin:20251116T100000
DTEND;TZID=Europe/Berlin:20251116T120000
LOCATION:Dukla Liberec\, Jeronýmova 558 Liberec - Liberec VII-Horní Růžodol
SUMMARY:LIB-U14M-4CI: TJ VK DUKLA LIBEREC z.s.-Beach Vratislavice
END:VEVENT
BEGIN:VEVENT
UID:39353733-3663-4538-b562-663662663739
DTSTAMP:20260422T065055Z
DESCRIPTION:6/27 TJ VK DUKLA LIBEREC z.s. - TJ Lokomotiva Česká Lípa\, z.s.
  2:0 (22\,20)
DTSTART;TZID=Europe/Berlin:20251116T103000
DTEND;TZID=Europe/Berlin:20251116T123000
LOCATION:Dukla Liberec\, Jeronýmova 558 Liberec - Liberec VII-Horní Růžodol
SUMMARY:LIB-U14M-4CI: TJ VK DUKLA LIBEREC z.s.-TJ Lokomotiva Česká Lípa\, z
 .s.
END:VEVENT
BEGIN:VEVENT
UID:30343131-3331-4636-a563-383766386232
DTSTAMP:20260422T065055Z
DESCRIPTION:7/34 TJ VK DUKLA LIBEREC z.s. - TJ Bižuterie Jablonec n/N 2:0 (
 23\,17)
DTSTART;TZID=Europe/Berlin:20251214T094000
DTEND;TZID=Europe/Berlin:20251214T114000
LOCATION:Dukla Liberec\, Jeronýmova 558 Liberec - Liberec VII-Horní Růžodol
SUMMARY:LIB-U14M-4CI: TJ VK DUKLA LIBEREC z.s.-TJ Bižuterie Jablonec n/N
END:VEVENT
BEGIN:VEVENT
UID:37366565-3266-4364-b064-393434306131
DTSTAMP:20260422T065055Z
DESCRIPTION:9/41 TJ VK DUKLA LIBEREC z.s. - Beach Vratislavice 2:0 (19\,19)
DTSTART;TZID=Europe/Berlin:20251214T120000
DTEND;TZID=Europe/Berlin:20251214T140000
LOCATION:Dukla Liberec\, Jeronýmova 558 Liberec - Liberec VII-Horní Růžodol
SUMMARY:LIB-U14M-4CI: TJ VK DUKLA LIBEREC z.s.-Beach Vratislavice
END:VEVENT
BEGIN:VEVENT
UID:32313964-3234-4561-b164-653835656234
DTSTAMP:20260422T065055Z
DESCRIPTION:9/43 TJ VK DUKLA LIBEREC z.s. - TJ Lokomotiva Česká Lípa\, z.s.
  1:2 (25\,-20\,-12)
DTSTART;TZID=Europe/Berlin:20251214T123000
DTEND;TZID=Europe/Berlin:20251214T143000
LOCATION:Dukla Liberec\, Jeronýmova 558 Liberec - Liberec VII-Horní Růžodol
SUMMARY:LIB-U14M-4CI: TJ VK DUKLA LIBEREC z.s.-TJ Lokomotiva Česká Lípa\, z
 .s.
END:VEVENT
BEGIN:VEVENT
UID:32633335-6461-4331-b838-326362386432
DTSTAMP:20260422T065055Z
DESCRIPTION:10/50 TJ VK DUKLA LIBEREC z.s. - Beach Vratislavice 2:0 (23\,23
 )
DTSTART;TZID=Europe/Berlin:20260118T100000
DTEND;TZID=Europe/Berlin:20260118T120000
LOCATION:Dukla Liberec\, Jeronýmova 558 Liberec - Liberec VII-Horní Růžodol
SUMMARY:LIB-U14M-4CI: TJ VK DUKLA LIBEREC z.s.-Beach Vratislavice
END:VEVENT
BEGIN:VEVENT
UID:61653132-3264-4261-b137-613761353737
DTSTAMP:20260422T065055Z
DESCRIPTION:11/55 TJ VK DUKLA LIBEREC z.s. - TJ Lokomotiva Česká Lípa\, z.s
 . 0:2 (-19\,-17)
DTSTART;TZID=Europe/Berlin:20260118T110000
DTEND;TZID=Europe/Berlin:20260118T130000
LOCATION:Dukla Liberec\, Jeronýmova 558 Liberec - Liberec VII-Horní Růžodol
SUMMARY:LIB-U14M-4CI: TJ VK DUKLA LIBEREC z.s.-TJ Lokomotiva Česká Lípa\, z
 .s.
END:VEVENT
BEGIN:VEVENT
UID:30333632-6565-4332-b562-316463343334
DTSTAMP:20260422T065055Z
DESCRIPTION:12/56 TJ VK DUKLA LIBEREC z.s. - TJ Bižuterie Jablonec n/N 2:0 
 (20\,18)
DTSTART;TZID=Europe/Berlin:20260118T113000
DTEND;TZID=Europe/Berlin:20260118T133000
LOCATION:Dukla Liberec\, Jeronýmova 558 Liberec - Liberec VII-Horní Růžodol
SUMMARY:LIB-U14M-4CI: TJ VK DUKLA LIBEREC z.s.-TJ Bižuterie Jablonec n/N
END:VEVENT
BEGIN:VEVENT
UID:34363831-3936-4032-b531-653466613930
DTSTAMP:20260422T065055Z
DESCRIPTION:13/61 TJ VK DUKLA LIBEREC z.s. - Sokol Mn. Hradiště 0:2 (-21\,-
 17)
DTSTART;TZID=Europe/Berlin:20260208T090000
DTEND;TZID=Europe/Berlin:20260208T110000
LOCATION:Dukla Liberec\, Jeronýmova 558 Liberec - Liberec VII-Horní Růžodol
SUMMARY:LIB-U14M-4CI: TJ VK DUKLA LIBEREC z.s.-Sokol Mn. Hradiště
END:VEVENT
BEGIN:VEVENT
UID:64396462-3338-4465-b966-653738323036
DTSTAMP:20260422T065055Z
DESCRIPTION:14/70 TJ VK DUKLA LIBEREC z.s. - TJ Bižuterie Jablonec n/N 2:0 
 (17\,20)
DTSTART;TZID=Europe/Berlin:20260208T130000
DTEND;TZID=Europe/Berlin:20260208T150000
LOCATION:Dukla Liberec\, Jeronýmova 558 Liberec - Liberec VII-Horní Růžodol
SUMMARY:LIB-U14M-4CI: TJ VK DUKLA LIBEREC z.s.-TJ Bižuterie Jablonec n/N
END:VEVENT
BEGIN:VEVENT
UID:39646261-3664-4164-b230-333833353939
DTSTAMP:20260422T065055Z
DESCRIPTION:16/78 TJ VK DUKLA LIBEREC z.s. - TJ VK DUKLA LIBEREC z.s. B 1:2
  (-20\,20\,-14)
DTSTART;TZID=Europe/Berlin:20260329T090000
DTEND;TZID=Europe/Berlin:20260329T110000
LOCATION:Dukla Liberec\, Jeronýmova 558 Liberec - Liberec VII-Horní Růžodol
SUMMARY:LIB-U14M-4CI: TJ VK DUKLA LIBEREC z.s.-TJ VK DUKLA LIBEREC z.s. B
END:VEVENT
BEGIN:VEVENT
UID:34306663-6464-4261-b039-346565653531
DTSTAMP:20260422T065055Z
DESCRIPTION:17/83 TJ VK DUKLA LIBEREC z.s. - Beach Vratislavice 2:0 (20\,25
 )
DTSTART;TZID=Europe/Berlin:20260329T110000
DTEND;TZID=Europe/Berlin:20260329T130000
LOCATION:Dukla Liberec\, Jeronýmova 558 Liberec - Liberec VII-Horní Růžodol
SUMMARY:LIB-U14M-4CI: TJ VK DUKLA LIBEREC z.s.-Beach Vratislavice
END:VEVENT
BEGIN:VEVENT
UID:64363030-3437-4562-a433-373138383931
DTSTAMP:20260422T065055Z
DESCRIPTION:1/2 Sokol Mn. Hradiště - TJ VK DUKLA LIBEREC z.s. 2:1 (-23\,16\
 ,11)
DTSTART;TZID=Europe/Berlin:20251019T090000
DTEND;TZID=Europe/Berlin:20251019T110000
LOCATION:Sportovní hala BIOS\, Sokolovská 254 Mnichovo Hradiště
SUMMARY:LIB-U14M-4CI: Sokol Mn. Hradiště-TJ VK DUKLA LIBEREC z.s.
END:VEVENT
BEGIN:VEVENT
UID:66323031-6135-4436-b831-376339373666
DTSTAMP:20260422T065055Z
DESCRIPTION:2/9 TJ VK DUKLA LIBEREC z.s. B - TJ VK DUKLA LIBEREC z.s. 0:2 (
 -23\,-20)
DTSTART;TZID=Europe/Berlin:20251019T120000
DTEND;TZID=Europe/Berlin:20251019T140000
LOCATION:Dukla Liberec\, Jeronýmova 558 Liberec - Liberec VII-Horní Růžodol
SUMMARY:LIB-U14M-4CI: TJ VK DUKLA LIBEREC z.s. B-TJ VK DUKLA LIBEREC z.s.
END:VEVENT
BEGIN:VEVENT
UID:33353363-3135-4365-b262-663065353765
DTSTAMP:20260422T065055Z
DESCRIPTION:4/19 Sokol Mn. Hradiště - TJ VK DUKLA LIBEREC z.s. 2:0 (18\,24)
DTSTART;TZID=Europe/Berlin:20251116T093000
DTEND;TZID=Europe/Berlin:20251116T113000
LOCATION:Sportovní hala BIOS\, Sokolovská 254 Mnichovo Hradiště
SUMMARY:LIB-U14M-4CI: Sokol Mn. Hradiště-TJ VK DUKLA LIBEREC z.s.
END:VEVENT
BEGIN:VEVENT
UID:35643430-3135-4636-b661-313136396564
DTSTAMP:20260422T065055Z
DESCRIPTION:6/29 TJ Bižuterie Jablonec n/N - TJ VK DUKLA LIBEREC z.s. 2:1 (
 19\,-22\,14)
DTSTART;TZID=Europe/Berlin:20251116T110000
DTEND;TZID=Europe/Berlin:20251116T130000
LOCATION:Městská sportovní hala\, U Přehrady 4747 Jablonec nad Nisou
SUMMARY:LIB-U14M-4CI: TJ Bižuterie Jablonec n/N-TJ VK DUKLA LIBEREC z.s.
END:VEVENT
BEGIN:VEVENT
UID:62376564-3338-4139-b035-613463376630
DTSTAMP:20260422T065055Z
DESCRIPTION:7/32 TJ VK DUKLA LIBEREC z.s. B - TJ VK DUKLA LIBEREC z.s. 0:2 
 (-17\,-20)
DTSTART;TZID=Europe/Berlin:20251214T090000
DTEND;TZID=Europe/Berlin:20251214T110000
LOCATION:Dukla Liberec\, Jeronýmova 558 Liberec - Liberec VII-Horní Růžodol
SUMMARY:LIB-U14M-4CI: TJ VK DUKLA LIBEREC z.s. B-TJ VK DUKLA LIBEREC z.s.
END:VEVENT
BEGIN:VEVENT
UID:35346464-3333-4033-b437-663265636233
DTSTAMP:20260422T065055Z
DESCRIPTION:8/39 Sokol Mn. Hradiště - TJ VK DUKLA LIBEREC z.s. 2:0 (23\,22)
DTSTART;TZID=Europe/Berlin:20251214T114000
DTEND;TZID=Europe/Berlin:20251214T134000
LOCATION:Sportovní hala BIOS\, Sokolovská 254 Mnichovo Hradiště
SUMMARY:LIB-U14M-4CI: Sokol Mn. Hradiště-TJ VK DUKLA LIBEREC z.s.
END:VEVENT
BEGIN:VEVENT
UID:36396336-3832-4163-a632-383739643236
DTSTAMP:20260422T065055Z
DESCRIPTION:10/47 TJ VK DUKLA LIBEREC z.s. B - TJ VK DUKLA LIBEREC z.s. 0:2
  (-0\,-0)
DTSTART;TZID=Europe/Berlin:20260118T090000
DTEND;TZID=Europe/Berlin:20260118T110000
LOCATION:Dukla Liberec\, Jeronýmova 558 Liberec - Liberec VII-Horní Růžodol
SUMMARY:LIB-U14M-4CI: TJ VK DUKLA LIBEREC z.s. B-TJ VK DUKLA LIBEREC z.s.
END:VEVENT
BEGIN:VEVENT
UID:38306536-3430-4530-b039-313839633862
DTSTAMP:20260422T065055Z
DESCRIPTION:10/49 Sokol Mn. Hradiště - TJ VK DUKLA LIBEREC z.s. 2:0 (20\,22
 )
DTSTART;TZID=Europe/Berlin:20260118T093000
DTEND;TZID=Europe/Berlin:20260118T113000
LOCATION:Sportovní hala BIOS\, Sokolovská 254 Mnichovo Hradiště
SUMMARY:LIB-U14M-4CI: Sokol Mn. Hradiště-TJ VK DUKLA LIBEREC z.s.
END:VEVENT
BEGIN:VEVENT
UID:63383565-3737-4339-a539-356536663432
DTSTAMP:20260422T065055Z
DESCRIPTION:13/65 Beach Vratislavice - TJ VK DUKLA LIBEREC z.s. 0:2 (-13\,-
 14)
DTSTART;TZID=Europe/Berlin:20260208T110000
DTEND;TZID=Europe/Berlin:20260208T130000
LOCATION:, Nad Školou 278 Liberec - Liberec XXX-Vratislavice nad Nisou
SUMMARY:LIB-U14M-4CI: Beach Vratislavice-TJ VK DUKLA LIBEREC z.s.
END:VEVENT
BEGIN:VEVENT
UID:33326236-3731-4230-b162-333037623038
DTSTAMP:20260422T065055Z
DESCRIPTION:14/69 TJ Lokomotiva Česká Lípa\, z.s. - TJ VK DUKLA LIBEREC z.s
 . 0:2 (-16\,-18)
DTSTART;TZID=Europe/Berlin:20260208T130000
DTEND;TZID=Europe/Berlin:20260208T150000
LOCATION:ZŠ Lada\, Šluknovská 2904 Česká Lípa
SUMMARY:LIB-U14M-4CI: TJ Lokomotiva Česká Lípa\, z.s.-TJ VK DUKLA LIBEREC z
 .s.
END:VEVENT
BEGIN:VEVENT
UID:36393830-3634-4733-b033-343165333337
DTSTAMP:20260422T065055Z
DESCRIPTION:15/72 TJ VK DUKLA LIBEREC z.s. B - TJ VK DUKLA LIBEREC z.s. 0:2
  (-0\,-0)
DTSTART;TZID=Europe/Berlin:20260208T000000
DTEND;TZID=Europe/Berlin:20260208T020000
LOCATION:Dukla Liberec\, Jeronýmova 558 Liberec - Liberec VII-Horní Růžodol
SUMMARY:LIB-U14M-4CI: TJ VK DUKLA LIBEREC z.s. B-TJ VK DUKLA LIBEREC z.s.
END:VEVENT
BEGIN:VEVENT
UID:32373636-6363-4533-b366-626539356237
DTSTAMP:20260422T065055Z
DESCRIPTION:17/81 Sokol Mn. Hradiště - TJ VK DUKLA LIBEREC z.s. 2:0 (15\,15
 )
DTSTART;TZID=Europe/Berlin:20260329T100000
DTEND;TZID=Europe/Berlin:20260329T120000
LOCATION:Sportovní hala BIOS\, Sokolovská 254 Mnichovo Hradiště
SUMMARY:LIB-U14M-4CI: Sokol Mn. Hradiště-TJ VK DUKLA LIBEREC z.s.
END:VEVENT
BEGIN:VEVENT
UID:62663262-6565-4938-a561-333135663438
DTSTAMP:20260422T065055Z
DESCRIPTION:18/86 TJ Lokomotiva Česká Lípa\, z.s. - TJ VK DUKLA LIBEREC z.s
 . 2:0 (21\,20)
DTSTART;TZID=Europe/Berlin:20260329T120000
DTEND;TZID=Europe/Berlin:20260329T140000
LOCATION:ZŠ Lada\, Šluknovská 2904 Česká Lípa
SUMMARY:LIB-U14M-4CI: TJ Lokomotiva Česká Lípa\, z.s.-TJ VK DUKLA LIBEREC z
 .s.
END:VEVENT
BEGIN:VEVENT
UID:37306533-6462-4465-b433-656566616438
DTSTAMP:20260422T065055Z
DESCRIPTION:18/89 TJ Bižuterie Jablonec n/N - TJ VK DUKLA LIBEREC z.s. 2:0 
 (22\,15)
DTSTART;TZID=Europe/Berlin:20260329T130000
DTEND;TZID=Europe/Berlin:20260329T150000
LOCATION:Městská sportovní hala\, U Přehrady 4747 Jablonec nad Nisou
SUMMARY:LIB-U14M-4CI: TJ Bižuterie Jablonec n/N-TJ VK DUKLA LIBEREC z.s.
END:VEVENT
END:VCALENDAR
