BEGIN:VCALENDAR
VERSION:2.0
PRODID:-//VKM RÉMA Rychnov nad Kněžnou89157//NONSGML kigkonsult.se iCalcreator 2.41.80//
CALSCALE:GREGORIAN
UID:36653365-6335-4339-b730-326434613863
BEGIN:VEVENT
UID:39346538-3062-4934-a233-396435313838
DTSTAMP:20260422T052730Z
DESCRIPTION:1/1 RÉMA Rychnov - Slavia H.Králové 1:2 (-12\,22\,-9)\npoř: RÉM
 A RK
DTSTART;TZID=Europe/Berlin:20250921T090000
DTEND;TZID=Europe/Berlin:20250921T110000
LOCATION:Sportovní hala\, Palackého 1234 Červený Kostelec
SUMMARY:HK-U16Z-ZA: RÉMA Rychnov-Slavia H.Králové
END:VEVENT
BEGIN:VEVENT
UID:61623439-6163-4863-b466-343663616136
DTSTAMP:20260422T052730Z
DESCRIPTION:1/3 RÉMA Rychnov - Nechanice 0:2 (-10\,-7)
DTSTART;TZID=Europe/Berlin:20250921T110000
DTEND;TZID=Europe/Berlin:20250921T130000
LOCATION:Sportovní hala\, Palackého 1234 Červený Kostelec
SUMMARY:HK-U16Z-ZA: RÉMA Rychnov-Nechanice
END:VEVENT
BEGIN:VEVENT
UID:33356261-3636-4630-b835-626461363532
DTSTAMP:20260422T052730Z
DESCRIPTION:1/6 RÉMA Rychnov - Červený Kostelec 1:2 (-20\,19\,-15)
DTSTART;TZID=Europe/Berlin:20250921T140000
DTEND;TZID=Europe/Berlin:20250921T160000
LOCATION:Sportovní hala\, Palackého 1234 Červený Kostelec
SUMMARY:HK-U16Z-ZA: RÉMA Rychnov-Červený Kostelec
END:VEVENT
BEGIN:VEVENT
UID:61636365-3336-4832-b037-336334363636
DTSTAMP:20260422T052730Z
DESCRIPTION:2/9 RÉMA Rychnov - Nechanice 0:2 (-19\,-15)
DTSTART;TZID=Europe/Berlin:20251005T111500
DTEND;TZID=Europe/Berlin:20251005T131500
LOCATION:Sportovní hala\, Palackého 1234 Červený Kostelec
SUMMARY:HK-U16Z-ZA: RÉMA Rychnov-Nechanice
END:VEVENT
BEGIN:VEVENT
UID:64646132-6361-4436-b931-356137646132
DTSTAMP:20260422T052730Z
DESCRIPTION:3/17 RÉMA Rychnov - Nechanice 0:2 (-19\,-22)
DTSTART;TZID=Europe/Berlin:20251102T123000
DTEND;TZID=Europe/Berlin:20251102T143000
LOCATION:Sportovní hala\, Palackého 1234 Červený Kostelec
SUMMARY:HK-U16Z-ZA: RÉMA Rychnov-Nechanice
END:VEVENT
BEGIN:VEVENT
UID:32313130-3466-4633-a536-316463353935
DTSTAMP:20260422T052730Z
DESCRIPTION:4/19 RÉMA Rychnov - Slavia H.Králové 0:2 (-8\,-19)\npoř: NECHAN
 ICE
DTSTART;TZID=Europe/Berlin:20251011T100000
DTEND;TZID=Europe/Berlin:20251011T120000
LOCATION:Sportovní hala\, Palackého 1234 Červený Kostelec
SUMMARY:HK-U16Z-ZA: RÉMA Rychnov-Slavia H.Králové
END:VEVENT
BEGIN:VEVENT
UID:36396234-3835-4366-b632-626262333136
DTSTAMP:20260422T052730Z
DESCRIPTION:2/8 Slavia H.Králové - RÉMA Rychnov 2:0 (17\,23)
DTSTART;TZID=Europe/Berlin:20251005T100000
DTEND;TZID=Europe/Berlin:20251005T120000
LOCATION:Sportovní hala\, Palackého 1234 Červený Kostelec
SUMMARY:HK-U16Z-ZA: Slavia H.Králové-RÉMA Rychnov
END:VEVENT
BEGIN:VEVENT
UID:63646136-3337-4532-b962-653761366135
DTSTAMP:20260422T052730Z
DESCRIPTION:2/11 Červený Kostelec - RÉMA Rychnov 2:1 (16\,-18\,9)
DTSTART;TZID=Europe/Berlin:20251005T130000
DTEND;TZID=Europe/Berlin:20251005T150000
LOCATION:Sportovní hala\, Palackého 1234 Červený Kostelec
SUMMARY:HK-U16Z-ZA: Červený Kostelec-RÉMA Rychnov
END:VEVENT
BEGIN:VEVENT
UID:34363164-6632-4137-a436-316266313632
DTSTAMP:20260422T052730Z
DESCRIPTION:3/14 Slavia H.Králové - RÉMA Rychnov 2:0 (18\,13)
DTSTART;TZID=Europe/Berlin:20251102T090000
DTEND;TZID=Europe/Berlin:20251102T110000
LOCATION:Sportovní hala\, Palackého 1234 Červený Kostelec
SUMMARY:HK-U16Z-ZA: Slavia H.Králové-RÉMA Rychnov
END:VEVENT
BEGIN:VEVENT
UID:33373732-6533-4861-b563-666265313235
DTSTAMP:20260422T052730Z
DESCRIPTION:3/15 Červený Kostelec - RÉMA Rychnov 2:0 (25\,12)
DTSTART;TZID=Europe/Berlin:20251102T110000
DTEND;TZID=Europe/Berlin:20251102T130000
LOCATION:Sportovní hala\, Palackého 1234 Červený Kostelec
SUMMARY:HK-U16Z-ZA: Červený Kostelec-RÉMA Rychnov
END:VEVENT
BEGIN:VEVENT
UID:35396631-6134-4830-a237-336134383036
DTSTAMP:20260422T052730Z
DESCRIPTION:4/21 Červený Kostelec - RÉMA Rychnov 1:2 (21\,-16\,-8)
DTSTART;TZID=Europe/Berlin:20251011T110000
DTEND;TZID=Europe/Berlin:20251011T130000
LOCATION:Sportovní hala\, Palackého 1234 Červený Kostelec
SUMMARY:HK-U16Z-ZA: Červený Kostelec-RÉMA Rychnov
END:VEVENT
BEGIN:VEVENT
UID:35613737-3234-4731-a337-643636316339
DTSTAMP:20260422T052730Z
DESCRIPTION:4/24 Nechanice - RÉMA Rychnov 2:0 (10\,14)
DTSTART;TZID=Europe/Berlin:20251011T130000
DTEND;TZID=Europe/Berlin:20251011T150000
LOCATION:Sportovní hala\, Palackého 1234 Červený Kostelec
SUMMARY:HK-U16Z-ZA: Nechanice-RÉMA Rychnov
END:VEVENT
BEGIN:VEVENT
UID:37376137-6464-4035-b831-396232386265
DTSTAMP:20260422T052730Z
DESCRIPTION:1/1 RÉMA Rychnov - Doudleby n.O. 3:0 (11\,10\,4)\nna 3.vítězné
DTSTART;TZID=Europe/Berlin:20251116T090500
DTEND;TZID=Europe/Berlin:20251116T110500
LOCATION:Hala VOŠ a SPŠS\, U Stadionu 1166 Rychnov nad Kněžnou
SUMMARY:HK-U16Z-1FD: RÉMA Rychnov-Doudleby n.O.
END:VEVENT
BEGIN:VEVENT
UID:64303535-6433-4635-a161-333762346239
DTSTAMP:20260422T052730Z
DESCRIPTION:1/3 RÉMA Rychnov - Staré M.Náchod 3:1 (-23\,20\,14\,14)
DTSTART;TZID=Europe/Berlin:20251116T130000
DTEND;TZID=Europe/Berlin:20251116T150000
LOCATION:Hala VOŠ a SPŠS\, U Stadionu 1166 Rychnov nad Kněžnou
SUMMARY:HK-U16Z-1FD: RÉMA Rychnov-Staré M.Náchod
END:VEVENT
BEGIN:VEVENT
UID:36373164-3938-4761-b532-623937363263
DTSTAMP:20260422T052730Z
DESCRIPTION:1/4 RÉMA Rychnov - B.Třemešná 2:1 (-25\,14\,11)
DTSTART;TZID=Europe/Berlin:20251123T090000
DTEND;TZID=Europe/Berlin:20251123T110000
LOCATION:ZŠ Hronov\, Palackého 162 Hronov
SUMMARY:HK-U16Z-2FC: RÉMA Rychnov-B.Třemešná
END:VEVENT
BEGIN:VEVENT
UID:36326130-6439-4239-b436-386634383461
DTSTAMP:20260422T052730Z
DESCRIPTION:1/1 Hronov - RÉMA Rychnov 0:2 (-16\,-17)\npoř: HRONOV
DTSTART;TZID=Europe/Berlin:20251123T090000
DTEND;TZID=Europe/Berlin:20251123T110000
LOCATION:ZŠ Hronov\, Palackého 162 Hronov
SUMMARY:HK-U16Z-2FC: Hronov-RÉMA Rychnov
END:VEVENT
BEGIN:VEVENT
UID:66386130-3138-4139-b036-313337626161
DTSTAMP:20260422T052730Z
DESCRIPTION:1/5 Chlumec/.C. - RÉMA Rychnov 0:2 (-17\,-24)
DTSTART;TZID=Europe/Berlin:20251123T090000
DTEND;TZID=Europe/Berlin:20251123T110000
LOCATION:ZŠ Hronov\, Palackého 162 Hronov
SUMMARY:HK-U16Z-2FC: Chlumec/.C.-RÉMA Rychnov
END:VEVENT
BEGIN:VEVENT
UID:32386438-3133-4461-b636-383832353665
DTSTAMP:20260422T052730Z
DESCRIPTION:1/1 RÉMA Rychnov - Slavia H.Králové 0:2 (-14\,-15)
DTSTART;TZID=Europe/Berlin:20251214T090000
DTEND;TZID=Europe/Berlin:20251214T110000
LOCATION:Sportovní hala R.Šebrleho\, Hrdinů odboje 36 Rychnov nad Kněžnou
SUMMARY:HK-U16Z-3FB: RÉMA Rychnov-Slavia H.Králové
END:VEVENT
BEGIN:VEVENT
UID:66363961-3338-4437-b438-393034633739
DTSTAMP:20260422T052730Z
DESCRIPTION:1/6 RÉMA Rychnov - Nová Paka 0:2 (-24\,-14)
DTSTART;TZID=Europe/Berlin:20251214T140000
DTEND;TZID=Europe/Berlin:20251214T160000
LOCATION:Sportovní hala R.Šebrleho\, Hrdinů odboje 36 Rychnov nad Kněžnou
SUMMARY:HK-U16Z-3FB: RÉMA Rychnov-Nová Paka
END:VEVENT
BEGIN:VEVENT
UID:38393632-6535-4364-b763-363865343762
DTSTAMP:20260422T052730Z
DESCRIPTION:1/3 Červený Kostelec - RÉMA Rychnov 2:1 (-24\,9\,15)
DTSTART;TZID=Europe/Berlin:20251214T110000
DTEND;TZID=Europe/Berlin:20251214T130000
LOCATION:Sportovní hala R.Šebrleho\, Hrdinů odboje 36 Rychnov nad Kněžnou
SUMMARY:HK-U16Z-3FB: Červený Kostelec-RÉMA Rychnov
END:VEVENT
BEGIN:VEVENT
UID:38636263-3431-4136-b564-653934623739
DTSTAMP:20260422T052730Z
DESCRIPTION:1/2 RÉMA Rychnov - Hronov 1:2 (22\,-21\,-8)
DTSTART;TZID=Europe/Berlin:20260111T100000
DTEND;TZID=Europe/Berlin:20260111T120000
LOCATION:Sokolovna Studenec\,  Studenec59
SUMMARY:HK-U16Z-4FC: RÉMA Rychnov-Hronov
END:VEVENT
BEGIN:VEVENT
UID:31623737-6333-4438-b432-333236303039
DTSTAMP:20260422T052730Z
DESCRIPTION:1/3 RÉMA Rychnov - Orel Studenec 1:2 (23\,-19\,-13)
DTSTART;TZID=Europe/Berlin:20260111T110000
DTEND;TZID=Europe/Berlin:20260111T130000
LOCATION:Sokolovna Studenec\,  Studenec59
SUMMARY:HK-U16Z-4FC: RÉMA Rychnov-Orel Studenec
END:VEVENT
BEGIN:VEVENT
UID:63366638-3462-4535-b762-393536333965
DTSTAMP:20260422T052730Z
DESCRIPTION:1/5 RÉMA Rychnov - B.Třemešná 2:0 (13\,13)
DTSTART;TZID=Europe/Berlin:20260111T130000
DTEND;TZID=Europe/Berlin:20260111T150000
LOCATION:Sokolovna Studenec\,  Studenec59
SUMMARY:HK-U16Z-4FC: RÉMA Rychnov-B.Třemešná
END:VEVENT
BEGIN:VEVENT
UID:33393431-6663-4164-a336-383634613562
DTSTAMP:20260422T052730Z
DESCRIPTION:1/1 RÉMA Rychnov - Staré M.Náchod 2:0 (24\,19)\npoř: RÉMA RK
DTSTART;TZID=Europe/Berlin:20260125T090000
DTEND;TZID=Europe/Berlin:20260125T110000
LOCATION:tělocvična ZŠ Javornická\, Javornická 1596 Rychnov nad Kněžnou
SUMMARY:HK-U16Z-5FC: RÉMA Rychnov-Staré M.Náchod
END:VEVENT
BEGIN:VEVENT
UID:34643331-3439-4334-a463-653034343932
DTSTAMP:20260422T052730Z
DESCRIPTION:1/6 RÉMA Rychnov - Chlumec/.C. 2:0 (16\,21)
DTSTART;TZID=Europe/Berlin:20260125T140000
DTEND;TZID=Europe/Berlin:20260125T160000
LOCATION:tělocvična ZŠ Javornická\, Javornická 1596 Rychnov nad Kněžnou
SUMMARY:HK-U16Z-5FC: RÉMA Rychnov-Chlumec/.C.
END:VEVENT
BEGIN:VEVENT
UID:64343464-3965-4666-b062-633837366236
DTSTAMP:20260422T052730Z
DESCRIPTION:1/3 Orel Studenec - RÉMA Rychnov 0:2 (-22\,-18)
DTSTART;TZID=Europe/Berlin:20260125T110000
DTEND;TZID=Europe/Berlin:20260125T130000
LOCATION:tělocvična ZŠ Javornická\, Javornická 1596 Rychnov nad Kněžnou
SUMMARY:HK-U16Z-5FC: Orel Studenec-RÉMA Rychnov
END:VEVENT
BEGIN:VEVENT
UID:36636531-3166-4835-b935-343737353034
DTSTAMP:20260422T052730Z
DESCRIPTION:1/2 Hronov - RÉMA Rychnov 1:2 (-14\,23\,-10)
DTSTART;TZID=Europe/Berlin:20260222T100000
DTEND;TZID=Europe/Berlin:20260222T120000
LOCATION:Tělocvičná jednota Sokol Nechanice\, Školská 348 Nechanice
SUMMARY:HK-U16Z-6FB: Hronov-RÉMA Rychnov
END:VEVENT
BEGIN:VEVENT
UID:37663861-3161-4535-b233-646633313630
DTSTAMP:20260422T052730Z
DESCRIPTION:1/4 Slavia H.Králové - RÉMA Rychnov 0:2 (-23\,-22)
DTSTART;TZID=Europe/Berlin:20260222T120000
DTEND;TZID=Europe/Berlin:20260222T140000
LOCATION:Tělocvičná jednota Sokol Nechanice\, Školská 348 Nechanice
SUMMARY:HK-U16Z-6FB: Slavia H.Králové-RÉMA Rychnov
END:VEVENT
BEGIN:VEVENT
UID:33666166-3134-4136-b434-356162323663
DTSTAMP:20260422T052730Z
DESCRIPTION:1/6 Nechanice - RÉMA Rychnov 2:0 (11\,20)
DTSTART;TZID=Europe/Berlin:20260222T140000
DTEND;TZID=Europe/Berlin:20260222T160000
LOCATION:Tělocvičná jednota Sokol Nechanice\, Školská 348 Nechanice
SUMMARY:HK-U16Z-6FB: Nechanice-RÉMA Rychnov
END:VEVENT
END:VCALENDAR
