BEGIN:VCALENDAR
VERSION:2.0
PRODID:-//Sokol Pouchov89165//NONSGML kigkonsult.se iCalcreator 2.41.80//
CALSCALE:GREGORIAN
UID:31353162-3561-4339-b038-396230653930
BEGIN:VEVENT
UID:30383131-3137-4730-a461-303937393161
DTSTAMP:20260421T183722Z
DESCRIPTION:1/2 Pouchov - Chlumec/C. 1:2 (-25\,12\,-11)
DTSTART;TZID=Europe/Berlin:20251004T100000
DTEND;TZID=Europe/Berlin:20251004T120000
LOCATION:Základní škola\, Jičín\, 17. listopadu 109 (1. ZŠ)\, 17. listopadu
  109 Jičín - Staré Město
SUMMARY:HK-U18Z-ZC: Pouchov-Chlumec/C.
END:VEVENT
BEGIN:VEVENT
UID:35353361-6234-4166-a662-653637616332
DTSTAMP:20260421T183722Z
DESCRIPTION:1/3 Pouchov - TJ Jičín A 0:2 (-15\,-17)
DTSTART;TZID=Europe/Berlin:20251004T110000
DTEND;TZID=Europe/Berlin:20251004T130000
LOCATION:Základní škola\, Jičín\, 17. listopadu 109 (1. ZŠ)\, 17. listopadu
  109 Jičín - Staré Město
SUMMARY:HK-U18Z-ZC: Pouchov-TJ Jičín A
END:VEVENT
BEGIN:VEVENT
UID:64326265-3031-4336-b738-353635343935
DTSTAMP:20260421T183722Z
DESCRIPTION:2/7 Pouchov - Chlumec/C. 2:0 (18\,13)\npoř: Pouchov
DTSTART;TZID=Europe/Berlin:20251011T094500
DTEND;TZID=Europe/Berlin:20251011T114500
LOCATION:Základní škola\, Jičín\, 17. listopadu 109 (1. ZŠ)\, 17. listopadu
  109 Jičín - Staré Město
SUMMARY:HK-U18Z-ZC: Pouchov-Chlumec/C.
END:VEVENT
BEGIN:VEVENT
UID:39316662-3661-4161-b334-383635653631
DTSTAMP:20260421T183722Z
DESCRIPTION:2/9 Pouchov - TJ Jičín A 1:2 (-13\,24\,-9)
DTSTART;TZID=Europe/Berlin:20251011T120000
DTEND;TZID=Europe/Berlin:20251011T140000
LOCATION:Základní škola\, Jičín\, 17. listopadu 109 (1. ZŠ)\, 17. listopadu
  109 Jičín - Staré Město
SUMMARY:HK-U18Z-ZC: Pouchov-TJ Jičín A
END:VEVENT
BEGIN:VEVENT
UID:66356136-3764-4562-a237-666162353639
DTSTAMP:20260421T183722Z
DESCRIPTION:2/12 Pouchov - Nechanice 2:0 (21\,15)
DTSTART;TZID=Europe/Berlin:20251011T140000
DTEND;TZID=Europe/Berlin:20251011T160000
LOCATION:Základní škola\, Jičín\, 17. listopadu 109 (1. ZŠ)\, 17. listopadu
  109 Jičín - Staré Město
SUMMARY:HK-U18Z-ZC: Pouchov-Nechanice
END:VEVENT
BEGIN:VEVENT
UID:65356133-3562-4132-b863-363937303536
DTSTAMP:20260421T183722Z
DESCRIPTION:4/20 Pouchov - Chlumec/C. 2:0 (17\,14)
DTSTART;TZID=Europe/Berlin:20251108T100000
DTEND;TZID=Europe/Berlin:20251108T120000
LOCATION:Základní škola\, Jičín\, 17. listopadu 109 (1. ZŠ)\, 17. listopadu
  109 Jičín - Staré Město
SUMMARY:HK-U18Z-ZC: Pouchov-Chlumec/C.
END:VEVENT
BEGIN:VEVENT
UID:33643435-3436-4639-b033-303033623361
DTSTAMP:20260421T183722Z
DESCRIPTION:1/6 Nechanice - Pouchov 0:2 (-20\,-20)
DTSTART;TZID=Europe/Berlin:20251004T140000
DTEND;TZID=Europe/Berlin:20251004T160000
LOCATION:Základní škola\, Jičín\, 17. listopadu 109 (1. ZŠ)\, 17. listopadu
  109 Jičín - Staré Město
SUMMARY:HK-U18Z-ZC: Nechanice-Pouchov
END:VEVENT
BEGIN:VEVENT
UID:31626362-3166-4331-b066-313336616566
DTSTAMP:20260421T183722Z
DESCRIPTION:3/13 Chlumec/C. - Pouchov 2:1 (11\,-21\,11)\npoř: CHLUMEC
DTSTART;TZID=Europe/Berlin:20251025T100000
DTEND;TZID=Europe/Berlin:20251025T120000
LOCATION:Základní škola\, Jičín\, 17. listopadu 109 (1. ZŠ)\, 17. listopadu
  109 Jičín - Staré Město
SUMMARY:HK-U18Z-ZC: Chlumec/C.-Pouchov
END:VEVENT
BEGIN:VEVENT
UID:34386363-3535-4561-b831-366131363261
DTSTAMP:20260421T183722Z
DESCRIPTION:3/16 Nechanice - Pouchov 0:2 (-20\,-20)
DTSTART;TZID=Europe/Berlin:20251025T113000
DTEND;TZID=Europe/Berlin:20251025T133000
LOCATION:Základní škola\, Jičín\, 17. listopadu 109 (1. ZŠ)\, 17. listopadu
  109 Jičín - Staré Město
SUMMARY:HK-U18Z-ZC: Nechanice-Pouchov
END:VEVENT
BEGIN:VEVENT
UID:31653732-3433-4132-a466-373939613237
DTSTAMP:20260421T183722Z
DESCRIPTION:3/17 TJ Jičín A - Pouchov 2:1 (21\,-24\,17)
DTSTART;TZID=Europe/Berlin:20251025T130000
DTEND;TZID=Europe/Berlin:20251025T150000
LOCATION:Základní škola\, Jičín\, 17. listopadu 109 (1. ZŠ)\, 17. listopadu
  109 Jičín - Staré Město
SUMMARY:HK-U18Z-ZC: TJ Jičín A-Pouchov
END:VEVENT
BEGIN:VEVENT
UID:38633536-3838-4564-b165-313232386139
DTSTAMP:20260421T183722Z
DESCRIPTION:4/22 Nechanice - Pouchov 0:2 (-24\,-21)
DTSTART;TZID=Europe/Berlin:20251108T120000
DTEND;TZID=Europe/Berlin:20251108T140000
LOCATION:Základní škola\, Jičín\, 17. listopadu 109 (1. ZŠ)\, 17. listopadu
  109 Jičín - Staré Město
SUMMARY:HK-U18Z-ZC: Nechanice-Pouchov
END:VEVENT
BEGIN:VEVENT
UID:31303436-6339-4764-a330-616139623366
DTSTAMP:20260421T183722Z
DESCRIPTION:4/24 TJ Jičín A - Pouchov 2:0 (22\,22)
DTSTART;TZID=Europe/Berlin:20251108T140000
DTEND;TZID=Europe/Berlin:20251108T160000
LOCATION:Základní škola\, Jičín\, 17. listopadu 109 (1. ZŠ)\, 17. listopadu
  109 Jičín - Staré Město
SUMMARY:HK-U18Z-ZC: TJ Jičín A-Pouchov
END:VEVENT
BEGIN:VEVENT
UID:34376166-3366-4561-a630-643861633933
DTSTAMP:20260421T183722Z
DESCRIPTION:1/3 Pouchov - Dvůr Králové 0:2 (-20\,-21)
DTSTART;TZID=Europe/Berlin:20251129T110000
DTEND;TZID=Europe/Berlin:20251129T130000
LOCATION:Hala Pouchov\, K Sokolovně 544 Hradec Králové - Pouchov
SUMMARY:HK-U18Z-SA: Pouchov-Dvůr Králové
END:VEVENT
BEGIN:VEVENT
UID:30636136-3362-4530-b036-643035343966
DTSTAMP:20260421T183722Z
DESCRIPTION:1/5 Pouchov - Broumov 2:0 (23\,21)
DTSTART;TZID=Europe/Berlin:20251129T130000
DTEND;TZID=Europe/Berlin:20251129T150000
LOCATION:Hala Pouchov\, K Sokolovně 544 Hradec Králové - Pouchov
SUMMARY:HK-U18Z-SA: Pouchov-Broumov
END:VEVENT
BEGIN:VEVENT
UID:61316633-3138-4330-b338-353662393136
DTSTAMP:20260421T183722Z
DESCRIPTION:2/8 Pouchov - RÉMA Rychnov B 2:1 (14\,-20\,6)
DTSTART;TZID=Europe/Berlin:20251206T100000
DTEND;TZID=Europe/Berlin:20251206T120000
LOCATION:Hala Pouchov\, K Sokolovně 544 Hradec Králové - Pouchov
SUMMARY:HK-U18Z-SA: Pouchov-RÉMA Rychnov B
END:VEVENT
BEGIN:VEVENT
UID:32613736-3132-4533-b335-316434643332
DTSTAMP:20260421T183722Z
DESCRIPTION:3/13 Pouchov - RÉMA Rychnov B 2:0 (19\,22)\npoř: Pouchov
DTSTART;TZID=Europe/Berlin:20251220T100000
DTEND;TZID=Europe/Berlin:20251220T120000
LOCATION:Hala Pouchov\, K Sokolovně 544 Hradec Králové - Pouchov
SUMMARY:HK-U18Z-SA: Pouchov-RÉMA Rychnov B
END:VEVENT
BEGIN:VEVENT
UID:61666239-3638-4166-b563-393230393135
DTSTAMP:20260421T183722Z
DESCRIPTION:1/1 RÉMA Rychnov B - Pouchov 2:1 (-22\,12\,11)\npoř: RÉMA RK
DTSTART;TZID=Europe/Berlin:20251129T090000
DTEND;TZID=Europe/Berlin:20251129T110000
LOCATION:Hala Pouchov\, K Sokolovně 544 Hradec Králové - Pouchov
SUMMARY:HK-U18Z-SA: RÉMA Rychnov B-Pouchov
END:VEVENT
BEGIN:VEVENT
UID:61376462-3338-4137-b837-616438666565
DTSTAMP:20260421T183722Z
DESCRIPTION:2/10 Broumov - Pouchov 0:2 (-17\,-16)
DTSTART;TZID=Europe/Berlin:20251206T120000
DTEND;TZID=Europe/Berlin:20251206T140000
LOCATION:Hala Pouchov\, K Sokolovně 544 Hradec Králové - Pouchov
SUMMARY:HK-U18Z-SA: Broumov-Pouchov
END:VEVENT
BEGIN:VEVENT
UID:66373862-3533-4635-b338-366239646438
DTSTAMP:20260421T183722Z
DESCRIPTION:2/12 Dvůr Králové - Pouchov 0:2 (-18\,-21)
DTSTART;TZID=Europe/Berlin:20251206T140000
DTEND;TZID=Europe/Berlin:20251206T160000
LOCATION:Hala Pouchov\, K Sokolovně 544 Hradec Králové - Pouchov
SUMMARY:HK-U18Z-SA: Dvůr Králové-Pouchov
END:VEVENT
BEGIN:VEVENT
UID:35616364-6661-4663-b364-386466333838
DTSTAMP:20260421T183722Z
DESCRIPTION:3/16 Broumov - Pouchov 1:2 (-11\,25\,-10)
DTSTART;TZID=Europe/Berlin:20251220T111500
DTEND;TZID=Europe/Berlin:20251220T131500
LOCATION:Hala Pouchov\, K Sokolovně 544 Hradec Králové - Pouchov
SUMMARY:HK-U18Z-SA: Broumov-Pouchov
END:VEVENT
BEGIN:VEVENT
UID:65313832-3163-4434-b837-636162653233
DTSTAMP:20260421T183722Z
DESCRIPTION:3/17 Dvůr Králové - Pouchov 1:2 (-22\,24\,-17)
DTSTART;TZID=Europe/Berlin:20251220T123000
DTEND;TZID=Europe/Berlin:20251220T143000
LOCATION:Hala Pouchov\, K Sokolovně 544 Hradec Králové - Pouchov
SUMMARY:HK-U18Z-SA: Dvůr Králové-Pouchov
END:VEVENT
BEGIN:VEVENT
UID:63386131-3632-4930-b435-366662336562
DTSTAMP:20260421T183722Z
DESCRIPTION:1/2 Pouchov - St.M.-Náchod 2:1 (-20\,15\,10)
DTSTART;TZID=Europe/Berlin:20260322T100000
DTEND;TZID=Europe/Berlin:20260322T120000
LOCATION:Sportovni hala TJ. Sokol Staré Město - Náchod\, Na Skalce 263 Nách
 od - Staré Město nad Metují
SUMMARY:HK-U18Z-FB: Pouchov-St.M.-Náchod
END:VEVENT
BEGIN:VEVENT
UID:32323536-3763-4661-b034-306266643964
DTSTAMP:20260421T183722Z
DESCRIPTION:2/7 Pouchov - St.M.-Náchod 2:0 (19\,21)\npoř: Pouchov
DTSTART;TZID=Europe/Berlin:20260131T090000
DTEND;TZID=Europe/Berlin:20260131T110000
LOCATION:Sportovni hala TJ. Sokol Staré Město - Náchod\, Na Skalce 263 Nách
 od - Staré Město nad Metují
SUMMARY:HK-U18Z-FB: Pouchov-St.M.-Náchod
END:VEVENT
BEGIN:VEVENT
UID:36306130-3365-4631-a133-313637343338
DTSTAMP:20260421T183722Z
DESCRIPTION:2/12 Pouchov - Dvůr Králové 2:1 (15\,-15\,13)
DTSTART;TZID=Europe/Berlin:20260131T140000
DTEND;TZID=Europe/Berlin:20260131T160000
LOCATION:Sportovni hala TJ. Sokol Staré Město - Náchod\, Na Skalce 263 Nách
 od - Staré Město nad Metují
SUMMARY:HK-U18Z-FB: Pouchov-Dvůr Králové
END:VEVENT
BEGIN:VEVENT
UID:61336130-6531-4335-b462-323262383531
DTSTAMP:20260421T183722Z
DESCRIPTION:3/14 Pouchov - St.M.-Náchod 2:0 (24\,22)
DTSTART;TZID=Europe/Berlin:20260221T084500
DTEND;TZID=Europe/Berlin:20260221T104500
LOCATION:Sportovni hala TJ. Sokol Staré Město - Náchod\, Na Skalce 263 Nách
 od - Staré Město nad Metují
SUMMARY:HK-U18Z-FB: Pouchov-St.M.-Náchod
END:VEVENT
BEGIN:VEVENT
UID:31613332-3732-4636-b738-616564666564
DTSTAMP:20260421T183722Z
DESCRIPTION:1/4 LOKO Trutnov - Pouchov 0:2 (-15\,-18)
DTSTART;TZID=Europe/Berlin:20260322T120000
DTEND;TZID=Europe/Berlin:20260322T140000
LOCATION:Sportovni hala TJ. Sokol Staré Město - Náchod\, Na Skalce 263 Nách
 od - Staré Město nad Metují
SUMMARY:HK-U18Z-FB: LOKO Trutnov-Pouchov
END:VEVENT
BEGIN:VEVENT
UID:63333765-3865-4932-b734-653832653631
DTSTAMP:20260421T183722Z
DESCRIPTION:1/6 Dvůr Králové - Pouchov 0:2 (-16\,-18)
DTSTART;TZID=Europe/Berlin:20260322T140000
DTEND;TZID=Europe/Berlin:20260322T160000
LOCATION:Sportovni hala TJ. Sokol Staré Město - Náchod\, Na Skalce 263 Nách
 od - Staré Město nad Metují
SUMMARY:HK-U18Z-FB: Dvůr Králové-Pouchov
END:VEVENT
BEGIN:VEVENT
UID:37653837-6361-4231-a664-326335316166
DTSTAMP:20260421T183722Z
DESCRIPTION:2/10 LOKO Trutnov - Pouchov 0:2 (-20\,-20)
DTSTART;TZID=Europe/Berlin:20260131T120000
DTEND;TZID=Europe/Berlin:20260131T140000
LOCATION:Sportovni hala TJ. Sokol Staré Město - Náchod\, Na Skalce 263 Nách
 od - Staré Město nad Metují
SUMMARY:HK-U18Z-FB: LOKO Trutnov-Pouchov
END:VEVENT
BEGIN:VEVENT
UID:61343630-6165-4261-b232-386261623732
DTSTAMP:20260421T183722Z
DESCRIPTION:3/16 LOKO Trutnov - Pouchov 1:2 (19\,-23\,-10)
DTSTART;TZID=Europe/Berlin:20260221T111500
DTEND;TZID=Europe/Berlin:20260221T131500
LOCATION:Sportovni hala TJ. Sokol Staré Město - Náchod\, Na Skalce 263 Nách
 od - Staré Město nad Metují
SUMMARY:HK-U18Z-FB: LOKO Trutnov-Pouchov
END:VEVENT
BEGIN:VEVENT
UID:35656636-6365-4333-a138-626363353732
DTSTAMP:20260421T183722Z
DESCRIPTION:3/17 Dvůr Králové - Pouchov 2:1 (21\,-23\,9)
DTSTART;TZID=Europe/Berlin:20260221T123000
DTEND;TZID=Europe/Berlin:20260221T143000
LOCATION:Sportovni hala TJ. Sokol Staré Město - Náchod\, Na Skalce 263 Nách
 od - Staré Město nad Metují
SUMMARY:HK-U18Z-FB: Dvůr Králové-Pouchov
END:VEVENT
BEGIN:VEVENT
UID:61373264-6332-4331-b364-353034663766
DTSTAMP:20260421T183722Z
DESCRIPTION:4/19 St.M.-Náchod - Pouchov 2:0 (20\,15)\npoř: St.M.-Náchod
DTSTART;TZID=Europe/Berlin:20260314T090000
DTEND;TZID=Europe/Berlin:20260314T110000
LOCATION:Sportovni hala TJ. Sokol Staré Město - Náchod\, Na Skalce 263 Nách
 od - Staré Město nad Metují
SUMMARY:HK-U18Z-FB: St.M.-Náchod-Pouchov
END:VEVENT
BEGIN:VEVENT
UID:33373666-6437-4330-b139-643434613732
DTSTAMP:20260421T183722Z
DESCRIPTION:4/22 LOKO Trutnov - Pouchov 2:0 (22\,23)
DTSTART;TZID=Europe/Berlin:20260314T120000
DTEND;TZID=Europe/Berlin:20260314T140000
LOCATION:Sportovni hala TJ. Sokol Staré Město - Náchod\, Na Skalce 263 Nách
 od - Staré Město nad Metují
SUMMARY:HK-U18Z-FB: LOKO Trutnov-Pouchov
END:VEVENT
BEGIN:VEVENT
UID:37643336-6435-4530-a266-633462636431
DTSTAMP:20260421T183722Z
DESCRIPTION:4/23 Dvůr Králové - Pouchov 2:0 (20\,16)
DTSTART;TZID=Europe/Berlin:20260314T130000
DTEND;TZID=Europe/Berlin:20260314T150000
LOCATION:Sportovni hala TJ. Sokol Staré Město - Náchod\, Na Skalce 263 Nách
 od - Staré Město nad Metují
SUMMARY:HK-U18Z-FB: Dvůr Králové-Pouchov
END:VEVENT
END:VCALENDAR
