BEGIN:VCALENDAR
VERSION:2.0
PRODID:-//VKM RÉMA Rychnov nad Kněžnou B89167//NONSGML kigkonsult.se iCalcreator 2.41.80//
CALSCALE:GREGORIAN
UID:37636362-3536-4334-a565-396262393061
BEGIN:VEVENT
UID:33356163-3761-4532-b937-333237353131
DTSTAMP:20260421T171408Z
DESCRIPTION:2/9 RÉMA Rychnov B - Č. Kostelec 0:2 (-21\,-13)
DTSTART;TZID=Europe/Berlin:20251018T110000
DTEND;TZID=Europe/Berlin:20251018T130000
LOCATION:Sportovní hala R.Šebrleho\, Hrdinů odboje 36 Rychnov nad Kněžnou
SUMMARY:HK-U18Z-ZA: RÉMA Rychnov B-Č. Kostelec
END:VEVENT
BEGIN:VEVENT
UID:38616538-6262-4861-b862-353833363833
DTSTAMP:20260421T171408Z
DESCRIPTION:3/17 RÉMA Rychnov B - Č. Kostelec 2:0 (28\,16)
DTSTART;TZID=Europe/Berlin:20251025T090000
DTEND;TZID=Europe/Berlin:20251025T110000
LOCATION:Sportovní hala R.Šebrleho\, Hrdinů odboje 36 Rychnov nad Kněžnou
SUMMARY:HK-U18Z-ZA: RÉMA Rychnov B-Č. Kostelec
END:VEVENT
BEGIN:VEVENT
UID:31363365-3363-4966-a534-646430353866
DTSTAMP:20260421T171408Z
DESCRIPTION:4/19 RÉMA Rychnov B - Č. Kostelec 2:0 (22\,16)\npoř: RÉMA RK\, 
 SH R.Šebrleho
DTSTART;TZID=Europe/Berlin:20251109T090000
DTEND;TZID=Europe/Berlin:20251109T110000
LOCATION:Sportovní hala R.Šebrleho\, Hrdinů odboje 36 Rychnov nad Kněžnou
SUMMARY:HK-U18Z-ZA: RÉMA Rychnov B-Č. Kostelec
END:VEVENT
BEGIN:VEVENT
UID:36393963-3139-4338-a432-326666356661
DTSTAMP:20260421T171408Z
DESCRIPTION:4/24 RÉMA Rychnov B - Broumov 2:0 (11\,13)
DTSTART;TZID=Europe/Berlin:20251109T140000
DTEND;TZID=Europe/Berlin:20251109T160000
LOCATION:Sportovní hala R.Šebrleho\, Hrdinů odboje 36 Rychnov nad Kněžnou
SUMMARY:HK-U18Z-ZA: RÉMA Rychnov B-Broumov
END:VEVENT
BEGIN:VEVENT
UID:36353536-3166-4664-b962-306233373035
DTSTAMP:20260421T171408Z
DESCRIPTION:1/1 Broumov - RÉMA Rychnov B 0:2 (-17\,-9)\npoř:Č.KOSTELEC
DTSTART;TZID=Europe/Berlin:20251004T100000
DTEND;TZID=Europe/Berlin:20251004T120000
LOCATION:Sportovní hala R.Šebrleho\, Hrdinů odboje 36 Rychnov nad Kněžnou
SUMMARY:HK-U18Z-ZA: Broumov-RÉMA Rychnov B
END:VEVENT
BEGIN:VEVENT
UID:31326633-6632-4430-a561-343232656464
DTSTAMP:20260421T171408Z
DESCRIPTION:1/3 Č. Kostelec - RÉMA Rychnov B 2:0 (24\,13)
DTSTART;TZID=Europe/Berlin:20251004T110000
DTEND;TZID=Europe/Berlin:20251004T130000
LOCATION:Sportovní hala R.Šebrleho\, Hrdinů odboje 36 Rychnov nad Kněžnou
SUMMARY:HK-U18Z-ZA: Č. Kostelec-RÉMA Rychnov B
END:VEVENT
BEGIN:VEVENT
UID:36366136-6439-4334-a538-653234303332
DTSTAMP:20260421T171408Z
DESCRIPTION:1/5 St.M.-Náchod - RÉMA Rychnov B 0:2 (-20\,-19)
DTSTART;TZID=Europe/Berlin:20251004T130000
DTEND;TZID=Europe/Berlin:20251004T150000
LOCATION:Sportovní hala R.Šebrleho\, Hrdinů odboje 36 Rychnov nad Kněžnou
SUMMARY:HK-U18Z-ZA: St.M.-Náchod-RÉMA Rychnov B
END:VEVENT
BEGIN:VEVENT
UID:31393164-3430-4632-a436-343038383930
DTSTAMP:20260421T171408Z
DESCRIPTION:2/8 Broumov - RÉMA Rychnov B 0:2 (-16\,-15)\npoř: BROUMOV
DTSTART;TZID=Europe/Berlin:20251018T090000
DTEND;TZID=Europe/Berlin:20251018T110000
LOCATION:Sportovní hala R.Šebrleho\, Hrdinů odboje 36 Rychnov nad Kněžnou
SUMMARY:HK-U18Z-ZA: Broumov-RÉMA Rychnov B
END:VEVENT
BEGIN:VEVENT
UID:66313365-3465-4036-a133-643238643739
DTSTAMP:20260421T171408Z
DESCRIPTION:2/11 St.M.-Náchod - RÉMA Rychnov B 2:0 (21\,17)
DTSTART;TZID=Europe/Berlin:20251018T130000
DTEND;TZID=Europe/Berlin:20251018T150000
LOCATION:Sportovní hala R.Šebrleho\, Hrdinů odboje 36 Rychnov nad Kněžnou
SUMMARY:HK-U18Z-ZA: St.M.-Náchod-RÉMA Rychnov B
END:VEVENT
BEGIN:VEVENT
UID:36663535-3931-4438-a439-376336626631
DTSTAMP:20260421T171408Z
DESCRIPTION:3/14 Broumov - RÉMA Rychnov B 0:2 (-11\,-21)
DTSTART;TZID=Europe/Berlin:20251025T090000
DTEND;TZID=Europe/Berlin:20251025T110000
LOCATION:Sportovní hala R.Šebrleho\, Hrdinů odboje 36 Rychnov nad Kněžnou
SUMMARY:HK-U18Z-ZA: Broumov-RÉMA Rychnov B
END:VEVENT
BEGIN:VEVENT
UID:65353562-3834-4032-b936-663130393665
DTSTAMP:20260421T171408Z
DESCRIPTION:3/15 St.M.-Náchod - RÉMA Rychnov B 0:2 (-26\,-23)
DTSTART;TZID=Europe/Berlin:20251025T090000
DTEND;TZID=Europe/Berlin:20251025T110000
LOCATION:Sportovní hala R.Šebrleho\, Hrdinů odboje 36 Rychnov nad Kněžnou
SUMMARY:HK-U18Z-ZA: St.M.-Náchod-RÉMA Rychnov B
END:VEVENT
BEGIN:VEVENT
UID:63326362-3230-4337-a334-316630663962
DTSTAMP:20260421T171408Z
DESCRIPTION:4/21 St.M.-Náchod - RÉMA Rychnov B 0:2 (-17\,-18)
DTSTART;TZID=Europe/Berlin:20251109T110000
DTEND;TZID=Europe/Berlin:20251109T130000
LOCATION:Sportovní hala R.Šebrleho\, Hrdinů odboje 36 Rychnov nad Kněžnou
SUMMARY:HK-U18Z-ZA: St.M.-Náchod-RÉMA Rychnov B
END:VEVENT
BEGIN:VEVENT
UID:30613439-3439-4639-a337-376634656564
DTSTAMP:20260421T171408Z
DESCRIPTION:1/1 RÉMA Rychnov B - Pouchov 2:1 (-22\,12\,11)\npoř: RÉMA RK
DTSTART;TZID=Europe/Berlin:20251129T090000
DTEND;TZID=Europe/Berlin:20251129T110000
LOCATION:Hala Pouchov\, K Sokolovně 544 Hradec Králové - Pouchov
SUMMARY:HK-U18Z-SA: RÉMA Rychnov B-Pouchov
END:VEVENT
BEGIN:VEVENT
UID:63323062-6462-4339-b664-663162303839
DTSTAMP:20260421T171408Z
DESCRIPTION:1/2 RÉMA Rychnov B - Dvůr Králové 2:0 (9\,22)
DTSTART;TZID=Europe/Berlin:20251129T100000
DTEND;TZID=Europe/Berlin:20251129T120000
LOCATION:Hala Pouchov\, K Sokolovně 544 Hradec Králové - Pouchov
SUMMARY:HK-U18Z-SA: RÉMA Rychnov B-Dvůr Králové
END:VEVENT
BEGIN:VEVENT
UID:38346664-6633-4634-b434-336137366462
DTSTAMP:20260421T171408Z
DESCRIPTION:1/4 RÉMA Rychnov B - Broumov 2:0 (13\,15)
DTSTART;TZID=Europe/Berlin:20251129T120000
DTEND;TZID=Europe/Berlin:20251129T140000
LOCATION:Hala Pouchov\, K Sokolovně 544 Hradec Králové - Pouchov
SUMMARY:HK-U18Z-SA: RÉMA Rychnov B-Broumov
END:VEVENT
BEGIN:VEVENT
UID:31323333-3231-4539-b866-323333386263
DTSTAMP:20260421T171408Z
DESCRIPTION:2/9 RÉMA Rychnov B - Dvůr Králové 2:1 (-22\,16\,3)
DTSTART;TZID=Europe/Berlin:20251206T110000
DTEND;TZID=Europe/Berlin:20251206T130000
LOCATION:Hala Pouchov\, K Sokolovně 544 Hradec Králové - Pouchov
SUMMARY:HK-U18Z-SA: RÉMA Rychnov B-Dvůr Králové
END:VEVENT
BEGIN:VEVENT
UID:34326134-3533-4536-b430-373563613330
DTSTAMP:20260421T171408Z
DESCRIPTION:2/11 RÉMA Rychnov B - Broumov 2:0 (13\,20)
DTSTART;TZID=Europe/Berlin:20251206T130000
DTEND;TZID=Europe/Berlin:20251206T150000
LOCATION:Hala Pouchov\, K Sokolovně 544 Hradec Králové - Pouchov
SUMMARY:HK-U18Z-SA: RÉMA Rychnov B-Broumov
END:VEVENT
BEGIN:VEVENT
UID:34623464-3061-4137-b430-336561393963
DTSTAMP:20260421T171408Z
DESCRIPTION:3/15 RÉMA Rychnov B - Dvůr Králové 2:0 (23\,22)
DTSTART;TZID=Europe/Berlin:20251220T111500
DTEND;TZID=Europe/Berlin:20251220T131500
LOCATION:Hala Pouchov\, K Sokolovně 544 Hradec Králové - Pouchov
SUMMARY:HK-U18Z-SA: RÉMA Rychnov B-Dvůr Králové
END:VEVENT
BEGIN:VEVENT
UID:66323262-6365-4166-b164-306432633839
DTSTAMP:20260421T171408Z
DESCRIPTION:3/18 RÉMA Rychnov B - Broumov 2:0 (10\,15)
DTSTART;TZID=Europe/Berlin:20251220T123000
DTEND;TZID=Europe/Berlin:20251220T143000
LOCATION:Hala Pouchov\, K Sokolovně 544 Hradec Králové - Pouchov
SUMMARY:HK-U18Z-SA: RÉMA Rychnov B-Broumov
END:VEVENT
BEGIN:VEVENT
UID:38346639-3361-4232-b366-333131666332
DTSTAMP:20260421T171408Z
DESCRIPTION:2/8 Pouchov - RÉMA Rychnov B 2:1 (14\,-20\,6)
DTSTART;TZID=Europe/Berlin:20251206T100000
DTEND;TZID=Europe/Berlin:20251206T120000
LOCATION:Hala Pouchov\, K Sokolovně 544 Hradec Králové - Pouchov
SUMMARY:HK-U18Z-SA: Pouchov-RÉMA Rychnov B
END:VEVENT
BEGIN:VEVENT
UID:33393632-3239-4236-a631-383633616334
DTSTAMP:20260421T171408Z
DESCRIPTION:3/13 Pouchov - RÉMA Rychnov B 2:0 (19\,22)\npoř: Pouchov
DTSTART;TZID=Europe/Berlin:20251220T100000
DTEND;TZID=Europe/Berlin:20251220T120000
LOCATION:Hala Pouchov\, K Sokolovně 544 Hradec Králové - Pouchov
SUMMARY:HK-U18Z-SA: Pouchov-RÉMA Rychnov B
END:VEVENT
BEGIN:VEVENT
UID:34656566-6136-4333-a531-306230323532
DTSTAMP:20260421T171408Z
DESCRIPTION:1/4 RÉMA Rychnov B - Č. Kostelec 2:0 (13\,17)
DTSTART;TZID=Europe/Berlin:20260117T090000
DTEND;TZID=Europe/Berlin:20260117T110000
LOCATION:VOŠ a SŠ zem.\, Komenského 873 Kostelec nad Orlicí
SUMMARY:HK-U18Z-FA: RÉMA Rychnov B-Č. Kostelec
END:VEVENT
BEGIN:VEVENT
UID:65643331-6431-4161-b361-366136336462
DTSTAMP:20260421T171408Z
DESCRIPTION:2/10 RÉMA Rychnov B - Č. Kostelec 1:2 (-12\,18\,-12)
DTSTART;TZID=Europe/Berlin:20260130T130000
DTEND;TZID=Europe/Berlin:20260130T150000
LOCATION:VOŠ a SŠ zem.\, Komenského 873 Kostelec nad Orlicí
SUMMARY:HK-U18Z-FA: RÉMA Rychnov B-Č. Kostelec
END:VEVENT
BEGIN:VEVENT
UID:35366336-6331-4863-b762-303333616430
DTSTAMP:20260421T171408Z
DESCRIPTION:3/16 RÉMA Rychnov B - Nová Paka 0:2 (-20\,-23)
DTSTART;TZID=Europe/Berlin:20260221T130000
DTEND;TZID=Europe/Berlin:20260221T150000
LOCATION:VOŠ a SŠ zem.\, Komenského 873 Kostelec nad Orlicí
SUMMARY:HK-U18Z-FA: RÉMA Rychnov B-Nová Paka
END:VEVENT
BEGIN:VEVENT
UID:62663531-6366-4066-a232-396630376635
DTSTAMP:20260421T171408Z
DESCRIPTION:4/19 RÉMA Rychnov B - Nová Paka 0:2 (-17\,-11)\npoř: RÉMA RK v 
 KOST
DTSTART;TZID=Europe/Berlin:20260314T093000
DTEND;TZID=Europe/Berlin:20260314T113000
LOCATION:VOŠ a SŠ zem.\, Komenského 873 Kostelec nad Orlicí
SUMMARY:HK-U18Z-FA: RÉMA Rychnov B-Nová Paka
END:VEVENT
BEGIN:VEVENT
UID:31633462-3634-4139-a636-656434363437
DTSTAMP:20260421T171408Z
DESCRIPTION:4/22 RÉMA Rychnov B - Č. Kostelec 2:1 (-22\,18\,11)
DTSTART;TZID=Europe/Berlin:20260314T110000
DTEND;TZID=Europe/Berlin:20260314T130000
LOCATION:VOŠ a SŠ zem.\, Komenského 873 Kostelec nad Orlicí
SUMMARY:HK-U18Z-FA: RÉMA Rychnov B-Č. Kostelec
END:VEVENT
BEGIN:VEVENT
UID:61383565-6638-4237-a232-333962393431
DTSTAMP:20260421T171408Z
DESCRIPTION:4/24 RÉMA Rychnov B - TJ Jičín A 2:0 (21\,19)
DTSTART;TZID=Europe/Berlin:20260314T123000
DTEND;TZID=Europe/Berlin:20260314T143000
LOCATION:VOŠ a SŠ zem.\, Komenského 873 Kostelec nad Orlicí
SUMMARY:HK-U18Z-FA: RÉMA Rychnov B-TJ Jičín A
END:VEVENT
BEGIN:VEVENT
UID:34373832-3236-4236-b232-373861343037
DTSTAMP:20260421T171408Z
DESCRIPTION:1/1 Nová Paka - RÉMA Rychnov B 2:0 (17\,16)\nPOŘ: N.PAKA
DTSTART;TZID=Europe/Berlin:20260117T090000
DTEND;TZID=Europe/Berlin:20260117T110000
LOCATION:VOŠ a SŠ zem.\, Komenského 873 Kostelec nad Orlicí
SUMMARY:HK-U18Z-FA: Nová Paka-RÉMA Rychnov B
END:VEVENT
BEGIN:VEVENT
UID:32396365-3435-4631-b334-643435636334
DTSTAMP:20260421T171408Z
DESCRIPTION:1/5 TJ Jičín A - RÉMA Rychnov B 2:1 (-24\,15\,12)
DTSTART;TZID=Europe/Berlin:20260117T090000
DTEND;TZID=Europe/Berlin:20260117T110000
LOCATION:VOŠ a SŠ zem.\, Komenského 873 Kostelec nad Orlicí
SUMMARY:HK-U18Z-FA: TJ Jičín A-RÉMA Rychnov B
END:VEVENT
BEGIN:VEVENT
UID:35383964-3730-4264-a664-323931303030
DTSTAMP:20260421T171408Z
DESCRIPTION:2/8 Nová Paka - RÉMA Rychnov B 2:0 (21\,23)
DTSTART;TZID=Europe/Berlin:20260130T110000
DTEND;TZID=Europe/Berlin:20260130T130000
LOCATION:VOŠ a SŠ zem.\, Komenského 873 Kostelec nad Orlicí
SUMMARY:HK-U18Z-FA: Nová Paka-RÉMA Rychnov B
END:VEVENT
BEGIN:VEVENT
UID:37636434-3565-4833-b863-313666633364
DTSTAMP:20260421T171408Z
DESCRIPTION:2/11 TJ Jičín A - RÉMA Rychnov B 2:1 (23\,-19\,10)
DTSTART;TZID=Europe/Berlin:20260130T140000
DTEND;TZID=Europe/Berlin:20260130T160000
LOCATION:VOŠ a SŠ zem.\, Komenského 873 Kostelec nad Orlicí
SUMMARY:HK-U18Z-FA: TJ Jičín A-RÉMA Rychnov B
END:VEVENT
BEGIN:VEVENT
UID:35643230-3866-4435-b435-313631363434
DTSTAMP:20260421T171408Z
DESCRIPTION:3/14 Č. Kostelec - RÉMA Rychnov B 0:2 (-17\,-25)
DTSTART;TZID=Europe/Berlin:20260221T100000
DTEND;TZID=Europe/Berlin:20260221T120000
LOCATION:VOŠ a SŠ zem.\, Komenského 873 Kostelec nad Orlicí
SUMMARY:HK-U18Z-FA: Č. Kostelec-RÉMA Rychnov B
END:VEVENT
BEGIN:VEVENT
UID:64623030-6361-4137-a536-313330333233
DTSTAMP:20260421T171408Z
DESCRIPTION:3/18 TJ Jičín A - RÉMA Rychnov B 2:0 (17\,14)
DTSTART;TZID=Europe/Berlin:20260221T110000
DTEND;TZID=Europe/Berlin:20260221T130000
LOCATION:VOŠ a SŠ zem.\, Komenského 873 Kostelec nad Orlicí
SUMMARY:HK-U18Z-FA: TJ Jičín A-RÉMA Rychnov B
END:VEVENT
END:VCALENDAR
