BEGIN:VCALENDAR
VERSION:2.0
PRODID:-//RÉMA Rychnov89170//NONSGML kigkonsult.se iCalcreator 2.41.80//
CALSCALE:GREGORIAN
UID:34383730-6166-4232-a336-363662363132
BEGIN:VEVENT
UID:64323463-3938-4161-a538-366533366239
DTSTAMP:20260423T004331Z
DESCRIPTION:1/3 RÉMA Rychnov - Nová Paka 3:1 (-22\,18\,20\,12)
DTSTART;TZID=Europe/Berlin:20251005T100000
DTEND;TZID=Europe/Berlin:20251005T120000
LOCATION:Hala VOŠ a SPŠS\, U Stadionu 1166 Rychnov nad Kněžnou
SUMMARY:HK-U20Z: RÉMA Rychnov-Nová Paka
END:VEVENT
BEGIN:VEVENT
UID:63363461-6633-4430-b763-363833346232
DTSTAMP:20260423T004331Z
DESCRIPTION:2/6 RÉMA Rychnov - Nová Paka 3:0 (14\,16\,20)
DTSTART;TZID=Europe/Berlin:20251005T130000
DTEND;TZID=Europe/Berlin:20251005T150000
LOCATION:Hala VOŠ a SPŠS\, U Stadionu 1166 Rychnov nad Kněžnou
SUMMARY:HK-U20Z: RÉMA Rychnov-Nová Paka
END:VEVENT
BEGIN:VEVENT
UID:30653064-3163-4235-a332-613431363839
DTSTAMP:20260423T004331Z
DESCRIPTION:5/14 RÉMA Rychnov - Sokol Pouchov 2:3 (-23\,16\,16\,-23\,-10)
DTSTART;TZID=Europe/Berlin:20251019T100000
DTEND;TZID=Europe/Berlin:20251019T120000
LOCATION:Hala VOŠ a SPŠS\, U Stadionu 1166 Rychnov nad Kněžnou
SUMMARY:HK-U20Z: RÉMA Rychnov-Sokol Pouchov
END:VEVENT
BEGIN:VEVENT
UID:33663439-3439-4431-b866-333037616134
DTSTAMP:20260423T004331Z
DESCRIPTION:6/17 RÉMA Rychnov - Sokol Pouchov 1:3 (-20\,-21\,22\,-15)
DTSTART;TZID=Europe/Berlin:20251019T130000
DTEND;TZID=Europe/Berlin:20251019T150000
LOCATION:Hala VOŠ a SPŠS\, U Stadionu 1166 Rychnov nad Kněžnou
SUMMARY:HK-U20Z: RÉMA Rychnov-Sokol Pouchov
END:VEVENT
BEGIN:VEVENT
UID:31626532-3232-4639-a264-323639376433
DTSTAMP:20260423T004331Z
DESCRIPTION:9/25 RÉMA Rychnov - TJ Jičín 1:3 (-19\,17\,-18\,-14)
DTSTART;TZID=Europe/Berlin:20251109T100000
DTEND;TZID=Europe/Berlin:20251109T120000
LOCATION:Hala VOŠ a SPŠS\, U Stadionu 1166 Rychnov nad Kněžnou
SUMMARY:HK-U20Z: RÉMA Rychnov-TJ Jičín
END:VEVENT
BEGIN:VEVENT
UID:35346339-6464-4839-a262-623666376265
DTSTAMP:20260423T004331Z
DESCRIPTION:10/28 RÉMA Rychnov - TJ Jičín 3:1 (22\,18\,-23\,23)
DTSTART;TZID=Europe/Berlin:20251109T130000
DTEND;TZID=Europe/Berlin:20251109T150000
LOCATION:Hala VOŠ a SPŠS\, U Stadionu 1166 Rychnov nad Kněžnou
SUMMARY:HK-U20Z: RÉMA Rychnov-TJ Jičín
END:VEVENT
BEGIN:VEVENT
UID:62353537-3766-4336-a635-333337356264
DTSTAMP:20260423T004331Z
DESCRIPTION:13/38 RÉMA Rychnov - Jaroměř 1:3 (-22\,-20\,24\,-22)
DTSTART;TZID=Europe/Berlin:20251213T083000
DTEND;TZID=Europe/Berlin:20251213T103000
LOCATION:Hala VOŠ a SPŠS\, U Stadionu 1166 Rychnov nad Kněžnou
SUMMARY:HK-U20Z: RÉMA Rychnov-Jaroměř
END:VEVENT
BEGIN:VEVENT
UID:36343435-3566-4232-b531-663833616237
DTSTAMP:20260423T004331Z
DESCRIPTION:14/41 RÉMA Rychnov - Jaroměř 0:3 (-21\,-20\,-22)
DTSTART;TZID=Europe/Berlin:20251213T100000
DTEND;TZID=Europe/Berlin:20251213T120000
LOCATION:Hala VOŠ a SPŠS\, U Stadionu 1166 Rychnov nad Kněžnou
SUMMARY:HK-U20Z: RÉMA Rychnov-Jaroměř
END:VEVENT
BEGIN:VEVENT
UID:34383236-3532-4563-a534-313939323066
DTSTAMP:20260423T004331Z
DESCRIPTION:17/51 RÉMA Rychnov - Staré M. Náchod 2:3 (-14\,21\,-22\,23\,-10
 )
DTSTART;TZID=Europe/Berlin:20251221T100000
DTEND;TZID=Europe/Berlin:20251221T120000
LOCATION:Hala VOŠ a SPŠS\, U Stadionu 1166 Rychnov nad Kněžnou
SUMMARY:HK-U20Z: RÉMA Rychnov-Staré M. Náchod
END:VEVENT
BEGIN:VEVENT
UID:34333733-6335-4031-b164-626531316663
DTSTAMP:20260423T004331Z
DESCRIPTION:18/54 RÉMA Rychnov - Staré M. Náchod 0:3 (-23\,-19\,-19)
DTSTART;TZID=Europe/Berlin:20251221T130000
DTEND;TZID=Europe/Berlin:20251221T150000
LOCATION:Hala VOŠ a SPŠS\, U Stadionu 1166 Rychnov nad Kněžnou
SUMMARY:HK-U20Z: RÉMA Rychnov-Staré M. Náchod
END:VEVENT
BEGIN:VEVENT
UID:61343866-3732-4561-a366-316531336330
DTSTAMP:20260423T004331Z
DESCRIPTION:3/8 Jaroměř - RÉMA Rychnov 3:0 (14\,21\,20)
DTSTART;TZID=Europe/Berlin:20251012T100000
DTEND;TZID=Europe/Berlin:20251012T120000
LOCATION:Hala SŠŘ\, Na Karlově 798 Jaroměř - Pražské Předměstí
SUMMARY:HK-U20Z: Jaroměř-RÉMA Rychnov
END:VEVENT
BEGIN:VEVENT
UID:39383038-3638-4737-a231-303930383138
DTSTAMP:20260423T004331Z
DESCRIPTION:4/11 Jaroměř - RÉMA Rychnov 3:0 (14\,18\,15)
DTSTART;TZID=Europe/Berlin:20251012T130000
DTEND;TZID=Europe/Berlin:20251012T150000
LOCATION:Hala SŠŘ\, Na Karlově 798 Jaroměř - Pražské Předměstí
SUMMARY:HK-U20Z: Jaroměř-RÉMA Rychnov
END:VEVENT
BEGIN:VEVENT
UID:66326333-3931-4166-b263-306165623266
DTSTAMP:20260423T004331Z
DESCRIPTION:7/21 Staré M. Náchod - RÉMA Rychnov 3:0 (0\,0\,0)
DTSTART;TZID=Europe/Berlin:20260118T100000
DTEND;TZID=Europe/Berlin:20260118T120000
LOCATION:Sportovni hala TJ. Sokol Staré Město - Náchod\, Na Skalce 263 Nách
 od - Staré Město nad Metují
SUMMARY:HK-U20Z: Staré M. Náchod-RÉMA Rychnov
END:VEVENT
BEGIN:VEVENT
UID:37336666-3766-4062-b661-623432646538
DTSTAMP:20260423T004331Z
DESCRIPTION:8/24 Staré M. Náchod - RÉMA Rychnov 3:0 (0\,0\,0)
DTSTART;TZID=Europe/Berlin:20260118T130000
DTEND;TZID=Europe/Berlin:20260118T150000
LOCATION:Sportovni hala TJ. Sokol Staré Město - Náchod\, Na Skalce 263 Nách
 od - Staré Město nad Metují
SUMMARY:HK-U20Z: Staré M. Náchod-RÉMA Rychnov
END:VEVENT
BEGIN:VEVENT
UID:62633463-3864-4830-b032-663764643534
DTSTAMP:20260423T004331Z
DESCRIPTION:11/33 Nová Paka - RÉMA Rychnov 2:3 (-17\,-23\,20\,19\,-12)
DTSTART;TZID=Europe/Berlin:20251123T100000
DTEND;TZID=Europe/Berlin:20251123T120000
LOCATION:hala ZŠ Husitská Nová Paka\, Husitská 1695 Nová Paka
SUMMARY:HK-U20Z: Nová Paka-RÉMA Rychnov
END:VEVENT
BEGIN:VEVENT
UID:39336436-6235-4139-b463-346164303939
DTSTAMP:20260423T004331Z
DESCRIPTION:12/36 Nová Paka - RÉMA Rychnov 3:2 (-23\,-20\,17\,17\,12)
DTSTART;TZID=Europe/Berlin:20251123T130000
DTEND;TZID=Europe/Berlin:20251123T150000
LOCATION:hala ZŠ Husitská Nová Paka\, Husitská 1695 Nová Paka
SUMMARY:HK-U20Z: Nová Paka-RÉMA Rychnov
END:VEVENT
BEGIN:VEVENT
UID:63363264-3661-4364-b936-663262343463
DTSTAMP:20260423T004331Z
DESCRIPTION:15/44 Sokol Pouchov - RÉMA Rychnov 3:1 (-22\,22\,11\,18)
DTSTART;TZID=Europe/Berlin:20251207T100000
DTEND;TZID=Europe/Berlin:20251207T120000
LOCATION:Hala Pouchov\, K Sokolovně 544 Hradec Králové - Pouchov
SUMMARY:HK-U20Z: Sokol Pouchov-RÉMA Rychnov
END:VEVENT
BEGIN:VEVENT
UID:65323838-3761-4661-a234-336236326639
DTSTAMP:20260423T004331Z
DESCRIPTION:16/47 Sokol Pouchov - RÉMA Rychnov 3:1 (24\,-22\,15\,19)
DTSTART;TZID=Europe/Berlin:20251207T130000
DTEND;TZID=Europe/Berlin:20251207T150000
LOCATION:Hala Pouchov\, K Sokolovně 544 Hradec Králové - Pouchov
SUMMARY:HK-U20Z: Sokol Pouchov-RÉMA Rychnov
END:VEVENT
BEGIN:VEVENT
UID:38343636-3935-4738-b131-656666346565
DTSTAMP:20260423T004331Z
DESCRIPTION:19/55 TJ Jičín - RÉMA Rychnov 3:0 (19\,9\,10)
DTSTART;TZID=Europe/Berlin:20260104T100000
DTEND;TZID=Europe/Berlin:20260104T120000
LOCATION:Hala Masarykovy obchodní akademie Jičín\, 17. listopadu 220 Jičín 
 - Valdické Předměstí
SUMMARY:HK-U20Z: TJ Jičín-RÉMA Rychnov
END:VEVENT
BEGIN:VEVENT
UID:30646166-3039-4065-b336-316636623839
DTSTAMP:20260423T004331Z
DESCRIPTION:20/58 TJ Jičín - RÉMA Rychnov 3:0 (22\,8\,24)
DTSTART;TZID=Europe/Berlin:20260104T130000
DTEND;TZID=Europe/Berlin:20260104T150000
LOCATION:Hala Masarykovy obchodní akademie Jičín\, 17. listopadu 220 Jičín 
 - Valdické Předměstí
SUMMARY:HK-U20Z: TJ Jičín-RÉMA Rychnov
END:VEVENT
BEGIN:VEVENT
UID:63393236-3438-4263-a563-366665363565
DTSTAMP:20260423T004331Z
DESCRIPTION:2/4 RÉMA Rychnov - Nová Paka 3:1 (18\,22\,-30\,17)\npoř: RÉMA R
 K
DTSTART;TZID=Europe/Berlin:20260125T100000
DTEND;TZID=Europe/Berlin:20260125T120000
LOCATION:hala Masarykovy obchodní akademie\, 17. listopadu 220 Jičín - Vald
 ické Předměstí
SUMMARY:HK-U20Z-FB: RÉMA Rychnov-Nová Paka
END:VEVENT
BEGIN:VEVENT
UID:32326237-6566-4963-a666-383163636438
DTSTAMP:20260423T004331Z
DESCRIPTION:3/8 RÉMA Rychnov - Nová Paka 2:0 (12\,20)
DTSTART;TZID=Europe/Berlin:20260315T113000
DTEND;TZID=Europe/Berlin:20260315T133000
LOCATION:hala Masarykovy obchodní akademie\, 17. listopadu 220 Jičín - Vald
 ické Předměstí
SUMMARY:HK-U20Z-FB: RÉMA Rychnov-Nová Paka
END:VEVENT
BEGIN:VEVENT
UID:32663866-3332-4365-a333-383833326364
DTSTAMP:20260423T004331Z
DESCRIPTION:1/1 Nová Paka - RÉMA Rychnov 1:2 (23\,-15\,-11)\nPOŘ: N.PAKA
DTSTART;TZID=Europe/Berlin:20260222T100000
DTEND;TZID=Europe/Berlin:20260222T120000
LOCATION:hala Masarykovy obchodní akademie\, 17. listopadu 220 Jičín - Vald
 ické Předměstí
SUMMARY:HK-U20Z-FB: Nová Paka-RÉMA Rychnov
END:VEVENT
BEGIN:VEVENT
UID:62356666-3432-4338-a339-343865326161
DTSTAMP:20260423T004331Z
DESCRIPTION:1/2 TJ Jičín - RÉMA Rychnov 3:0 (17\,18\,6)
DTSTART;TZID=Europe/Berlin:20260222T120000
DTEND;TZID=Europe/Berlin:20260222T140000
LOCATION:hala Masarykovy obchodní akademie\, 17. listopadu 220 Jičín - Vald
 ické Předměstí
SUMMARY:HK-U20Z-FB: TJ Jičín-RÉMA Rychnov
END:VEVENT
BEGIN:VEVENT
UID:64313532-6234-4661-b261-373234386530
DTSTAMP:20260423T004331Z
DESCRIPTION:2/6 TJ Jičín - RÉMA Rychnov 3:1 (23\,-23\,10\,20)
DTSTART;TZID=Europe/Berlin:20260125T140000
DTEND;TZID=Europe/Berlin:20260125T160000
LOCATION:hala Masarykovy obchodní akademie\, 17. listopadu 220 Jičín - Vald
 ické Předměstí
SUMMARY:HK-U20Z-FB: TJ Jičín-RÉMA Rychnov
END:VEVENT
BEGIN:VEVENT
UID:38613461-6563-4961-a261-336631396235
DTSTAMP:20260423T004331Z
DESCRIPTION:3/9 TJ Jičín - RÉMA Rychnov 2:0 (13\,22)
DTSTART;TZID=Europe/Berlin:20260315T130000
DTEND;TZID=Europe/Berlin:20260315T150000
LOCATION:hala Masarykovy obchodní akademie\, 17. listopadu 220 Jičín - Vald
 ické Předměstí
SUMMARY:HK-U20Z-FB: TJ Jičín-RÉMA Rychnov
END:VEVENT
BEGIN:VEVENT
UID:35306534-6133-4063-a636-333831393538
DTSTAMP:20260423T004331Z
DESCRIPTION:1/3 RÉMA Rychnov - Třebíč 1:2 (-23\,20\,-9)
DTSTART;TZID=Europe/Berlin:20250927T100000
DTEND;TZID=Europe/Berlin:20250927T120000
LOCATION:Hala VOŠ a SPŠS\, U Stadionu 1166 Rychnov nad Kněžnou
SUMMARY:CP-U20Z-KB: RÉMA Rychnov-Třebíč
END:VEVENT
BEGIN:VEVENT
UID:39626363-6364-4333-b763-636265333031
DTSTAMP:20260423T004331Z
DESCRIPTION:2/6 RÉMA Rychnov - Volejbalový oddíl TJ Lanškroun\, z.s. B 0:2 
 (-27\,-13)
DTSTART;TZID=Europe/Berlin:20250927T124500
DTEND;TZID=Europe/Berlin:20250927T144500
LOCATION:Hala VOŠ a SPŠS\, U Stadionu 1166 Rychnov nad Kněžnou
SUMMARY:CP-U20Z-KB: RÉMA Rychnov-Volejbalový oddíl TJ Lanškroun\, z.s. B
END:VEVENT
BEGIN:VEVENT
UID:36306361-3065-4433-b332-653935363935
DTSTAMP:20260423T004331Z
DESCRIPTION:5/13 RÉMA Rychnov - VK Prostějov\, spolek C 0:2 (-13\,-22)
DTSTART;TZID=Europe/Berlin:20250928T121500
DTEND;TZID=Europe/Berlin:20250928T141500
LOCATION:Hala VOŠ a SPŠS\, U Stadionu 1166 Rychnov nad Kněžnou
SUMMARY:CP-U20Z-KB: RÉMA Rychnov-VK Prostějov\, spolek C
END:VEVENT
BEGIN:VEVENT
UID:36633265-3733-4534-a561-636338653132
DTSTAMP:20260423T004331Z
DESCRIPTION:3/9 TJ Junior Brno - RÉMA Rychnov 2:1 (-21\,10\,7)
DTSTART;TZID=Europe/Berlin:20250927T151500
DTEND;TZID=Europe/Berlin:20250927T171500
SUMMARY:CP-U20Z-KB: TJ Junior Brno-RÉMA Rychnov
END:VEVENT
BEGIN:VEVENT
UID:39363639-6332-4261-b336-333339373662
DTSTAMP:20260423T004331Z
DESCRIPTION:4/11 Tělocvičná jednota Sokol Pardubice I. - RÉMA Rychnov 2:1 (
 -25\,20\,13)
DTSTART;TZID=Europe/Berlin:20250928T093000
DTEND;TZID=Europe/Berlin:20250928T113000
SUMMARY:CP-U20Z-KB: Tělocvičná jednota Sokol Pardubice I.-RÉMA Rychnov
END:VEVENT
BEGIN:VEVENT
UID:35313635-3066-4561-b839-323866636461
DTSTAMP:20260423T004331Z
DESCRIPTION:3/6 RÉMA Rychnov - VK Karlovarsko 2:0 (22\,16)
DTSTART;TZID=Europe/Berlin:20251115T130000
DTEND;TZID=Europe/Berlin:20251115T150000
LOCATION:Hala VOŠ a SPŠS\, U Stadionu 1166 Rychnov nad Kněžnou
SUMMARY:CP-U20Z-1D: RÉMA Rychnov-VK Karlovarsko
END:VEVENT
BEGIN:VEVENT
UID:30363565-6161-4937-b535-663535616538
DTSTAMP:20260423T004331Z
DESCRIPTION:4/8 RÉMA Rychnov - Sokol Chlumec n.C. 2:0 (20\,19)
DTSTART;TZID=Europe/Berlin:20251115T141500
DTEND;TZID=Europe/Berlin:20251115T161500
LOCATION:Hala VOŠ a SPŠS\, U Stadionu 1166 Rychnov nad Kněžnou
SUMMARY:CP-U20Z-1D: RÉMA Rychnov-Sokol Chlumec n.C.
END:VEVENT
BEGIN:VEVENT
UID:38626364-6666-4639-a162-323165346164
DTSTAMP:20260423T004331Z
DESCRIPTION:8/14 RÉMA Rychnov - Sokol Pouchov 1:2 (14\,-20\,-13)
DTSTART;TZID=Europe/Berlin:20251116T130000
DTEND;TZID=Europe/Berlin:20251116T150000
LOCATION:Hala VOŠ a SPŠS\, U Stadionu 1166 Rychnov nad Kněžnou
SUMMARY:CP-U20Z-1D: RÉMA Rychnov-Sokol Pouchov
END:VEVENT
BEGIN:VEVENT
UID:34386639-6638-4831-b032-383637623831
DTSTAMP:20260423T004331Z
DESCRIPTION:1/2 Lvi Praha C - RÉMA Rychnov 0:2 (-11\,-20)
DTSTART;TZID=Europe/Berlin:20251115T100000
DTEND;TZID=Europe/Berlin:20251115T120000
LOCATION:FZŠ Brdičkova\, Brdičkova 1878 Praha - Stodůlky
SUMMARY:CP-U20Z-1D: Lvi Praha C-RÉMA Rychnov
END:VEVENT
BEGIN:VEVENT
UID:30663337-3337-4763-a630-316135396339
DTSTAMP:20260423T004331Z
DESCRIPTION:7/13 VK Karlovy Vary - RÉMA Rychnov 0:2 (-15\,-19)
DTSTART;TZID=Europe/Berlin:20251116T113000
DTEND;TZID=Europe/Berlin:20251116T133000
LOCATION:Mattoni Arena Hala míčových sportů\, Západní 1812 Karlovy Vary
SUMMARY:CP-U20Z-1D: VK Karlovy Vary-RÉMA Rychnov
END:VEVENT
BEGIN:VEVENT
UID:35313665-3738-4063-a564-363736666662
DTSTAMP:20260423T004331Z
DESCRIPTION:1/2 RÉMA Rychnov - Jaroměř 0:2 (-19\,-20)
DTSTART;TZID=Europe/Berlin:20251213T100000
DTEND;TZID=Europe/Berlin:20251213T120000
LOCATION:Sportovni hala TJ. Sokol Staré Město - Náchod\, Na Skalce 263 Nách
 od - Staré Město nad Metují
SUMMARY:CP-U20Z-2C: RÉMA Rychnov-Jaroměř
END:VEVENT
BEGIN:VEVENT
UID:61366530-6462-4438-b861-386662643862
DTSTAMP:20260423T004331Z
DESCRIPTION:5/8 RÉMA Rychnov - Staré M. Náchod 0:2 (-12\,-11)
DTSTART;TZID=Europe/Berlin:20251213T151500
DTEND;TZID=Europe/Berlin:20251213T171500
LOCATION:Sportovni hala TJ. Sokol Staré Město - Náchod\, Na Skalce 263 Nách
 od - Staré Město nad Metují
SUMMARY:CP-U20Z-2C: RÉMA Rychnov-Staré M. Náchod
END:VEVENT
BEGIN:VEVENT
UID:35643263-6235-4564-b962-636266616161
DTSTAMP:20260423T004331Z
DESCRIPTION:3/6 Tělovýchovná jednota Jiskra Nový Bor\, z.s. - RÉMA Rychnov 
 2:0 (22\,17)
DTSTART;TZID=Europe/Berlin:20251213T123000
DTEND;TZID=Europe/Berlin:20251213T143000
LOCATION:Sportovni hala TJ. Sokol Staré Město - Náchod\, Na Skalce 263 Nách
 od - Staré Město nad Metují
SUMMARY:CP-U20Z-2C: Tělovýchovná jednota Jiskra Nový Bor\, z.s.-RÉMA Rychno
 v
END:VEVENT
BEGIN:VEVENT
UID:31313266-3636-4435-b839-313838363164
DTSTAMP:20260423T004331Z
DESCRIPTION:7/11 Čížkovice - RÉMA Rychnov 2:0 (15\,21)
DTSTART;TZID=Europe/Berlin:20251214T100000
DTEND;TZID=Europe/Berlin:20251214T120000
LOCATION:Sportovni hala TJ. Sokol Staré Město - Náchod\, Na Skalce 263 Nách
 od - Staré Město nad Metují
SUMMARY:CP-U20Z-2C: Čížkovice-RÉMA Rychnov
END:VEVENT
BEGIN:VEVENT
UID:36336335-3831-4164-b437-363636663963
DTSTAMP:20260423T004331Z
DESCRIPTION:9/14 Sokol Pouchov - RÉMA Rychnov 2:0 (26\,10)
DTSTART;TZID=Europe/Berlin:20251214T131500
DTEND;TZID=Europe/Berlin:20251214T151500
LOCATION:Sportovni hala TJ. Sokol Staré Město - Náchod\, Na Skalce 263 Nách
 od - Staré Město nad Metují
SUMMARY:CP-U20Z-2C: Sokol Pouchov-RÉMA Rychnov
END:VEVENT
BEGIN:VEVENT
UID:66323766-3834-4937-b062-343535306232
DTSTAMP:20260423T004331Z
DESCRIPTION:1/1 RÉMA Rychnov - VK Karlovarsko 2:0 (15\,13)
DTSTART;TZID=Europe/Berlin:20260110T140000
DTEND;TZID=Europe/Berlin:20260110T160000
LOCATION:VOŠ a SŠ zem.\, Komenského 873 Kostelec nad Orlicí
SUMMARY:CP-U20Z-3D: RÉMA Rychnov-VK Karlovarsko
END:VEVENT
BEGIN:VEVENT
UID:34363836-6266-4261-b132-613065323063
DTSTAMP:20260423T004331Z
DESCRIPTION:2/6 RÉMA Rychnov - VK Karlovy Vary 2:0 (21\,19)
DTSTART;TZID=Europe/Berlin:20260110T153000
DTEND;TZID=Europe/Berlin:20260110T173000
LOCATION:VOŠ a SŠ zem.\, Komenského 873 Kostelec nad Orlicí
SUMMARY:CP-U20Z-3D: RÉMA Rychnov-VK Karlovy Vary
END:VEVENT
BEGIN:VEVENT
UID:34656638-6463-4238-b236-623866343564
DTSTAMP:20260423T004331Z
DESCRIPTION:4/11 RÉMA Rychnov - Lvi Praha C 2:0 (21\,9)
DTSTART;TZID=Europe/Berlin:20260111T100000
DTEND;TZID=Europe/Berlin:20260111T120000
LOCATION:VOŠ a SŠ zem.\, Komenského 873 Kostelec nad Orlicí
SUMMARY:CP-U20Z-3D: RÉMA Rychnov-Lvi Praha C
END:VEVENT
BEGIN:VEVENT
UID:31376362-3032-4635-b563-373233643362
DTSTAMP:20260423T004331Z
DESCRIPTION:3/8 Sokol Chlumec n.C. - RÉMA Rychnov 2:1 (-11\,20\,14)
DTSTART;TZID=Europe/Berlin:20260110T171500
DTEND;TZID=Europe/Berlin:20260110T191500
LOCATION:VOŠ a SŠ zem.\, Komenského 873 Kostelec nad Orlicí
SUMMARY:CP-U20Z-3D: Sokol Chlumec n.C.-RÉMA Rychnov
END:VEVENT
BEGIN:VEVENT
UID:66633633-6630-4336-a131-646261633936
DTSTAMP:20260423T004331Z
DESCRIPTION:5/15 Čížkovice - RÉMA Rychnov 1:2 (-20\,22\,-16)
DTSTART;TZID=Europe/Berlin:20260111T113000
DTEND;TZID=Europe/Berlin:20260111T133000
LOCATION:VOŠ a SŠ zem.\, Komenského 873 Kostelec nad Orlicí
SUMMARY:CP-U20Z-3D: Čížkovice-RÉMA Rychnov
END:VEVENT
BEGIN:VEVENT
UID:62396164-3235-4439-b530-663837343932
DTSTAMP:20260423T004331Z
DESCRIPTION:2/4 RÉMA Rychnov - Staré M. Náchod 2:1 (-23\,18\,18)
DTSTART;TZID=Europe/Berlin:20260411T110000
DTEND;TZID=Europe/Berlin:20260411T130000
LOCATION:Hala VOŠ a SPŠS\, U Stadionu 1166 Rychnov nad Kněžnou
SUMMARY:CP-U20Z-4C: RÉMA Rychnov-Staré M. Náchod
END:VEVENT
BEGIN:VEVENT
UID:38633139-6361-4135-b339-373761333130
DTSTAMP:20260423T004331Z
DESCRIPTION:6/11 RÉMA Rychnov - Střešovice 0:2 (-23\,-17)
DTSTART;TZID=Europe/Berlin:20260412T093000
DTEND;TZID=Europe/Berlin:20260412T113000
LOCATION:Hala VOŠ a SPŠS\, U Stadionu 1166 Rychnov nad Kněžnou
SUMMARY:CP-U20Z-4C: RÉMA Rychnov-Střešovice
END:VEVENT
BEGIN:VEVENT
UID:32336130-3230-4135-b361-353236336466
DTSTAMP:20260423T004331Z
DESCRIPTION:3/6 Sokol Pouchov - RÉMA Rychnov 2:0 (22\,11)
DTSTART;TZID=Europe/Berlin:20260411T123000
DTEND;TZID=Europe/Berlin:20260411T143000
LOCATION:Hala Pouchov\, K Sokolovně 544 Hradec Králové - Pouchov
SUMMARY:CP-U20Z-4C: Sokol Pouchov-RÉMA Rychnov
END:VEVENT
BEGIN:VEVENT
UID:36333562-3466-4335-a261-653534343562
DTSTAMP:20260423T004331Z
DESCRIPTION:5/9 Čížkovice - RÉMA Rychnov 1:2 (-24\,24\,-11)
DTSTART;TZID=Europe/Berlin:20260411T153000
DTEND;TZID=Europe/Berlin:20260411T173000
LOCATION:Hala při ZŠ Benešova 65\, 411 12 Čížkovice
SUMMARY:CP-U20Z-4C: Čížkovice-RÉMA Rychnov
END:VEVENT
BEGIN:VEVENT
UID:62356336-3332-4464-a461-643535613665
DTSTAMP:20260423T004331Z
DESCRIPTION:7/13 Jaroměř - RÉMA Rychnov 2:0 (9\,17)
DTSTART;TZID=Europe/Berlin:20260412T110000
DTEND;TZID=Europe/Berlin:20260412T130000
LOCATION:Hala SŠŘ\, Na Karlově 798 Jaroměř - Pražské Předměstí
SUMMARY:CP-U20Z-4C: Jaroměř-RÉMA Rychnov
END:VEVENT
END:VCALENDAR
