BEGIN:VCALENDAR
VERSION:2.0
PRODID:-//T.J. Sokol Pardubice I.89178//NONSGML kigkonsult.se iCalcreator 2.41.80//
CALSCALE:GREGORIAN
UID:34616335-6664-4838-a562-333337366631
BEGIN:VEVENT
UID:31616266-6365-4432-a465-633864373437
DTSTAMP:20260422T070131Z
DESCRIPTION:3/12 Sokol Pardubice I. - Tělocvičná jednota Sokol Chrudim 3:2 
 (13\,-22\,13\,-25\,9)
DTSTART;TZID=Europe/Berlin:20251011T100000
DTEND;TZID=Europe/Berlin:20251011T120000
LOCATION:Sportovní hala\, Masarykovo nám. 108 Lázně Bohdaneč
SUMMARY:PA-U18Z: Sokol Pardubice I.-Tělocvičná jednota Sokol Chrudim
END:VEVENT
BEGIN:VEVENT
UID:62353533-6234-4537-b437-316365386233
DTSTAMP:20260422T070131Z
DESCRIPTION:4/16 Sokol Pardubice I. - Tělocvičná jednota Sokol Chrudim 3:0 
 (18\,15\,16)
DTSTART;TZID=Europe/Berlin:20251011T130000
DTEND;TZID=Europe/Berlin:20251011T150000
LOCATION:Sportovní hala\, Masarykovo nám. 108 Lázně Bohdaneč
SUMMARY:PA-U18Z: Sokol Pardubice I.-Tělocvičná jednota Sokol Chrudim
END:VEVENT
BEGIN:VEVENT
UID:35656433-3539-4965-a339-306234316565
DTSTAMP:20260422T070131Z
DESCRIPTION:11/42 Sokol Pardubice I. - TJ Energetik Chvaletice z.s. 3:1 (12
 \,29\,-23\,9)
DTSTART;TZID=Europe/Berlin:20251122T090000
DTEND;TZID=Europe/Berlin:20251122T110000
LOCATION:Sportovní areál Univerzity Pardubice\, Studentská 95 Pardubice - P
 olabiny
SUMMARY:PA-U18Z: Sokol Pardubice I.-TJ Energetik Chvaletice z.s.
END:VEVENT
BEGIN:VEVENT
UID:30386533-3830-4564-b539-343536393035
DTSTAMP:20260422T070131Z
DESCRIPTION:12/46 Sokol Pardubice I. - TJ Energetik Chvaletice z.s. 3:2 (14
 \,-12\,14\,-15\,6)
DTSTART;TZID=Europe/Berlin:20251122T130000
DTEND;TZID=Europe/Berlin:20251122T150000
LOCATION:Sportovní areál Univerzity Pardubice\, Studentská 95 Pardubice - P
 olabiny
SUMMARY:PA-U18Z: Sokol Pardubice I.-TJ Energetik Chvaletice z.s.
END:VEVENT
BEGIN:VEVENT
UID:36333937-3038-4365-b037-303239393033
DTSTAMP:20260422T070131Z
DESCRIPTION:19/74 Sokol Pardubice I. - Volejbalový klub Litomyšl\, z.s. 3:0
  (8\,17\,23)
DTSTART;TZID=Europe/Berlin:20260221T143000
DTEND;TZID=Europe/Berlin:20260221T163000
LOCATION:Sportovní hala\, Masarykovo nám. 108 Lázně Bohdaneč
SUMMARY:PA-U18Z: Sokol Pardubice I.-Volejbalový klub Litomyšl\, z.s.
END:VEVENT
BEGIN:VEVENT
UID:64333832-6262-4333-b962-633462373365
DTSTAMP:20260422T070131Z
DESCRIPTION:20/78 Sokol Pardubice I. - Volejbalový klub Litomyšl\, z.s. 3:1
  (16\,-16\,13\,13)
DTSTART;TZID=Europe/Berlin:20260221T170000
DTEND;TZID=Europe/Berlin:20260221T190000
LOCATION:Sportovní hala\, Masarykovo nám. 108 Lázně Bohdaneč
SUMMARY:PA-U18Z: Sokol Pardubice I.-Volejbalový klub Litomyšl\, z.s.
END:VEVENT
BEGIN:VEVENT
UID:39316630-6366-4138-a332-626534326633
DTSTAMP:20260422T070131Z
DESCRIPTION:21/83 Sokol Pardubice I. - TJ Spartak Polička\, z.s. 0:3 (-12\,
 -6\,-17)
DTSTART;TZID=Europe/Berlin:20260228T100000
DTEND;TZID=Europe/Berlin:20260228T120000
LOCATION:Sportovní areál Univerzity Pardubice\, Studentská 95 Pardubice - P
 olabiny
SUMMARY:PA-U18Z: Sokol Pardubice I.-TJ Spartak Polička\, z.s.
END:VEVENT
BEGIN:VEVENT
UID:36316133-3430-4835-b266-343566643065
DTSTAMP:20260422T070131Z
DESCRIPTION:22/87 Sokol Pardubice I. - TJ Spartak Polička\, z.s. 1:3 (-11\,
 -20\,23\,-8)
DTSTART;TZID=Europe/Berlin:20260228T130000
DTEND;TZID=Europe/Berlin:20260228T150000
LOCATION:Sportovní areál Univerzity Pardubice\, Studentská 95 Pardubice - P
 olabiny
SUMMARY:PA-U18Z: Sokol Pardubice I.-TJ Spartak Polička\, z.s.
END:VEVENT
BEGIN:VEVENT
UID:63343231-6562-4861-b761-336461393937
DTSTAMP:20260422T070131Z
DESCRIPTION:23/91 Sokol Pardubice I. - TJ Svitavy 3:2 (19\,-23\,-18\,15\,10
 )
DTSTART;TZID=Europe/Berlin:20260314T110000
DTEND;TZID=Europe/Berlin:20260314T130000
LOCATION:Sportovní areál Univerzity Pardubice\, Studentská 95 Pardubice - P
 olabiny
SUMMARY:PA-U18Z: Sokol Pardubice I.-TJ Svitavy
END:VEVENT
BEGIN:VEVENT
UID:36323031-6539-4634-a162-313431386666
DTSTAMP:20260422T070131Z
DESCRIPTION:24/95 Sokol Pardubice I. - TJ Svitavy 3:1 (16\,-20\,18\,24)
DTSTART;TZID=Europe/Berlin:20260314T150000
DTEND;TZID=Europe/Berlin:20260314T170000
LOCATION:Sportovní areál Univerzity Pardubice\, Studentská 95 Pardubice - P
 olabiny
SUMMARY:PA-U18Z: Sokol Pardubice I.-TJ Svitavy
END:VEVENT
BEGIN:VEVENT
UID:35306130-3130-4562-a565-356234616438
DTSTAMP:20260422T070131Z
DESCRIPTION:27/108 Sokol Pardubice I. - Lanškroun B 0:3 (-15\,-14\,-13)
DTSTART;TZID=Europe/Berlin:20260328T100000
DTEND;TZID=Europe/Berlin:20260328T120000
LOCATION:Sportovní areál Univerzity Pardubice\, Studentská 95 Pardubice - P
 olabiny
SUMMARY:PA-U18Z: Sokol Pardubice I.-Lanškroun B
END:VEVENT
BEGIN:VEVENT
UID:32366264-3438-4331-b164-373935383632
DTSTAMP:20260422T070131Z
DESCRIPTION:28/112 Sokol Pardubice I. - Lanškroun B 0:3 (-17\,-15\,-12)
DTSTART;TZID=Europe/Berlin:20260328T130000
DTEND;TZID=Europe/Berlin:20260328T150000
LOCATION:Sportovní areál Univerzity Pardubice\, Studentská 95 Pardubice - P
 olabiny
SUMMARY:PA-U18Z: Sokol Pardubice I.-Lanškroun B
END:VEVENT
BEGIN:VEVENT
UID:39396437-3638-4661-a466-343138396131
DTSTAMP:20260422T070131Z
DESCRIPTION:5/18 Volejbalový klub Litomyšl\, z.s. - Sokol Pardubice I. 0:3 
 (-11\,-4\,-13)
DTSTART;TZID=Europe/Berlin:20251018T100000
DTEND;TZID=Europe/Berlin:20251018T120000
LOCATION:Městská sportovní hala\, T. G. Masaryka 1145 Litomyšl - Litomyšl-M
 ěsto
SUMMARY:PA-U18Z: Volejbalový klub Litomyšl\, z.s.-Sokol Pardubice I.
END:VEVENT
BEGIN:VEVENT
UID:34383132-6263-4033-a662-303266623031
DTSTAMP:20260422T070131Z
DESCRIPTION:6/22 Volejbalový klub Litomyšl\, z.s. - Sokol Pardubice I. 0:3 
 (-15\,-16\,-12)
DTSTART;TZID=Europe/Berlin:20251018T130000
DTEND;TZID=Europe/Berlin:20251018T150000
LOCATION:Městská sportovní hala\, T. G. Masaryka 1145 Litomyšl - Litomyšl-M
 ěsto
SUMMARY:PA-U18Z: Volejbalový klub Litomyšl\, z.s.-Sokol Pardubice I.
END:VEVENT
BEGIN:VEVENT
UID:31636166-6266-4238-a338-643564316333
DTSTAMP:20260422T070131Z
DESCRIPTION:7/27 TJ Spartak Polička\, z.s. - Sokol Pardubice I. 3:0 (9\,16\
 ,10)
DTSTART;TZID=Europe/Berlin:20251101T100000
DTEND;TZID=Europe/Berlin:20251101T120000
LOCATION:TJ Spartak Polička\, z.s. \, nábř. Svobody 447 Polička - Horní Pře
 dměstí
SUMMARY:PA-U18Z: TJ Spartak Polička\, z.s.-Sokol Pardubice I.
END:VEVENT
BEGIN:VEVENT
UID:30663233-3539-4965-a532-636132623933
DTSTAMP:20260422T070131Z
DESCRIPTION:8/31 TJ Spartak Polička\, z.s. - Sokol Pardubice I. 3:0 (14\,25
 \,13)
DTSTART;TZID=Europe/Berlin:20251101T130000
DTEND;TZID=Europe/Berlin:20251101T150000
LOCATION:TJ Spartak Polička\, z.s. \, nábř. Svobody 447 Polička - Horní Pře
 dměstí
SUMMARY:PA-U18Z: TJ Spartak Polička\, z.s.-Sokol Pardubice I.
END:VEVENT
BEGIN:VEVENT
UID:38643430-6234-4639-b336-343631303064
DTSTAMP:20260422T070131Z
DESCRIPTION:9/35 TJ Svitavy - Sokol Pardubice I. 1:3 (24\,-18\,-21\,-19)
DTSTART;TZID=Europe/Berlin:20251108T100000
DTEND;TZID=Europe/Berlin:20251108T120000
LOCATION:Sportovní hala Na Střelnici\, Pražská 2162 Svitavy - Předměstí
SUMMARY:PA-U18Z: TJ Svitavy-Sokol Pardubice I.
END:VEVENT
BEGIN:VEVENT
UID:39633131-3938-4234-b264-356164653931
DTSTAMP:20260422T070131Z
DESCRIPTION:10/39 TJ Svitavy - Sokol Pardubice I. 3:2 (-20\,-21\,20\,20\,7)
DTSTART;TZID=Europe/Berlin:20251108T130000
DTEND;TZID=Europe/Berlin:20251108T150000
LOCATION:Sportovní hala Na Střelnici\, Pražská 2162 Svitavy - Předměstí
SUMMARY:PA-U18Z: TJ Svitavy-Sokol Pardubice I.
END:VEVENT
BEGIN:VEVENT
UID:66373733-6238-4335-b465-366531316332
DTSTAMP:20260422T070131Z
DESCRIPTION:13/52 Lanškroun B - Sokol Pardubice I. 3:0 (10\,15\,17)
DTSTART;TZID=Europe/Berlin:20251206T100000
DTEND;TZID=Europe/Berlin:20251206T120000
LOCATION:SOŠ a SOU Lanškroun\, Sokolská 288 Lanškroun - Ostrovské Předměstí
SUMMARY:PA-U18Z: Lanškroun B-Sokol Pardubice I.
END:VEVENT
BEGIN:VEVENT
UID:66643766-3266-4866-b734-363561636264
DTSTAMP:20260422T070131Z
DESCRIPTION:14/56 Lanškroun B - Sokol Pardubice I. 3:0 (18\,15\,19)
DTSTART;TZID=Europe/Berlin:20251206T130000
DTEND;TZID=Europe/Berlin:20251206T150000
LOCATION:SOŠ a SOU Lanškroun\, Sokolská 288 Lanškroun - Ostrovské Předměstí
SUMMARY:PA-U18Z: Lanškroun B-Sokol Pardubice I.
END:VEVENT
BEGIN:VEVENT
UID:61343233-6361-4839-a261-646466626134
DTSTAMP:20260422T070131Z
DESCRIPTION:17/68 Tělocvičná jednota Sokol Chrudim - Sokol Pardubice I. 1:3
  (-11\,22\,-19\,-23)
DTSTART;TZID=Europe/Berlin:20260125T100000
DTEND;TZID=Europe/Berlin:20260125T120000
LOCATION:, Tyršovo náměstí 12 Chrudim - Chrudim II
SUMMARY:PA-U18Z: Tělocvičná jednota Sokol Chrudim-Sokol Pardubice I.
END:VEVENT
BEGIN:VEVENT
UID:63633633-3231-4231-a661-626633346534
DTSTAMP:20260422T070131Z
DESCRIPTION:18/72 Tělocvičná jednota Sokol Chrudim - Sokol Pardubice I. 1:3
  (-21\,-17\,18\,-13)
DTSTART;TZID=Europe/Berlin:20260125T130000
DTEND;TZID=Europe/Berlin:20260125T150000
LOCATION:, Tyršovo náměstí 12 Chrudim - Chrudim II
SUMMARY:PA-U18Z: Tělocvičná jednota Sokol Chrudim-Sokol Pardubice I.
END:VEVENT
BEGIN:VEVENT
UID:66323638-3966-4037-b130-386365393138
DTSTAMP:20260422T070131Z
DESCRIPTION:25/98 TJ Energetik Chvaletice z.s. - Sokol Pardubice I. 3:1 (22
 \,-16\,17\,16)
DTSTART;TZID=Europe/Berlin:20260321T090000
DTEND;TZID=Europe/Berlin:20260321T110000
LOCATION:ZŠ Chvaletice\, Spojovací 431 Chvaletice
SUMMARY:PA-U18Z: TJ Energetik Chvaletice z.s.-Sokol Pardubice I.
END:VEVENT
BEGIN:VEVENT
UID:35396337-3534-4432-a166-623339366462
DTSTAMP:20260422T070131Z
DESCRIPTION:26/102 TJ Energetik Chvaletice z.s. - Sokol Pardubice I. 0:3 (-
 15\,-22\,-24)
DTSTART;TZID=Europe/Berlin:20260321T130000
DTEND;TZID=Europe/Berlin:20260321T150000
LOCATION:ZŠ Chvaletice\, Spojovací 431 Chvaletice
SUMMARY:PA-U18Z: TJ Energetik Chvaletice z.s.-Sokol Pardubice I.
END:VEVENT
END:VCALENDAR
