BEGIN:VCALENDAR
VERSION:2.0
PRODID:-//Pardubice I. U1889180//NONSGML kigkonsult.se iCalcreator 2.41.80//
CALSCALE:GREGORIAN
UID:64386334-3232-4136-b938-366139316261
BEGIN:VEVENT
UID:64373066-3039-4066-b365-633435336630
DTSTAMP:20260423T035324Z
DESCRIPTION:1/6 Sokol Pardubice I. - Choceň U20 1:1 (-17\,24)
DTSTART;TZID=Europe/Berlin:20250913T104500
DTEND;TZID=Europe/Berlin:20250913T124500
LOCATION:Sokolovna\, Jiráskova 29 Pardubice - Zelené Předměstí
SUMMARY:PA-U22M-K-II: Sokol Pardubice I.-Choceň U20
END:VEVENT
BEGIN:VEVENT
UID:62353133-3435-4831-b838-353030626562
DTSTAMP:20260423T035324Z
DESCRIPTION:1/11 Sokol Pardubice I. - Litomyšl U20 1:1 (-16\,27)
DTSTART;TZID=Europe/Berlin:20250913T130000
DTEND;TZID=Europe/Berlin:20250913T150000
LOCATION:Sokolovna\, Jiráskova 29 Pardubice - Zelené Předměstí
SUMMARY:PA-U22M-K-II: Sokol Pardubice I.-Litomyšl U20
END:VEVENT
BEGIN:VEVENT
UID:31326132-3064-4834-b266-643665613235
DTSTAMP:20260423T035324Z
DESCRIPTION:1/13 Sokol Pardubice I. - Tělocvičná jednota Sokol Pardubice I.
  0:2 (-16\,-12)
DTSTART;TZID=Europe/Berlin:20250913T134500
DTEND;TZID=Europe/Berlin:20250913T154500
LOCATION:Sokolovna\, Jiráskova 29 Pardubice - Zelené Předměstí
SUMMARY:PA-U22M-K-II: Sokol Pardubice I.-Tělocvičná jednota Sokol Pardubice
  I.
END:VEVENT
BEGIN:VEVENT
UID:32616236-6464-4333-b064-356332663135
DTSTAMP:20260423T035324Z
DESCRIPTION:1/2 Orel Letohrad - Sokol Pardubice I. 2:0 (12\,14)
DTSTART;TZID=Europe/Berlin:20250913T090000
DTEND;TZID=Europe/Berlin:20250913T110000
LOCATION:TJ Spartak Letohrad\, Jilemnického 341 Letohrad
SUMMARY:PA-U22M-K-II: Orel Letohrad-Sokol Pardubice I.
END:VEVENT
BEGIN:VEVENT
UID:38633235-6136-4065-b930-333931353366
DTSTAMP:20260423T035324Z
DESCRIPTION:1/9 Česká Třebová U20 - Sokol Pardubice I. 2:0 (12\,16)
DTSTART;TZID=Europe/Berlin:20250913T121500
DTEND;TZID=Europe/Berlin:20250913T141500
LOCATION:Základní škola Česká Třebová Habrmanova\, Na Skále\, Na Skále 566 
 Česká Třebová
SUMMARY:PA-U22M-K-II: Česká Třebová U20-Sokol Pardubice I.
END:VEVENT
BEGIN:VEVENT
UID:66343336-6363-4661-b437-373936313661
DTSTAMP:20260423T035324Z
DESCRIPTION:1/1 Havlíčkův Brod - Sokol Pardubice I. 3:0 (17\,23\,16)
DTSTART;TZID=Europe/Berlin:20251011T090000
DTEND;TZID=Europe/Berlin:20251011T110000
LOCATION:Sportovní hala TJ Jiskra\, Ledečská 3028 Havlíčkův Brod
SUMMARY:PA-U22M-1E: Havlíčkův Brod-Sokol Pardubice I.
END:VEVENT
BEGIN:VEVENT
UID:66343266-6463-4964-b539-393530353434
DTSTAMP:20260423T035324Z
DESCRIPTION:1/2 Hlinsko - Sokol Pardubice I. 0:3 (-14\,-13\,-14)
DTSTART;TZID=Europe/Berlin:20251011T110000
DTEND;TZID=Europe/Berlin:20251011T130000
LOCATION:Sportovní hala Hlinsko\, Smetanova 1524 Hlinsko
SUMMARY:PA-U22M-1E: Hlinsko-Sokol Pardubice I.
END:VEVENT
BEGIN:VEVENT
UID:65643563-6439-4366-a330-633832663966
DTSTAMP:20260423T035324Z
DESCRIPTION:1/1 Sokol Pardubice I. - VK DK 2:3 (-22\,-23\,22\,12\,-11)
DTSTART;TZID=Europe/Berlin:20251108T090000
DTEND;TZID=Europe/Berlin:20251108T110000
LOCATION:Sokolovna\, Jiráskova 29 Pardubice - Zelené Předměstí
SUMMARY:PA-U22M-2E: Sokol Pardubice I.-VK DK
END:VEVENT
BEGIN:VEVENT
UID:65663731-3338-4336-b662-353933623563
DTSTAMP:20260423T035324Z
DESCRIPTION:1/3 Sokol Pardubice I. - VKM Nová Paka 0:3 (-18\,-25\,-21)
DTSTART;TZID=Europe/Berlin:20251108T130000
DTEND;TZID=Europe/Berlin:20251108T150000
LOCATION:Sokolovna\, Jiráskova 29 Pardubice - Zelené Předměstí
SUMMARY:PA-U22M-2E: Sokol Pardubice I.-VKM Nová Paka
END:VEVENT
BEGIN:VEVENT
UID:31306264-6637-4765-b263-376634636530
DTSTAMP:20260423T035324Z
DESCRIPTION:1/2 Sokol Pardubice I. - Hlinsko 3:0 (6\,18\,21)
DTSTART;TZID=Europe/Berlin:20251206T110000
DTEND;TZID=Europe/Berlin:20251206T130000
LOCATION:Sokolovna\, Jiráskova 29 Pardubice - Zelené Předměstí
SUMMARY:PA-U22M-3F: Sokol Pardubice I.-Hlinsko
END:VEVENT
BEGIN:VEVENT
UID:33663966-3364-4462-b664-326262393335
DTSTAMP:20260423T035324Z
DESCRIPTION:1/3 Školní sportovní klub Demlova Jihlava\, z.s. - Sokol Pardub
 ice I. 1:3 (13\,-16\,-8\,-13)
DTSTART;TZID=Europe/Berlin:20251206T130000
DTEND;TZID=Europe/Berlin:20251206T150000
LOCATION:SŠ Stavební Jihlava\, Žižkova 1939 Jihlava
SUMMARY:PA-U22M-3F: Školní sportovní klub Demlova Jihlava\, z.s.-Sokol Pard
 ubice I.
END:VEVENT
BEGIN:VEVENT
UID:34643135-3366-4234-a138-353862323138
DTSTAMP:20260423T035324Z
DESCRIPTION:1/1 Choceň U20 - Sokol Pardubice I. 3:0 (12\,14\,20)
DTSTART;TZID=Europe/Berlin:20260111T090000
DTEND;TZID=Europe/Berlin:20260111T110000
LOCATION:Volejbalová hala \, U Koupaliště 1734 Choceň
SUMMARY:PA-U22M-4E: Choceň U20-Sokol Pardubice I.
END:VEVENT
BEGIN:VEVENT
UID:32373039-6438-4230-a563-366339363338
DTSTAMP:20260423T035324Z
DESCRIPTION:1/2 VK DK - Sokol Pardubice I. 1:3 (-20\,-16\,23\,-18)
DTSTART;TZID=Europe/Berlin:20260111T110000
DTEND;TZID=Europe/Berlin:20260111T130000
LOCATION:Hala ZŠ Strž\, Elišky Krásnohorské 2919 Dvůr Králové nad Labem
SUMMARY:PA-U22M-4E: VK DK-Sokol Pardubice I.
END:VEVENT
BEGIN:VEVENT
UID:33646330-6266-4132-b336-616332363837
DTSTAMP:20260423T035324Z
DESCRIPTION:1/1 Havlíčkův Brod - Sokol Pardubice I. 2:3 (17\,18\,-20\,-22\,
 -9)
DTSTART;TZID=Europe/Berlin:20260221T090000
DTEND;TZID=Europe/Berlin:20260221T110000
LOCATION:Sportovní hala TJ Jiskra\, Ledečská 3028 Havlíčkův Brod
SUMMARY:PA-U22M-5E: Havlíčkův Brod-Sokol Pardubice I.
END:VEVENT
BEGIN:VEVENT
UID:66633237-6561-4132-b462-633238336436
DTSTAMP:20260423T035324Z
DESCRIPTION:1/2 Litomyšl U20 - Sokol Pardubice I. 3:1 (23\,27\,-21\,22)
DTSTART;TZID=Europe/Berlin:20260221T110000
DTEND;TZID=Europe/Berlin:20260221T130000
LOCATION:Městská sportovní hala\, T. G. Masaryka 1145 Litomyšl - Litomyšl-M
 ěsto
SUMMARY:PA-U22M-5E: Litomyšl U20-Sokol Pardubice I.
END:VEVENT
BEGIN:VEVENT
UID:66393938-3462-4833-a661-373432666364
DTSTAMP:20260423T035324Z
DESCRIPTION:1/2 Sokol Pardubice I. - Hlinsko 3:0 (18\,19\,16)
DTSTART;TZID=Europe/Berlin:20260307T110000
DTEND;TZID=Europe/Berlin:20260307T130000
LOCATION:Sokolovna\, Jiráskova 29 Pardubice - Zelené Předměstí
SUMMARY:PA-U22M-6F: Sokol Pardubice I.-Hlinsko
END:VEVENT
BEGIN:VEVENT
UID:66383238-3962-4361-b537-353266313136
DTSTAMP:20260423T035324Z
DESCRIPTION:1/3 Školní sportovní klub Demlova Jihlava\, z.s. - Sokol Pardub
 ice I. 0:3 (-20\,-16\,-21)
DTSTART;TZID=Europe/Berlin:20260307T130000
DTEND;TZID=Europe/Berlin:20260307T150000
LOCATION:SŠ Stavební Jihlava\, Žižkova 1939 Jihlava
SUMMARY:PA-U22M-6F: Školní sportovní klub Demlova Jihlava\, z.s.-Sokol Pard
 ubice I.
END:VEVENT
END:VCALENDAR
