BEGIN:VCALENDAR
VERSION:2.0
PRODID:-//TJ Lokomotiva Česká Lípa, z.s.89184//NONSGML kigkonsult.se iCalcreator 2.41.80//
CALSCALE:GREGORIAN
UID:33303339-3234-4664-b636-336230663431
BEGIN:VEVENT
UID:66363231-3032-4366-b535-643931616132
DTSTAMP:20260422T131107Z
DESCRIPTION:1/1 TJ Lokomotiva Česká Lípa - Volejbal Vršovice Praha 0:2 (-4\
 ,-6)
DTSTART;TZID=Europe/Berlin:20250913T090000
DTEND;TZID=Europe/Berlin:20250913T110000
LOCATION:ZŠ Lada\, Šluknovská 2904 Česká Lípa
SUMMARY:CP-U16Z-Z1D: TJ Lokomotiva Česká Lípa-Volejbal Vršovice Praha
END:VEVENT
BEGIN:VEVENT
UID:39623935-3962-4339-b636-366161356163
DTSTAMP:20260422T131107Z
DESCRIPTION:4/8 TJ Lokomotiva Česká Lípa - BV Vratislavice n. N. z.s. 0:2 (
 -14\,-12)
DTSTART;TZID=Europe/Berlin:20250913T124500
DTEND;TZID=Europe/Berlin:20250913T144500
LOCATION:ZŠ Lada\, Šluknovská 2904 Česká Lípa
SUMMARY:CP-U16Z-Z1D: TJ Lokomotiva Česká Lípa-BV Vratislavice n. N. z.s.
END:VEVENT
BEGIN:VEVENT
UID:65623533-6238-4432-b630-356464353763
DTSTAMP:20260422T131107Z
DESCRIPTION:10/20 TJ Lokomotiva Česká Lípa - Mikulova A 0:2 (-12\,-12)
DTSTART;TZID=Europe/Berlin:20250914T113000
DTEND;TZID=Europe/Berlin:20250914T133000
LOCATION:ZŠ Lada\, Šluknovská 2904 Česká Lípa
SUMMARY:CP-U16Z-Z1D: TJ Lokomotiva Česká Lípa-Mikulova A
END:VEVENT
BEGIN:VEVENT
UID:36343563-6639-4936-a161-336535623865
DTSTAMP:20260422T131107Z
DESCRIPTION:3/5 VK Lvi Praha - TJ Lokomotiva Česká Lípa 2:0 (9\,6)
DTSTART;TZID=Europe/Berlin:20250913T113000
DTEND;TZID=Europe/Berlin:20250913T133000
LOCATION:FZŠ Brdičkova\, Brdičkova 1878 Praha - Stodůlky
SUMMARY:CP-U16Z-Z1D: VK Lvi Praha-TJ Lokomotiva Česká Lípa
END:VEVENT
BEGIN:VEVENT
UID:35383733-6661-4531-b234-333562616366
DTSTAMP:20260422T131107Z
DESCRIPTION:6/12 TJ Bižuterie Jablonec n/N - TJ Lokomotiva Česká Lípa 2:0 (
 12\,2)
DTSTART;TZID=Europe/Berlin:20250913T151500
DTEND;TZID=Europe/Berlin:20250913T171500
LOCATION:Městská sportovní hala\, U Přehrady 4747 Jablonec nad Nisou
SUMMARY:CP-U16Z-Z1D: TJ Bižuterie Jablonec n/N-TJ Lokomotiva Česká Lípa
END:VEVENT
BEGIN:VEVENT
UID:38623463-6637-4636-b536-356136613434
DTSTAMP:20260422T131107Z
DESCRIPTION:11/21 TJ Slovan Varnsdorf - TJ Lokomotiva Česká Lípa 2:0 (5\,14
 )
DTSTART;TZID=Europe/Berlin:20250914T124500
DTEND;TZID=Europe/Berlin:20250914T144500
SUMMARY:CP-U16Z-Z1D: TJ Slovan Varnsdorf-TJ Lokomotiva Česká Lípa
END:VEVENT
BEGIN:VEVENT
UID:62353531-3931-4333-b038-323332623035
DTSTAMP:20260422T131107Z
DESCRIPTION:6/6 TJ Lokomotiva Česká Lípa - Tělovýchovná jednota SLAVIA Libe
 rec\, z.s. 0:2 (-24\,-9)
DTSTART;TZID=Europe/Berlin:20250921T140000
DTEND;TZID=Europe/Berlin:20250921T160000
LOCATION:ZŠ Lada\, Šluknovská 2904 Česká Lípa
SUMMARY:LIB-U16Z-K-B: TJ Lokomotiva Česká Lípa-Tělovýchovná jednota SLAVIA 
 Liberec\, z.s.
END:VEVENT
BEGIN:VEVENT
UID:63336431-3336-4536-b837-626562636435
DTSTAMP:20260422T131107Z
DESCRIPTION:2/2 Liberec - TJ Lokomotiva Česká Lípa 2:0 (15\,11)
DTSTART;TZID=Europe/Berlin:20250921T100000
DTEND;TZID=Europe/Berlin:20250921T120000
LOCATION:Dukla Liberec\, Jeronýmova 558 Liberec - Liberec VII-Horní Růžodol
SUMMARY:LIB-U16Z-K-B: Liberec-TJ Lokomotiva Česká Lípa
END:VEVENT
BEGIN:VEVENT
UID:30636235-6635-4562-b136-643038316432
DTSTAMP:20260422T131107Z
DESCRIPTION:4/4 TJ Sokol M. Hradiště - TJ Lokomotiva Česká Lípa 1:2 (22\,-2
 3\,-8)
DTSTART;TZID=Europe/Berlin:20250921T120000
DTEND;TZID=Europe/Berlin:20250921T140000
LOCATION:Sportovní hala BIOS\, Sokolovská 254 Mnichovo Hradiště
SUMMARY:LIB-U16Z-K-B: TJ Sokol M. Hradiště-TJ Lokomotiva Česká Lípa
END:VEVENT
BEGIN:VEVENT
UID:35333830-3735-4231-b031-643334333330
DTSTAMP:20260422T131107Z
DESCRIPTION:3/5 TJ Lokomotiva Česká Lípa - SKVD Ústí n.L. 0:2 (-7\,-10)
DTSTART;TZID=Europe/Berlin:20251018T120000
DTEND;TZID=Europe/Berlin:20251018T140000
LOCATION:ZŠ Lada\, Šluknovská 2904 Česká Lípa
SUMMARY:CP-U16Z-Z2F: TJ Lokomotiva Česká Lípa-SKVD Ústí n.L.
END:VEVENT
BEGIN:VEVENT
UID:63643163-3339-4835-a130-303037623233
DTSTAMP:20260422T131107Z
DESCRIPTION:6/12 TJ Lokomotiva Česká Lípa - Kladno C 0:2 (-22\,-12)
DTSTART;TZID=Europe/Berlin:20251018T163000
DTEND;TZID=Europe/Berlin:20251018T183000
LOCATION:ZŠ Lada\, Šluknovská 2904 Česká Lípa
SUMMARY:CP-U16Z-Z2F: TJ Lokomotiva Česká Lípa-Kladno C
END:VEVENT
BEGIN:VEVENT
UID:36393862-3434-4561-b437-663565393933
DTSTAMP:20260422T131107Z
DESCRIPTION:8/16 TJ Lokomotiva Česká Lípa - SK TŘEBÍN 0:2 (-18\,-17)
DTSTART;TZID=Europe/Berlin:20251019T090000
DTEND;TZID=Europe/Berlin:20251019T110000
LOCATION:ZŠ Lada\, Šluknovská 2904 Česká Lípa
SUMMARY:CP-U16Z-Z2F: TJ Lokomotiva Česká Lípa-SK TŘEBÍN
END:VEVENT
BEGIN:VEVENT
UID:30333736-3166-4230-b630-393839643637
DTSTAMP:20260422T131107Z
DESCRIPTION:1/2 TJ Sokol M. Hradiště - TJ Lokomotiva Česká Lípa 2:0 (19\,15
 )
DTSTART;TZID=Europe/Berlin:20251018T090000
DTEND;TZID=Europe/Berlin:20251018T110000
LOCATION:Sportovní hala BIOS\, Sokolovská 254 Mnichovo Hradiště
SUMMARY:CP-U16Z-Z2F: TJ Sokol M. Hradiště-TJ Lokomotiva Česká Lípa
END:VEVENT
BEGIN:VEVENT
UID:65343132-3336-4931-b039-356264326465
DTSTAMP:20260422T131107Z
DESCRIPTION:4/7 VSK Český Krumlov - TJ Lokomotiva Česká Lípa 2:0 (19\,4)
DTSTART;TZID=Europe/Berlin:20251018T133000
DTEND;TZID=Europe/Berlin:20251018T153000
LOCATION:ZŠ Za Nádražím Český Krumlov\, Za Nádražím 222 Český Krumlov - Nád
 ražní Předměstí
SUMMARY:CP-U16Z-Z2F: VSK Český Krumlov-TJ Lokomotiva Česká Lípa
END:VEVENT
BEGIN:VEVENT
UID:33666163-3330-4537-b538-396464626530
DTSTAMP:20260422T131107Z
DESCRIPTION:10/19 Škola volejbalu Č. Budějovice - TJ Lokomotiva Česká Lípa 
 2:0 (7\,10)
DTSTART;TZID=Europe/Berlin:20251019T120000
DTEND;TZID=Europe/Berlin:20251019T140000
LOCATION:Sportovní hala Hrdějovice\,  Hrdějovice597
SUMMARY:CP-U16Z-Z2F: Škola volejbalu Č. Budějovice-TJ Lokomotiva Česká Lípa
END:VEVENT
BEGIN:VEVENT
UID:39643932-3664-4665-b535-343861653037
DTSTAMP:20260422T131107Z
DESCRIPTION:6/23 TJ Lokomotiva Česká Lípa - TJ Slovan Varnsdorf z.s. 'C' 1:
 2 (15\,-29\,-10)
DTSTART;TZID=Europe/Berlin:20251012T140000
DTEND;TZID=Europe/Berlin:20251012T160000
LOCATION:ZŠ Lada\, Šluknovská 2904 Česká Lípa
SUMMARY:LIB-U16Z-K-H: TJ Lokomotiva Česká Lípa-TJ Slovan Varnsdorf z.s. 'C'
END:VEVENT
BEGIN:VEVENT
UID:61663566-3330-4262-b432-343530623131
DTSTAMP:20260422T131107Z
DESCRIPTION:2/7 Tělovýchovná jednota SLAVIA Liberec\, z.s. - TJ Lokomotiva 
 Česká Lípa 2:0 (12\,21)
DTSTART;TZID=Europe/Berlin:20251012T100000
DTEND;TZID=Europe/Berlin:20251012T120000
LOCATION:Základní škola\, Liberec\, Sokolovská \, Sokolovská 328 Liberec - 
 Liberec XIII-Nové Pavlovice
SUMMARY:LIB-U16Z-K-H: Tělovýchovná jednota SLAVIA Liberec\, z.s.-TJ Lokomot
 iva Česká Lípa
END:VEVENT
BEGIN:VEVENT
UID:65373966-6364-4134-a331-396139306564
DTSTAMP:20260422T131107Z
DESCRIPTION:4/15 BV Vratislavice n. N - TJ Lokomotiva Česká Lípa 2:0 (4\,13
 )
DTSTART;TZID=Europe/Berlin:20251012T120000
DTEND;TZID=Europe/Berlin:20251012T140000
LOCATION:, Nad Školou 278 Liberec - Liberec XXX-Vratislavice nad Nisou
SUMMARY:LIB-U16Z-K-H: BV Vratislavice n. N-TJ Lokomotiva Česká Lípa
END:VEVENT
BEGIN:VEVENT
UID:63313863-3235-4062-a236-353033303937
DTSTAMP:20260422T131107Z
DESCRIPTION:1/2 TJ Lokomotiva Česká Lípa - Kladno C 0:2 (-20\,-21)
DTSTART;TZID=Europe/Berlin:20251129T090000
DTEND;TZID=Europe/Berlin:20251129T110000
LOCATION:ZŠ Lada\, Šluknovská 2904 Česká Lípa
SUMMARY:CP-U16Z-Z3F: TJ Lokomotiva Česká Lípa-Kladno C
END:VEVENT
BEGIN:VEVENT
UID:33313463-6634-4438-b139-633665356439
DTSTAMP:20260422T131107Z
DESCRIPTION:8/16 TJ Lokomotiva Česká Lípa - VK Rokycany 0:2 (-19\,-12)
DTSTART;TZID=Europe/Berlin:20251130T090000
DTEND;TZID=Europe/Berlin:20251130T110000
LOCATION:ZŠ Lada\, Šluknovská 2904 Česká Lípa
SUMMARY:CP-U16Z-Z3F: TJ Lokomotiva Česká Lípa-VK Rokycany
END:VEVENT
BEGIN:VEVENT
UID:30323863-3463-4630-b763-363038356564
DTSTAMP:20260422T131107Z
DESCRIPTION:9/17 TJ Lokomotiva Česká Lípa - VSK Český Krumlov 0:2 (-13\,-16
 )
DTSTART;TZID=Europe/Berlin:20251130T101500
DTEND;TZID=Europe/Berlin:20251130T121500
LOCATION:ZŠ Lada\, Šluknovská 2904 Česká Lípa
SUMMARY:CP-U16Z-Z3F: TJ Lokomotiva Česká Lípa-VSK Český Krumlov
END:VEVENT
BEGIN:VEVENT
UID:63613662-6330-4961-a330-646262616234
DTSTAMP:20260422T131107Z
DESCRIPTION:3/5 TJ Sokol M. Hradiště - TJ Lokomotiva Česká Lípa 2:0 (19\,9)
DTSTART;TZID=Europe/Berlin:20251129T113000
DTEND;TZID=Europe/Berlin:20251129T133000
LOCATION:Sportovní hala BIOS\, Sokolovská 254 Mnichovo Hradiště
SUMMARY:CP-U16Z-Z3F: TJ Sokol M. Hradiště-TJ Lokomotiva Česká Lípa
END:VEVENT
BEGIN:VEVENT
UID:33393037-6564-4233-b230-613961396639
DTSTAMP:20260422T131107Z
DESCRIPTION:5/9 SK TŘEBÍN - TJ Lokomotiva Česká Lípa 2:0 (16\,13)
DTSTART;TZID=Europe/Berlin:20251129T140000
DTEND;TZID=Europe/Berlin:20251129T160000
LOCATION:ZŠ Máj I\, M. Chlajna 1319 České Budějovice - České Budějovice 2
SUMMARY:CP-U16Z-Z3F: SK TŘEBÍN-TJ Lokomotiva Česká Lípa
END:VEVENT
BEGIN:VEVENT
UID:32653762-3035-4262-a337-316561303236
DTSTAMP:20260422T131107Z
DESCRIPTION:6/11 BV Vratislavice n. N. z.s. - TJ Lokomotiva Česká Lípa 2:0 
 (12\,14)
DTSTART;TZID=Europe/Berlin:20251129T151500
DTEND;TZID=Europe/Berlin:20251129T171500
SUMMARY:CP-U16Z-Z3F: BV Vratislavice n. N. z.s.-TJ Lokomotiva Česká Lípa
END:VEVENT
BEGIN:VEVENT
UID:66613664-6137-4139-b233-323764323033
DTSTAMP:20260422T131107Z
DESCRIPTION:1/1 TJ Lokomotiva Česká Lípa - SK Osečná\, z.s. 0:2 (-20\,-12)
DTSTART;TZID=Europe/Berlin:20251102T090000
DTEND;TZID=Europe/Berlin:20251102T110000
LOCATION:ZŠ Lada\, Šluknovská 2904 Česká Lípa
SUMMARY:LIB-U16Z-1-4-L: TJ Lokomotiva Česká Lípa-SK Osečná\, z.s.
END:VEVENT
BEGIN:VEVENT
UID:38633764-6634-4634-b934-363631653766
DTSTAMP:20260422T131107Z
DESCRIPTION:4/4 TJ Lokomotiva Česká Lípa - TJ Sokol M. Hradiště 2:0 (11\,18
 )
DTSTART;TZID=Europe/Berlin:20251102T120000
DTEND;TZID=Europe/Berlin:20251102T140000
LOCATION:ZŠ Lada\, Šluknovská 2904 Česká Lípa
SUMMARY:LIB-U16Z-1-4-L: TJ Lokomotiva Česká Lípa-TJ Sokol M. Hradiště
END:VEVENT
BEGIN:VEVENT
UID:63383163-6437-4665-b530-636132336636
DTSTAMP:20260422T131107Z
DESCRIPTION:5/5 TJ Slovan Varnsdorf z.s. 'C' - TJ Lokomotiva Česká Lípa 0:2
  (-15\,-18)
DTSTART;TZID=Europe/Berlin:20251102T130000
DTEND;TZID=Europe/Berlin:20251102T150000
LOCATION:Sportovní hala Varnsdorf\, Západní 2984 Varnsdorf
SUMMARY:LIB-U16Z-1-4-L: TJ Slovan Varnsdorf z.s. 'C'-TJ Lokomotiva Česká Lí
 pa
END:VEVENT
BEGIN:VEVENT
UID:38613533-3235-4066-b639-663434353637
DTSTAMP:20260422T131107Z
DESCRIPTION:1/2 TJ Lokomotiva Česká Lípa - TJ Slovan Varnsdorf z.s. 'B' 0:2
  (-21\,-12)
DTSTART;TZID=Europe/Berlin:20251123T090000
DTEND;TZID=Europe/Berlin:20251123T110000
LOCATION:ZŠ Lada\, Šluknovská 2904 Česká Lípa
SUMMARY:LIB-U16Z-2-4-L: TJ Lokomotiva Česká Lípa-TJ Slovan Varnsdorf z.s. '
 B'
END:VEVENT
BEGIN:VEVENT
UID:66303336-3962-4133-b635-316230353937
DTSTAMP:20260422T131107Z
DESCRIPTION:4/8 TJ Lokomotiva Česká Lípa - TJ Sokol M. Hradiště 0:2 (-21\,-
 17)
DTSTART;TZID=Europe/Berlin:20251123T120000
DTEND;TZID=Europe/Berlin:20251123T140000
LOCATION:ZŠ Lada\, Šluknovská 2904 Česká Lípa
SUMMARY:LIB-U16Z-2-4-L: TJ Lokomotiva Česká Lípa-TJ Sokol M. Hradiště
END:VEVENT
BEGIN:VEVENT
UID:65666138-3836-4263-a664-346432383035
DTSTAMP:20260422T131107Z
DESCRIPTION:6/12 TJ Zákupy\, z.s. - TJ Lokomotiva Česká Lípa 2:0 (10\,16)
DTSTART;TZID=Europe/Berlin:20251123T140000
DTEND;TZID=Europe/Berlin:20251123T160000
LOCATION:Hala ZŠ Zákupy\, Školní 347 Zákupy
SUMMARY:LIB-U16Z-2-4-L: TJ Zákupy\, z.s.-TJ Lokomotiva Česká Lípa
END:VEVENT
BEGIN:VEVENT
UID:62376133-3435-4665-a533-333130326337
DTSTAMP:20260422T131107Z
DESCRIPTION:4/7 TJ Lokomotiva Česká Lípa - SK TŘEBÍN 0:2 (-10\,-19)
DTSTART;TZID=Europe/Berlin:20260117T124500
DTEND;TZID=Europe/Berlin:20260117T144500
LOCATION:ZŠ Lada\, Šluknovská 2904 Česká Lípa
SUMMARY:CP-U16Z4J: TJ Lokomotiva Česká Lípa-SK TŘEBÍN
END:VEVENT
BEGIN:VEVENT
UID:63653431-3539-4637-a239-313866643038
DTSTAMP:20260422T131107Z
DESCRIPTION:8/16 TJ Lokomotiva Česká Lípa - Sokol Předklášteří 0:2 (-15\,-1
 2)
DTSTART;TZID=Europe/Berlin:20260118T090000
DTEND;TZID=Europe/Berlin:20260118T110000
LOCATION:ZŠ Lada\, Šluknovská 2904 Česká Lípa
SUMMARY:CP-U16Z4J: TJ Lokomotiva Česká Lípa-Sokol Předklášteří
END:VEVENT
BEGIN:VEVENT
UID:33303964-3836-4433-b666-386436373432
DTSTAMP:20260422T131107Z
DESCRIPTION:1/1 TJ Agrotec Hustopeče - TJ Lokomotiva Česká Lípa 2:0 (16\,21
 )
DTSTART;TZID=Europe/Berlin:20260117T090000
DTEND;TZID=Europe/Berlin:20260117T110000
LOCATION:Městská sportovní hala\, Šafaříkova 1016 Hustopeče
SUMMARY:CP-U16Z4J: TJ Agrotec Hustopeče-TJ Lokomotiva Česká Lípa
END:VEVENT
BEGIN:VEVENT
UID:33373231-3730-4433-b934-323237323434
DTSTAMP:20260422T131107Z
DESCRIPTION:3/5 Kladno C - TJ Lokomotiva Česká Lípa 2:0 (16\,14)
DTSTART;TZID=Europe/Berlin:20260117T113000
DTEND;TZID=Europe/Berlin:20260117T133000
LOCATION:Kladenská sportovní hala\, Sportovců 817 Kladno - Rozdělov
SUMMARY:CP-U16Z4J: Kladno C-TJ Lokomotiva Česká Lípa
END:VEVENT
BEGIN:VEVENT
UID:36656536-3139-4766-b966-356363313131
DTSTAMP:20260422T131107Z
DESCRIPTION:5/10 TJ Sokol M. Hradiště - TJ Lokomotiva Česká Lípa 2:0 (12\,5
 )
DTSTART;TZID=Europe/Berlin:20260117T140000
DTEND;TZID=Europe/Berlin:20260117T160000
LOCATION:Sportovní hala BIOS\, Sokolovská 254 Mnichovo Hradiště
SUMMARY:CP-U16Z4J: TJ Sokol M. Hradiště-TJ Lokomotiva Česká Lípa
END:VEVENT
BEGIN:VEVENT
UID:34643666-6435-4263-b539-613630363331
DTSTAMP:20260422T131107Z
DESCRIPTION:11/21 TJ Lanškroun - TJ Lokomotiva Česká Lípa 2:0 (11\,14)
DTSTART;TZID=Europe/Berlin:20260118T124500
DTEND;TZID=Europe/Berlin:20260118T144500
LOCATION:SOŠ a SOU Lanškroun\, Sokolská 288 Lanškroun - Ostrovské Předměstí
SUMMARY:CP-U16Z4J: TJ Lanškroun-TJ Lokomotiva Česká Lípa
END:VEVENT
BEGIN:VEVENT
UID:34376232-6534-4132-a336-353363303861
DTSTAMP:20260422T131107Z
DESCRIPTION:1/1 TJ Lokomotiva Česká Lípa - Tělovýchovná jednota Jiskra Nový
  Bor\, z.s. 1:2 (-17\,23\,-7)
DTSTART;TZID=Europe/Berlin:20260104T090000
DTEND;TZID=Europe/Berlin:20260104T110000
LOCATION:ZŠ Lada\, Šluknovská 2904 Česká Lípa
SUMMARY:LIB-U16Z-3-5-L: TJ Lokomotiva Česká Lípa-Tělovýchovná jednota Jiskr
 a Nový Bor\, z.s.
END:VEVENT
BEGIN:VEVENT
UID:63666133-6265-4236-b364-396236653637
DTSTAMP:20260422T131107Z
DESCRIPTION:2/2 TJ Lokomotiva Česká Lípa - TJ Slovan Varnsdorf z.s. 'C' 2:0
  (13\,12)
DTSTART;TZID=Europe/Berlin:20260104T100000
DTEND;TZID=Europe/Berlin:20260104T120000
LOCATION:ZŠ Lada\, Šluknovská 2904 Česká Lípa
SUMMARY:LIB-U16Z-3-5-L: TJ Lokomotiva Česká Lípa-TJ Slovan Varnsdorf z.s. '
 C'
END:VEVENT
BEGIN:VEVENT
UID:36646366-6537-4530-b161-363139383462
DTSTAMP:20260422T131107Z
DESCRIPTION:3/5 TJ Lokomotiva Česká Lípa - Uh.Hradiště 0:2 (-19\,-13)
DTSTART;TZID=Europe/Berlin:20260207T114500
DTEND;TZID=Europe/Berlin:20260207T134500
LOCATION:ZŠ Lada\, Šluknovská 2904 Česká Lípa
SUMMARY:CP-U16Z5J: TJ Lokomotiva Česká Lípa-Uh.Hradiště
END:VEVENT
BEGIN:VEVENT
UID:65636433-3861-4138-a162-326532356236
DTSTAMP:20260422T131107Z
DESCRIPTION:5/9 TJ Lokomotiva Česká Lípa - TJ Lanškroun 1:2 (19\,-13\,-8)
DTSTART;TZID=Europe/Berlin:20260207T141500
DTEND;TZID=Europe/Berlin:20260207T161500
LOCATION:ZŠ Lada\, Šluknovská 2904 Česká Lípa
SUMMARY:CP-U16Z5J: TJ Lokomotiva Česká Lípa-TJ Lanškroun
END:VEVENT
BEGIN:VEVENT
UID:37633534-3735-4434-b533-323465626662
DTSTAMP:20260422T131107Z
DESCRIPTION:7/14 TJ Lokomotiva Česká Lípa - Sokol Předklášteří 0:2 (-16\,-2
 1)
DTSTART;TZID=Europe/Berlin:20260207T164500
DTEND;TZID=Europe/Berlin:20260207T184500
LOCATION:ZŠ Lada\, Šluknovská 2904 Česká Lípa
SUMMARY:CP-U16Z5J: TJ Lokomotiva Česká Lípa-Sokol Předklášteří
END:VEVENT
BEGIN:VEVENT
UID:37393661-3835-4130-a339-653665636639
DTSTAMP:20260422T131107Z
DESCRIPTION:8/16 TJ Lokomotiva Česká Lípa - VA MUNI Sport Brno 0:2 (-10\,-1
 4)
DTSTART;TZID=Europe/Berlin:20260208T090000
DTEND;TZID=Europe/Berlin:20260208T110000
LOCATION:ZŠ Lada\, Šluknovská 2904 Česká Lípa
SUMMARY:CP-U16Z5J: TJ Lokomotiva Česká Lípa-VA MUNI Sport Brno
END:VEVENT
BEGIN:VEVENT
UID:31613166-3537-4439-b335-303438353264
DTSTAMP:20260422T131107Z
DESCRIPTION:9/18 TJ Lokomotiva Česká Lípa - TJ Agrotec Hustopeče 0:2 (-18\,
 -10)
DTSTART;TZID=Europe/Berlin:20260208T103000
DTEND;TZID=Europe/Berlin:20260208T123000
LOCATION:ZŠ Lada\, Šluknovská 2904 Česká Lípa
SUMMARY:CP-U16Z5J: TJ Lokomotiva Česká Lípa-TJ Agrotec Hustopeče
END:VEVENT
BEGIN:VEVENT
UID:35393538-3235-4539-b563-396333613931
DTSTAMP:20260422T131107Z
DESCRIPTION:1/1 Kladno C - TJ Lokomotiva Česká Lípa 2:0 (14\,16)
DTSTART;TZID=Europe/Berlin:20260207T090000
DTEND;TZID=Europe/Berlin:20260207T110000
LOCATION:Kladenská sportovní hala\, Sportovců 817 Kladno - Rozdělov
SUMMARY:CP-U16Z5J: Kladno C-TJ Lokomotiva Česká Lípa
END:VEVENT
BEGIN:VEVENT
UID:36333562-6539-4139-a631-626365326330
DTSTAMP:20260422T131107Z
DESCRIPTION:2/2 TJ Zákupy\, z.s. - TJ Lokomotiva Česká Lípa 2:1 (20\,-20\,1
 1)
DTSTART;TZID=Europe/Berlin:20260201T100000
DTEND;TZID=Europe/Berlin:20260201T120000
LOCATION:Hala ZŠ Zákupy\, Školní 347 Zákupy
SUMMARY:LIB-U16Z-4-5-L: TJ Zákupy\, z.s.-TJ Lokomotiva Česká Lípa
END:VEVENT
BEGIN:VEVENT
UID:37373830-6431-4631-a166-396161353439
DTSTAMP:20260422T131107Z
DESCRIPTION:3/3 TJ Slovan Varnsdorf z.s. 'C' - TJ Lokomotiva Česká Lípa 1:2
  (-15\,22\,-10)
DTSTART;TZID=Europe/Berlin:20260201T110000
DTEND;TZID=Europe/Berlin:20260201T130000
LOCATION:Sportovní hala Varnsdorf\, Západní 2984 Varnsdorf
SUMMARY:LIB-U16Z-4-5-L: TJ Slovan Varnsdorf z.s. 'C'-TJ Lokomotiva Česká Lí
 pa
END:VEVENT
BEGIN:VEVENT
UID:65663162-3131-4564-b134-623965363063
DTSTAMP:20260422T131107Z
DESCRIPTION:4/7 TJ Lokomotiva Česká Lípa - Sokol Předklášteří 0:2 (-16\,-18
 )
DTSTART;TZID=Europe/Berlin:20260328T130000
DTEND;TZID=Europe/Berlin:20260328T150000
LOCATION:ZŠ Lada\, Šluknovská 2904 Česká Lípa
SUMMARY:CP-U16Z6M: TJ Lokomotiva Česká Lípa-Sokol Předklášteří
END:VEVENT
BEGIN:VEVENT
UID:39346562-6131-4234-a534-326262313931
DTSTAMP:20260422T131107Z
DESCRIPTION:8/15 TJ Lokomotiva Česká Lípa - Mělník 0:2 (-13\,-13)
DTSTART;TZID=Europe/Berlin:20260329T090000
DTEND;TZID=Europe/Berlin:20260329T110000
LOCATION:ZŠ Lada\, Šluknovská 2904 Česká Lípa
SUMMARY:CP-U16Z6M: TJ Lokomotiva Česká Lípa-Mělník
END:VEVENT
BEGIN:VEVENT
UID:61613331-6462-4138-b234-626539616433
DTSTAMP:20260422T131107Z
DESCRIPTION:3/5 SK TŘEBÍN - TJ Lokomotiva Česká Lípa 2:0 (13\,21)
DTSTART;TZID=Europe/Berlin:20260328T113000
DTEND;TZID=Europe/Berlin:20260328T133000
LOCATION:ZŠ Máj I\, M. Chlajna 1319 České Budějovice - České Budějovice 2
SUMMARY:CP-U16Z6M: SK TŘEBÍN-TJ Lokomotiva Česká Lípa
END:VEVENT
BEGIN:VEVENT
UID:35313334-3437-4536-b766-353666356265
DTSTAMP:20260422T131107Z
DESCRIPTION:6/11 Uh.Hradiště - TJ Lokomotiva Česká Lípa 2:0 (16\,8)
DTSTART;TZID=Europe/Berlin:20260328T150000
DTEND;TZID=Europe/Berlin:20260328T170000
LOCATION:Městská sportovní hala\, Stonky 860 Uherské Hradiště
SUMMARY:CP-U16Z6M: Uh.Hradiště-TJ Lokomotiva Česká Lípa
END:VEVENT
BEGIN:VEVENT
UID:39333135-6462-4531-b433-643262303031
DTSTAMP:20260422T131107Z
DESCRIPTION:7/13 Kladno C - TJ Lokomotiva Česká Lípa 0:2 (-22\,-26)
DTSTART;TZID=Europe/Berlin:20260328T160000
DTEND;TZID=Europe/Berlin:20260328T180000
LOCATION:Kladenská sportovní hala\, Sportovců 817 Kladno - Rozdělov
SUMMARY:CP-U16Z6M: Kladno C-TJ Lokomotiva Česká Lípa
END:VEVENT
BEGIN:VEVENT
UID:39623534-6432-4037-b264-306238633563
DTSTAMP:20260422T131107Z
DESCRIPTION:10/19 Lanškroun - TJ Lokomotiva Česká Lípa 2:0 (12\,9)
DTSTART;TZID=Europe/Berlin:20260329T113000
DTEND;TZID=Europe/Berlin:20260329T133000
LOCATION:SOŠ a SOU Lanškroun\, Sokolská 288 Lanškroun - Ostrovské Předměstí
SUMMARY:CP-U16Z6M: Lanškroun-TJ Lokomotiva Česká Lípa
END:VEVENT
BEGIN:VEVENT
UID:36356136-3066-4237-b565-313265393732
DTSTAMP:20260422T131107Z
DESCRIPTION:3/3 TJ Lokomotiva Česká Lípa - TJ Slovan Varnsdorf z.s. 'C' 0:2
  (-0\,-0)
DTSTART;TZID=Europe/Berlin:20260222T110000
DTEND;TZID=Europe/Berlin:20260222T130000
LOCATION:ZŠ Lada\, Šluknovská 2904 Česká Lípa
SUMMARY:LIB-U16Z-5-5-L: TJ Lokomotiva Česká Lípa-TJ Slovan Varnsdorf z.s. '
 C'
END:VEVENT
BEGIN:VEVENT
UID:62366632-3362-4161-b834-623264303133
DTSTAMP:20260422T131107Z
DESCRIPTION:1/1 Tělovýchovná jednota Jiskra Nový Bor\, z.s. - TJ Lokomotiva
  Česká Lípa 2:0 (0\,0)
DTSTART;TZID=Europe/Berlin:20260222T090000
DTEND;TZID=Europe/Berlin:20260222T110000
LOCATION:Sportovní hala Františka Arnošta Nový Bor\, U hřiště 1391 Nový Bor
SUMMARY:LIB-U16Z-5-5-L: Tělovýchovná jednota Jiskra Nový Bor\, z.s.-TJ Loko
 motiva Česká Lípa
END:VEVENT
BEGIN:VEVENT
UID:35383461-3732-4166-b632-393932336338
DTSTAMP:20260422T131107Z
DESCRIPTION:1/1 TJ Lokomotiva Česká Lípa - Tělovýchovná jednota Jiskra Nový
  Bor\, z.s. 2:1 (-23\,17\,3)
DTSTART;TZID=Europe/Berlin:20260321T090000
DTEND;TZID=Europe/Berlin:20260321T110000
LOCATION:ZŠ Lada\, Šluknovská 2904 Česká Lípa
SUMMARY:LIB-U16Z-F-E: TJ Lokomotiva Česká Lípa-Tělovýchovná jednota Jiskra 
 Nový Bor\, z.s.
END:VEVENT
BEGIN:VEVENT
UID:38376439-3162-4263-b839-623164616366
DTSTAMP:20260422T131107Z
DESCRIPTION:2/2 TJ Lokomotiva Česká Lípa - TJ Slovan Varnsdorf z.s. 'C' 2:0
  (0\,0)
DTSTART;TZID=Europe/Berlin:20260321T100000
DTEND;TZID=Europe/Berlin:20260321T120000
LOCATION:ZŠ Lada\, Šluknovská 2904 Česká Lípa
SUMMARY:LIB-U16Z-F-E: TJ Lokomotiva Česká Lípa-TJ Slovan Varnsdorf z.s. 'C'
END:VEVENT
END:VCALENDAR
