BEGIN:VCALENDAR
VERSION:2.0
PRODID:-//TJ Svitavy89202//NONSGML kigkonsult.se iCalcreator 2.41.80//
CALSCALE:GREGORIAN
UID:66393833-3061-4365-b166-626361326131
BEGIN:VEVENT
UID:34323163-3934-4032-b336-623332663532
DTSTAMP:20260422T111946Z
DESCRIPTION:1/2 Svitavy - Školní sportovní klub Demlova Jihlava\, z.s. 2:0 
 (14\,15)
DTSTART;TZID=Europe/Berlin:20250921T090000
DTEND;TZID=Europe/Berlin:20250921T110000
LOCATION:Sportovní hala Na Střelnici\, Pražská 2162 Svitavy - Předměstí
SUMMARY:PA-U22M-K-III: Svitavy-Školní sportovní klub Demlova Jihlava\, z.s.
END:VEVENT
BEGIN:VEVENT
UID:36393361-3733-4232-a265-616563386232
DTSTAMP:20260422T111946Z
DESCRIPTION:1/12 Svitavy - Svitavy B U18 1:1 (17\,-22)
DTSTART;TZID=Europe/Berlin:20250921T124500
DTEND;TZID=Europe/Berlin:20250921T144500
LOCATION:Sportovní hala Na Střelnici\, Pražská 2162 Svitavy - Předměstí
SUMMARY:PA-U22M-K-III: Svitavy-Svitavy B U18
END:VEVENT
BEGIN:VEVENT
UID:38353033-3139-4531-b933-363734336262
DTSTAMP:20260422T111946Z
DESCRIPTION:1/4 Havlíčkův Brod - Svitavy 0:2 (-16\,-16)
DTSTART;TZID=Europe/Berlin:20250921T094500
DTEND;TZID=Europe/Berlin:20250921T114500
LOCATION:Sportovní hala TJ Jiskra\, Ledečská 3028 Havlíčkův Brod
SUMMARY:PA-U22M-K-III: Havlíčkův Brod-Svitavy
END:VEVENT
BEGIN:VEVENT
UID:36313930-3037-4966-a666-356537663136
DTSTAMP:20260422T111946Z
DESCRIPTION:1/8 TJ Žďár nad Sázavou - Svitavy 0:2 (-23\,-17)
DTSTART;TZID=Europe/Berlin:20250921T111500
DTEND;TZID=Europe/Berlin:20250921T131500
LOCATION:Sportovní hala na Bouchalkách\, Jungmannova 1495 Žďár nad Sázavou 
 - Žďár nad Sázavou 1
SUMMARY:PA-U22M-K-III: TJ Žďár nad Sázavou-Svitavy
END:VEVENT
BEGIN:VEVENT
UID:34643862-3563-4562-b161-343663636537
DTSTAMP:20260422T111946Z
DESCRIPTION:1/15 Polička U20 - Svitavy 0:2 (-17\,-20)
DTSTART;TZID=Europe/Berlin:20250921T133000
DTEND;TZID=Europe/Berlin:20250921T153000
LOCATION:, Tyršova 60 Polička - Horní Předměstí
SUMMARY:PA-U22M-K-III: Polička U20-Svitavy
END:VEVENT
BEGIN:VEVENT
UID:32353766-6435-4033-a636-366439653535
DTSTAMP:20260422T111946Z
DESCRIPTION:1/1 Svitavy - Orel Letohrad 3:0 (22\,19\,17)
DTSTART;TZID=Europe/Berlin:20251011T090000
DTEND;TZID=Europe/Berlin:20251011T110000
LOCATION:Sportovní hala Na Střelnici\, Pražská 2162 Svitavy - Předměstí
SUMMARY:PA-U22M-1A: Svitavy-Orel Letohrad
END:VEVENT
BEGIN:VEVENT
UID:31623937-3635-4264-a235-643934346231
DTSTAMP:20260422T111946Z
DESCRIPTION:1/3 Svitavy - Hronov 3:0 (22\,23\,20)
DTSTART;TZID=Europe/Berlin:20251011T130000
DTEND;TZID=Europe/Berlin:20251011T150000
LOCATION:Sportovní hala Na Střelnici\, Pražská 2162 Svitavy - Předměstí
SUMMARY:PA-U22M-1A: Svitavy-Hronov
END:VEVENT
BEGIN:VEVENT
UID:31333234-3262-4831-b939-386231323965
DTSTAMP:20260422T111946Z
DESCRIPTION:1/2 Svitavy - VK SPORT Rychnov nad Kněžnou\, z.s. 3:0 (18\,22\,
 10)
DTSTART;TZID=Europe/Berlin:20251108T110000
DTEND;TZID=Europe/Berlin:20251108T130000
LOCATION:Sportovní hala Na Střelnici\, Pražská 2162 Svitavy - Předměstí
SUMMARY:PA-U22M-2A: Svitavy-VK SPORT Rychnov nad Kněžnou\, z.s.
END:VEVENT
BEGIN:VEVENT
UID:37326436-3463-4761-a334-363564373234
DTSTAMP:20260422T111946Z
DESCRIPTION:1/3 Hronov - Svitavy 0:3 (-14\,-20\,-20)
DTSTART;TZID=Europe/Berlin:20251108T130000
DTEND;TZID=Europe/Berlin:20251108T150000
LOCATION:ZŠ Hronov\, Palackého 162 Hronov
SUMMARY:PA-U22M-2A: Hronov-Svitavy
END:VEVENT
BEGIN:VEVENT
UID:64623931-3565-4562-a435-656461333031
DTSTAMP:20260422T111946Z
DESCRIPTION:1/1 Orel Letohrad - Svitavy 1:3 (-21\,20\,-20\,-22)
DTSTART;TZID=Europe/Berlin:20251206T090000
DTEND;TZID=Europe/Berlin:20251206T110000
LOCATION:TJ Spartak Letohrad\, Jilemnického 341 Letohrad
SUMMARY:PA-U22M-3A: Orel Letohrad-Svitavy
END:VEVENT
BEGIN:VEVENT
UID:32646235-6137-4037-a464-303664356233
DTSTAMP:20260422T111946Z
DESCRIPTION:1/2 VK SPORT Rychnov nad Kněžnou\, z.s. - Svitavy 0:3 (-24\,-23
 \,-15)
DTSTART;TZID=Europe/Berlin:20251206T110000
DTEND;TZID=Europe/Berlin:20251206T130000
LOCATION:Hala VOŠ a SPŠS\, U Stadionu 1166 Rychnov nad Kněžnou
SUMMARY:PA-U22M-3A: VK SPORT Rychnov nad Kněžnou\, z.s.-Svitavy
END:VEVENT
BEGIN:VEVENT
UID:31383732-3563-4632-b530-336530363231
DTSTAMP:20260422T111946Z
DESCRIPTION:1/1 Svitavy - Orel Letohrad 3:0 (13\,22\,16)
DTSTART;TZID=Europe/Berlin:20260110T090000
DTEND;TZID=Europe/Berlin:20260110T110000
LOCATION:Sportovní hala Na Střelnici\, Pražská 2162 Svitavy - Předměstí
SUMMARY:PA-U22M-4A: Svitavy-Orel Letohrad
END:VEVENT
BEGIN:VEVENT
UID:39323538-3662-4361-a236-396237353235
DTSTAMP:20260422T111946Z
DESCRIPTION:1/3 Svitavy - Hronov 3:0 (10\,11\,13)
DTSTART;TZID=Europe/Berlin:20260110T130000
DTEND;TZID=Europe/Berlin:20260110T150000
LOCATION:Sportovní hala Na Střelnici\, Pražská 2162 Svitavy - Předměstí
SUMMARY:PA-U22M-4A: Svitavy-Hronov
END:VEVENT
BEGIN:VEVENT
UID:61653466-3663-4133-b764-663136633964
DTSTAMP:20260422T111946Z
DESCRIPTION:1/1 Hronov - Svitavy 3:0 (13\,11\,12)
DTSTART;TZID=Europe/Berlin:20260221T090000
DTEND;TZID=Europe/Berlin:20260221T110000
LOCATION:ZŠ Hronov\, Palackého 162 Hronov
SUMMARY:PA-U22M-5A: Hronov-Svitavy
END:VEVENT
BEGIN:VEVENT
UID:66353632-3936-4837-b364-613233356130
DTSTAMP:20260422T111946Z
DESCRIPTION:1/2 Polička U20 - Svitavy 3:0 (18\,14\,16)
DTSTART;TZID=Europe/Berlin:20260221T110000
DTEND;TZID=Europe/Berlin:20260221T130000
LOCATION:, Tyršova 60 Polička - Horní Předměstí
SUMMARY:PA-U22M-5A: Polička U20-Svitavy
END:VEVENT
BEGIN:VEVENT
UID:64646237-3165-4233-b061-303631363462
DTSTAMP:20260422T111946Z
DESCRIPTION:1/2 Svitavy - Česká Třebová U20 3:0 (18\,18\,22)
DTSTART;TZID=Europe/Berlin:20260307T110000
DTEND;TZID=Europe/Berlin:20260307T130000
LOCATION:Sportovní hala Na Střelnici\, Pražská 2162 Svitavy - Předměstí
SUMMARY:PA-U22M-6B: Svitavy-Česká Třebová U20
END:VEVENT
BEGIN:VEVENT
UID:64336436-6638-4131-b235-656638663232
DTSTAMP:20260422T111946Z
DESCRIPTION:1/3 VK SPORT Rychnov nad Kněžnou\, z.s. - Svitavy 3:1 (-18\,24\
 ,21\,21)
DTSTART;TZID=Europe/Berlin:20260307T130000
DTEND;TZID=Europe/Berlin:20260307T150000
LOCATION:Hala VOŠ a SPŠS\, U Stadionu 1166 Rychnov nad Kněžnou
SUMMARY:PA-U22M-6B: VK SPORT Rychnov nad Kněžnou\, z.s.-Svitavy
END:VEVENT
BEGIN:VEVENT
UID:61333532-6536-4161-b366-383164633339
DTSTAMP:20260422T111946Z
DESCRIPTION:1/6 Svitavy - Velké MeziříčíGallus Martin./Pochop Petr
DTSTART;TZID=Europe/Berlin:20260426T120000
DTEND;TZID=Europe/Berlin:20260426T140000
LOCATION:ZŠ Komenského\, Komenského 1 Velké Meziříčí
SUMMARY:EX-U20M-KC: Svitavy-Velké Meziříčí
END:VEVENT
BEGIN:VEVENT
UID:65626666-6636-4537-b937-616437336433
DTSTAMP:20260422T111946Z
DESCRIPTION:1/2 Ostrava - SvitavyBohatec Josef./Pochop Petr
DTSTART;TZID=Europe/Berlin:20260425T120000
DTEND;TZID=Europe/Berlin:20260425T140000
LOCATION:ZŠ Komenského\, Komenského 1 Velké Meziříčí
SUMMARY:EX-U20M-KC: Ostrava-Svitavy
END:VEVENT
BEGIN:VEVENT
UID:35346164-3462-4634-b039-623836363931
DTSTAMP:20260422T111946Z
DESCRIPTION:1/4 Šlapanice - SvitavyBohatec Josef./Pochop Petr
DTSTART;TZID=Europe/Berlin:20260425T170000
DTEND;TZID=Europe/Berlin:20260425T190000
LOCATION:ZŠ Komenského\, Komenského 1 Velké Meziříčí
SUMMARY:EX-U20M-KC: Šlapanice-Svitavy
END:VEVENT
END:VCALENDAR
