BEGIN:VCALENDAR
VERSION:2.0
PRODID:-//Tělovýchovná jednota Jiskra Nový Bor, z.s.89214//NONSGML kigkonsult.se iCalcreator 2.41.80//
CALSCALE:GREGORIAN
UID:31636632-6537-4362-a339-346539393334
BEGIN:VEVENT
UID:38666338-3262-4830-b635-336431326532
DTSTAMP:20260422T053857Z
DESCRIPTION:1/1 Tělovýchovná jednota Jiskra Nový Bor\, z.s. - TJ Turnov 0:2
  (-7\,-12)\nAlešova 1865\, Turnov
DTSTART;TZID=Europe/Berlin:20251005T090000
DTEND;TZID=Europe/Berlin:20251005T110000
LOCATION:Sportovní hala Františka Arnošta Nový Bor\, U hřiště 1391 Nový Bor
SUMMARY:LIB-U14Z: Tělovýchovná jednota Jiskra Nový Bor\, z.s.-TJ Turnov
END:VEVENT
BEGIN:VEVENT
UID:37656437-3734-4632-a639-613930306261
DTSTAMP:20260422T053857Z
DESCRIPTION:1/9 Tělovýchovná jednota Jiskra Nový Bor\, z.s. - Schrödingerův
  institut Varnsdorf 0:2 (-12\,-16)\nAlešova 1865\, Turnov
DTSTART;TZID=Europe/Berlin:20251005T130000
DTEND;TZID=Europe/Berlin:20251005T150000
LOCATION:Sportovní hala Františka Arnošta Nový Bor\, U hřiště 1391 Nový Bor
SUMMARY:LIB-U14Z: Tělovýchovná jednota Jiskra Nový Bor\, z.s.-Schrödingerův
  institut Varnsdorf
END:VEVENT
BEGIN:VEVENT
UID:66323532-3965-4239-b166-306531643631
DTSTAMP:20260422T053857Z
DESCRIPTION:2/14 Tělovýchovná jednota Jiskra Nový Bor\, z.s. - TJ Slovan Va
 rnsdorf z.s. 0:2 (-15\,-12)\nZŠ Edisonova ul. Vdf.
DTSTART;TZID=Europe/Berlin:20251108T090000
DTEND;TZID=Europe/Berlin:20251108T110000
LOCATION:Sportovní hala Františka Arnošta Nový Bor\, U hřiště 1391 Nový Bor
SUMMARY:LIB-U14Z: Tělovýchovná jednota Jiskra Nový Bor\, z.s.-TJ Slovan Var
 nsdorf z.s.
END:VEVENT
BEGIN:VEVENT
UID:65306432-3434-4330-b063-353232356434
DTSTAMP:20260422T053857Z
DESCRIPTION:2/16 Tělovýchovná jednota Jiskra Nový Bor\, z.s. - TJ Turnov 0:
 2 (-22\,-19)\nZŠ Edisonova ul. Vdf.
DTSTART;TZID=Europe/Berlin:20251108T100000
DTEND;TZID=Europe/Berlin:20251108T120000
LOCATION:Sportovní hala Františka Arnošta Nový Bor\, U hřiště 1391 Nový Bor
SUMMARY:LIB-U14Z: Tělovýchovná jednota Jiskra Nový Bor\, z.s.-TJ Turnov
END:VEVENT
BEGIN:VEVENT
UID:65666632-3662-4332-b865-323131626361
DTSTAMP:20260422T053857Z
DESCRIPTION:2/24 Tělovýchovná jednota Jiskra Nový Bor\, z.s. - Schrödingerů
 v institut Varnsdorf 0:2 (-22\,-13)\nZŠ Edisonova ul. Vdf.
DTSTART;TZID=Europe/Berlin:20251108T140000
DTEND;TZID=Europe/Berlin:20251108T160000
LOCATION:Sportovní hala Františka Arnošta Nový Bor\, U hřiště 1391 Nový Bor
SUMMARY:LIB-U14Z: Tělovýchovná jednota Jiskra Nový Bor\, z.s.-Schrödingerův
  institut Varnsdorf
END:VEVENT
BEGIN:VEVENT
UID:64356531-3936-4839-a535-326133363164
DTSTAMP:20260422T053857Z
DESCRIPTION:3/28 Tělovýchovná jednota Jiskra Nový Bor\, z.s. - TJ Slovan Va
 rnsdorf z.s. 0:2 (-16\,-9)\nSport. hala Varnsdorf
DTSTART;TZID=Europe/Berlin:20251214T101500
DTEND;TZID=Europe/Berlin:20251214T121500
LOCATION:Sportovní hala Františka Arnošta Nový Bor\, U hřiště 1391 Nový Bor
SUMMARY:LIB-U14Z: Tělovýchovná jednota Jiskra Nový Bor\, z.s.-TJ Slovan Var
 nsdorf z.s.
END:VEVENT
BEGIN:VEVENT
UID:35383735-6636-4330-b435-323539353465
DTSTAMP:20260422T053857Z
DESCRIPTION:3/31 Tělovýchovná jednota Jiskra Nový Bor\, z.s. - TJ Turnov 0:
 2 (-18\,-16)\nSport. hala Varnsdorf
DTSTART;TZID=Europe/Berlin:20251214T113000
DTEND;TZID=Europe/Berlin:20251214T133000
LOCATION:Sportovní hala Františka Arnošta Nový Bor\, U hřiště 1391 Nový Bor
SUMMARY:LIB-U14Z: Tělovýchovná jednota Jiskra Nový Bor\, z.s.-TJ Turnov
END:VEVENT
BEGIN:VEVENT
UID:61313332-3934-4862-a362-626339316536
DTSTAMP:20260422T053857Z
DESCRIPTION:4/39 Tělovýchovná jednota Jiskra Nový Bor\, z.s. - Schrödingerů
 v institut Varnsdorf 0:2 (-4\,-8)\nSport. hala Nový Bor
DTSTART;TZID=Europe/Berlin:20260110T100000
DTEND;TZID=Europe/Berlin:20260110T120000
LOCATION:Sportovní hala Františka Arnošta Nový Bor\, U hřiště 1391 Nový Bor
SUMMARY:LIB-U14Z: Tělovýchovná jednota Jiskra Nový Bor\, z.s.-Schrödingerův
  institut Varnsdorf
END:VEVENT
BEGIN:VEVENT
UID:39613837-3131-4366-a463-393137363438
DTSTAMP:20260422T053857Z
DESCRIPTION:4/44 Tělovýchovná jednota Jiskra Nový Bor\, z.s. - TJ Slovan Va
 rnsdorf z.s. 0:2 (-15\,-22)\nSport. hala Nový Bor
DTSTART;TZID=Europe/Berlin:20260110T120000
DTEND;TZID=Europe/Berlin:20260110T140000
LOCATION:Sportovní hala Františka Arnošta Nový Bor\, U hřiště 1391 Nový Bor
SUMMARY:LIB-U14Z: Tělovýchovná jednota Jiskra Nový Bor\, z.s.-TJ Slovan Var
 nsdorf z.s.
END:VEVENT
BEGIN:VEVENT
UID:62356634-3634-4131-b435-306235633865
DTSTAMP:20260422T053857Z
DESCRIPTION:4/46 Tělovýchovná jednota Jiskra Nový Bor\, z.s. - TJ Turnov 0:
 2 (-13\,-13)\nSport. hala Nový Bor
DTSTART;TZID=Europe/Berlin:20260110T130000
DTEND;TZID=Europe/Berlin:20260110T150000
LOCATION:Sportovní hala Františka Arnošta Nový Bor\, U hřiště 1391 Nový Bor
SUMMARY:LIB-U14Z: Tělovýchovná jednota Jiskra Nový Bor\, z.s.-TJ Turnov
END:VEVENT
BEGIN:VEVENT
UID:35363863-3339-4839-a636-343836646361
DTSTAMP:20260422T053857Z
DESCRIPTION:5/54 Tělovýchovná jednota Jiskra Nový Bor\, z.s. - Schrödingerů
 v institut Varnsdorf 0:2 (-16\,-8)\nZŠ Edisonova ul. Vdf.
DTSTART;TZID=Europe/Berlin:20260124T110000
DTEND;TZID=Europe/Berlin:20260124T130000
LOCATION:Sportovní hala Františka Arnošta Nový Bor\, U hřiště 1391 Nový Bor
SUMMARY:LIB-U14Z: Tělovýchovná jednota Jiskra Nový Bor\, z.s.-Schrödingerův
  institut Varnsdorf
END:VEVENT
BEGIN:VEVENT
UID:65306138-3264-4562-b230-616166653138
DTSTAMP:20260422T053857Z
DESCRIPTION:5/58 Tělovýchovná jednota Jiskra Nový Bor\, z.s. - TJ Slovan Va
 rnsdorf z.s. 1:2 (-18\,17\,-14)\nZŠ Edisonova ul. Vdf.
DTSTART;TZID=Europe/Berlin:20260124T130000
DTEND;TZID=Europe/Berlin:20260124T150000
LOCATION:Sportovní hala Františka Arnošta Nový Bor\, U hřiště 1391 Nový Bor
SUMMARY:LIB-U14Z: Tělovýchovná jednota Jiskra Nový Bor\, z.s.-TJ Slovan Var
 nsdorf z.s.
END:VEVENT
BEGIN:VEVENT
UID:32666636-3232-4334-a265-326161663966
DTSTAMP:20260422T053857Z
DESCRIPTION:6/66 Tělovýchovná jednota Jiskra Nový Bor\, z.s. - DUKLA LIBERE
 C 0:2 (-12\,-11)\nSport. hala Nový Bor
DTSTART;TZID=Europe/Berlin:20260215T101500
DTEND;TZID=Europe/Berlin:20260215T121500
LOCATION:Sportovní hala Františka Arnošta Nový Bor\, U hřiště 1391 Nový Bor
SUMMARY:LIB-U14Z: Tělovýchovná jednota Jiskra Nový Bor\, z.s.-DUKLA LIBEREC
END:VEVENT
BEGIN:VEVENT
UID:38343638-3733-4366-a263-313939636434
DTSTAMP:20260422T053857Z
DESCRIPTION:6/71 Tělovýchovná jednota Jiskra Nový Bor\, z.s. - TJ Bižuterie
  Jablonec n/N 0:2 (-12\,-16)\nSport. hala Nový Bor
DTSTART;TZID=Europe/Berlin:20260215T124500
DTEND;TZID=Europe/Berlin:20260215T144500
LOCATION:Sportovní hala Františka Arnošta Nový Bor\, U hřiště 1391 Nový Bor
SUMMARY:LIB-U14Z: Tělovýchovná jednota Jiskra Nový Bor\, z.s.-TJ Bižuterie 
 Jablonec n/N
END:VEVENT
BEGIN:VEVENT
UID:33356635-6231-4135-b161-343632323962
DTSTAMP:20260422T053857Z
DESCRIPTION:7/81 Tělovýchovná jednota Jiskra Nový Bor\, z.s. - DUKLA LIBERE
 C 0:2 (-13\,-12)\nMěst.hala Jablonec n.N.
DTSTART;TZID=Europe/Berlin:20260301T130000
DTEND;TZID=Europe/Berlin:20260301T150000
LOCATION:Sportovní hala Františka Arnošta Nový Bor\, U hřiště 1391 Nový Bor
SUMMARY:LIB-U14Z: Tělovýchovná jednota Jiskra Nový Bor\, z.s.-DUKLA LIBEREC
END:VEVENT
BEGIN:VEVENT
UID:37306164-6534-4062-b231-653963626635
DTSTAMP:20260422T053857Z
DESCRIPTION:8/86 Tělovýchovná jednota Jiskra Nový Bor\, z.s. - TJ Bižuterie
  Jablonec n/N 0:2 (-15\,-15)\nHala VK Dukla LBC
DTSTART;TZID=Europe/Berlin:20260412T090000
DTEND;TZID=Europe/Berlin:20260412T110000
LOCATION:Sportovní hala Františka Arnošta Nový Bor\, U hřiště 1391 Nový Bor
SUMMARY:LIB-U14Z: Tělovýchovná jednota Jiskra Nový Bor\, z.s.-TJ Bižuterie 
 Jablonec n/N
END:VEVENT
BEGIN:VEVENT
UID:62313737-6335-4466-a135-656137346635
DTSTAMP:20260422T053857Z
DESCRIPTION:8/96 Tělovýchovná jednota Jiskra Nový Bor\, z.s. - DUKLA LIBERE
 C 0:2 (-15\,-8)\nHala VK Dukla LBC
DTSTART;TZID=Europe/Berlin:20260412T124500
DTEND;TZID=Europe/Berlin:20260412T144500
LOCATION:Sportovní hala Františka Arnošta Nový Bor\, U hřiště 1391 Nový Bor
SUMMARY:LIB-U14Z: Tělovýchovná jednota Jiskra Nový Bor\, z.s.-DUKLA LIBEREC
END:VEVENT
BEGIN:VEVENT
UID:65346435-6333-4130-a662-383733363136
DTSTAMP:20260422T053857Z
DESCRIPTION:9/101 Tělovýchovná jednota Jiskra Nový Bor\, z.s. - TJ Bižuteri
 e Jablonec n/N\nHala VK Dukla LBC
DTSTART;TZID=Europe/Berlin:20260510T110000
DTEND;TZID=Europe/Berlin:20260510T130000
LOCATION:Sportovní hala Františka Arnošta Nový Bor\, U hřiště 1391 Nový Bor
SUMMARY:LIB-U14Z: Tělovýchovná jednota Jiskra Nový Bor\, z.s.-TJ Bižuterie 
 Jablonec n/N
END:VEVENT
BEGIN:VEVENT
UID:38373132-3962-4235-b464-396366636461
DTSTAMP:20260422T053857Z
DESCRIPTION:10/111 Tělovýchovná jednota Jiskra Nový Bor\, z.s. - DUKLA LIBE
 REC\nSport. hala Varnsdorf
DTSTART;TZID=Europe/Berlin:20260531T090000
DTEND;TZID=Europe/Berlin:20260531T110000
LOCATION:Sportovní hala Františka Arnošta Nový Bor\, U hřiště 1391 Nový Bor
SUMMARY:LIB-U14Z: Tělovýchovná jednota Jiskra Nový Bor\, z.s.-DUKLA LIBEREC
END:VEVENT
BEGIN:VEVENT
UID:62636331-3266-4532-b734-363538343639
DTSTAMP:20260422T053857Z
DESCRIPTION:10/116 Tělovýchovná jednota Jiskra Nový Bor\, z.s. - TJ Bižuter
 ie Jablonec n/N\nSport. hala Varnsdorf
DTSTART;TZID=Europe/Berlin:20260531T113000
DTEND;TZID=Europe/Berlin:20260531T133000
LOCATION:Sportovní hala Františka Arnošta Nový Bor\, U hřiště 1391 Nový Bor
SUMMARY:LIB-U14Z: Tělovýchovná jednota Jiskra Nový Bor\, z.s.-TJ Bižuterie 
 Jablonec n/N
END:VEVENT
BEGIN:VEVENT
UID:38306362-3564-4535-b636-636661313031
DTSTAMP:20260422T053857Z
DESCRIPTION:1/6 DUKLA LIBEREC - Tělovýchovná jednota Jiskra Nový Bor\, z.s.
  2:0 (6\,4)\nAlešova 1865\, Turnov
DTSTART;TZID=Europe/Berlin:20251005T110000
DTEND;TZID=Europe/Berlin:20251005T130000
LOCATION:Dukla Liberec\, Jeronýmova 558 Liberec - Liberec VII-Horní Růžodol
SUMMARY:LIB-U14Z: DUKLA LIBEREC-Tělovýchovná jednota Jiskra Nový Bor\, z.s.
END:VEVENT
BEGIN:VEVENT
UID:64386233-3262-4563-b638-656662353532
DTSTAMP:20260422T053857Z
DESCRIPTION:1/11 TJ Bižuterie Jablonec n/N - Tělovýchovná jednota Jiskra No
 vý Bor\, z.s. 2:0 (14\,14)\nAlešova 1865\, Turnov
DTSTART;TZID=Europe/Berlin:20251005T140000
DTEND;TZID=Europe/Berlin:20251005T160000
LOCATION:Městská sportovní hala\, U Přehrady 4747 Jablonec nad Nisou
SUMMARY:LIB-U14Z: TJ Bižuterie Jablonec n/N-Tělovýchovná jednota Jiskra Nov
 ý Bor\, z.s.
END:VEVENT
BEGIN:VEVENT
UID:66346130-3763-4661-b562-613131363037
DTSTAMP:20260422T053857Z
DESCRIPTION:2/21 DUKLA LIBEREC - Tělovýchovná jednota Jiskra Nový Bor\, z.s
 . 2:0 (3\,11)\nZŠ Edisonova ul. Vdf.
DTSTART;TZID=Europe/Berlin:20251108T130000
DTEND;TZID=Europe/Berlin:20251108T150000
LOCATION:Dukla Liberec\, Jeronýmova 558 Liberec - Liberec VII-Horní Růžodol
SUMMARY:LIB-U14Z: DUKLA LIBEREC-Tělovýchovná jednota Jiskra Nový Bor\, z.s.
END:VEVENT
BEGIN:VEVENT
UID:66303937-6562-4737-a563-306333366538
DTSTAMP:20260422T053857Z
DESCRIPTION:3/26 TJ Bižuterie Jablonec n/N - Tělovýchovná jednota Jiskra No
 vý Bor\, z.s. 2:0 (13\,13)\nSport. hala Varnsdorf
DTSTART;TZID=Europe/Berlin:20251214T090000
DTEND;TZID=Europe/Berlin:20251214T110000
LOCATION:Městská sportovní hala\, U Přehrady 4747 Jablonec nad Nisou
SUMMARY:LIB-U14Z: TJ Bižuterie Jablonec n/N-Tělovýchovná jednota Jiskra Nov
 ý Bor\, z.s.
END:VEVENT
BEGIN:VEVENT
UID:37356236-3231-4361-a466-666532353863
DTSTAMP:20260422T053857Z
DESCRIPTION:3/36 DUKLA LIBEREC - Tělovýchovná jednota Jiskra Nový Bor\, z.s
 . 2:0 (7\,7)\nSport. hala Varnsdorf
DTSTART;TZID=Europe/Berlin:20251214T124500
DTEND;TZID=Europe/Berlin:20251214T144500
LOCATION:Dukla Liberec\, Jeronýmova 558 Liberec - Liberec VII-Horní Růžodol
SUMMARY:LIB-U14Z: DUKLA LIBEREC-Tělovýchovná jednota Jiskra Nový Bor\, z.s.
END:VEVENT
BEGIN:VEVENT
UID:39663136-3233-4235-a463-643262376637
DTSTAMP:20260422T053857Z
DESCRIPTION:4/41 TJ Bižuterie Jablonec n/N - Tělovýchovná jednota Jiskra No
 vý Bor\, z.s. 2:0 (17\,14)\nSport. hala Nový Bor
DTSTART;TZID=Europe/Berlin:20260110T110000
DTEND;TZID=Europe/Berlin:20260110T130000
LOCATION:Městská sportovní hala\, U Přehrady 4747 Jablonec nad Nisou
SUMMARY:LIB-U14Z: TJ Bižuterie Jablonec n/N-Tělovýchovná jednota Jiskra Nov
 ý Bor\, z.s.
END:VEVENT
BEGIN:VEVENT
UID:38646139-3130-4462-b736-343939316134
DTSTAMP:20260422T053857Z
DESCRIPTION:5/51 DUKLA LIBEREC - Tělovýchovná jednota Jiskra Nový Bor\, z.s
 . 2:0 (10\,12)\nZŠ Edisonova ul. Vdf.
DTSTART;TZID=Europe/Berlin:20260124T100000
DTEND;TZID=Europe/Berlin:20260124T120000
LOCATION:Dukla Liberec\, Jeronýmova 558 Liberec - Liberec VII-Horní Růžodol
SUMMARY:LIB-U14Z: DUKLA LIBEREC-Tělovýchovná jednota Jiskra Nový Bor\, z.s.
END:VEVENT
BEGIN:VEVENT
UID:36303764-6264-4037-a534-633534306564
DTSTAMP:20260422T053857Z
DESCRIPTION:5/56 TJ Bižuterie Jablonec n/N - Tělovýchovná jednota Jiskra No
 vý Bor\, z.s. 2:0 (15\,18)\nZŠ Edisonova ul. Vdf.
DTSTART;TZID=Europe/Berlin:20260124T120000
DTEND;TZID=Europe/Berlin:20260124T140000
LOCATION:Městská sportovní hala\, U Přehrady 4747 Jablonec nad Nisou
SUMMARY:LIB-U14Z: TJ Bižuterie Jablonec n/N-Tělovýchovná jednota Jiskra Nov
 ý Bor\, z.s.
END:VEVENT
BEGIN:VEVENT
UID:31383031-6464-4330-b436-663533626338
DTSTAMP:20260422T053857Z
DESCRIPTION:6/61 TJ Turnov - Tělovýchovná jednota Jiskra Nový Bor\, z.s. 2:
 0 (14\,18)\nSport. hala Nový Bor
DTSTART;TZID=Europe/Berlin:20260215T090000
DTEND;TZID=Europe/Berlin:20260215T110000
LOCATION:TJ Turnov\, Skálova 207 Turnov
SUMMARY:LIB-U14Z: TJ Turnov-Tělovýchovná jednota Jiskra Nový Bor\, z.s.
END:VEVENT
BEGIN:VEVENT
UID:36383736-3530-4736-a263-656135613932
DTSTAMP:20260422T053857Z
DESCRIPTION:6/69 Schrödingerův institut Varnsdorf - Tělovýchovná jednota Ji
 skra Nový Bor\, z.s. 2:0 (16\,11)\nSport. hala Nový Bor
DTSTART;TZID=Europe/Berlin:20260215T113000
DTEND;TZID=Europe/Berlin:20260215T133000
LOCATION:, Edisonova 2821 Varnsdorf
SUMMARY:LIB-U14Z: Schrödingerův institut Varnsdorf-Tělovýchovná jednota Jis
 kra Nový Bor\, z.s.
END:VEVENT
BEGIN:VEVENT
UID:66633530-6165-4364-b934-333639376334
DTSTAMP:20260422T053857Z
DESCRIPTION:7/74 TJ Slovan Varnsdorf z.s. - Tělovýchovná jednota Jiskra Nov
 ý Bor\, z.s. 0:2 (-17\,-24)\nMěst.hala Jablonec n.N.
DTSTART;TZID=Europe/Berlin:20260301T090000
DTEND;TZID=Europe/Berlin:20260301T110000
LOCATION:Sportovní hala Varnsdorf\, Západní 2984 Varnsdorf
SUMMARY:LIB-U14Z: TJ Slovan Varnsdorf z.s.-Tělovýchovná jednota Jiskra Nový
  Bor\, z.s.
END:VEVENT
BEGIN:VEVENT
UID:62326330-3637-4734-b966-393431643339
DTSTAMP:20260422T053857Z
DESCRIPTION:7/76 TJ Turnov - Tělovýchovná jednota Jiskra Nový Bor\, z.s. 2:
 0 (5\,10)\nMěst.hala Jablonec n.N.
DTSTART;TZID=Europe/Berlin:20260301T100000
DTEND;TZID=Europe/Berlin:20260301T120000
LOCATION:TJ Turnov\, Skálova 207 Turnov
SUMMARY:LIB-U14Z: TJ Turnov-Tělovýchovná jednota Jiskra Nový Bor\, z.s.
END:VEVENT
BEGIN:VEVENT
UID:63396638-3136-4464-b662-636564326536
DTSTAMP:20260422T053857Z
DESCRIPTION:7/84 Schrödingerův institut Varnsdorf - Tělovýchovná jednota Ji
 skra Nový Bor\, z.s. 2:0 (14\,20)\nMěst.hala Jablonec n.N.
DTSTART;TZID=Europe/Berlin:20260301T140000
DTEND;TZID=Europe/Berlin:20260301T160000
LOCATION:, Edisonova 2821 Varnsdorf
SUMMARY:LIB-U14Z: Schrödingerův institut Varnsdorf-Tělovýchovná jednota Jis
 kra Nový Bor\, z.s.
END:VEVENT
BEGIN:VEVENT
UID:37353562-6364-4462-a536-376631346566
DTSTAMP:20260422T053857Z
DESCRIPTION:8/88 TJ Slovan Varnsdorf z.s. - Tělovýchovná jednota Jiskra Nov
 ý Bor\, z.s. 2:0 (11\,10)\nHala VK Dukla LBC
DTSTART;TZID=Europe/Berlin:20260412T101500
DTEND;TZID=Europe/Berlin:20260412T121500
LOCATION:Sportovní hala Varnsdorf\, Západní 2984 Varnsdorf
SUMMARY:LIB-U14Z: TJ Slovan Varnsdorf z.s.-Tělovýchovná jednota Jiskra Nový
  Bor\, z.s.
END:VEVENT
BEGIN:VEVENT
UID:31646332-6262-4636-a665-383039623531
DTSTAMP:20260422T053857Z
DESCRIPTION:8/91 TJ Turnov - Tělovýchovná jednota Jiskra Nový Bor\, z.s. 2:
 1 (10\,-23\,2)\nHala VK Dukla LBC
DTSTART;TZID=Europe/Berlin:20260412T113000
DTEND;TZID=Europe/Berlin:20260412T133000
LOCATION:TJ Turnov\, Skálova 207 Turnov
SUMMARY:LIB-U14Z: TJ Turnov-Tělovýchovná jednota Jiskra Nový Bor\, z.s.
END:VEVENT
BEGIN:VEVENT
UID:31376662-3732-4138-b362-643361373936
DTSTAMP:20260422T053857Z
DESCRIPTION:9/99 Schrödingerův institut Varnsdorf - Tělovýchovná jednota Ji
 skra Nový Bor\, z.s.\nHala VK Dukla LBC
DTSTART;TZID=Europe/Berlin:20260510T100000
DTEND;TZID=Europe/Berlin:20260510T120000
LOCATION:, Edisonova 2821 Varnsdorf
SUMMARY:LIB-U14Z: Schrödingerův institut Varnsdorf-Tělovýchovná jednota Jis
 kra Nový Bor\, z.s.
END:VEVENT
BEGIN:VEVENT
UID:36636130-6630-4366-a138-363636623839
DTSTAMP:20260422T053857Z
DESCRIPTION:9/104 TJ Slovan Varnsdorf z.s. - Tělovýchovná jednota Jiskra No
 vý Bor\, z.s.\nHala VK Dukla LBC
DTSTART;TZID=Europe/Berlin:20260510T120000
DTEND;TZID=Europe/Berlin:20260510T140000
LOCATION:Sportovní hala Varnsdorf\, Západní 2984 Varnsdorf
SUMMARY:LIB-U14Z: TJ Slovan Varnsdorf z.s.-Tělovýchovná jednota Jiskra Nový
  Bor\, z.s.
END:VEVENT
BEGIN:VEVENT
UID:31666263-3930-4265-b930-616338613532
DTSTAMP:20260422T053857Z
DESCRIPTION:9/106 TJ Turnov - Tělovýchovná jednota Jiskra Nový Bor\, z.s.\n
 Hala VK Dukla LBC
DTSTART;TZID=Europe/Berlin:20260510T130000
DTEND;TZID=Europe/Berlin:20260510T150000
LOCATION:TJ Turnov\, Skálova 207 Turnov
SUMMARY:LIB-U14Z: TJ Turnov-Tělovýchovná jednota Jiskra Nový Bor\, z.s.
END:VEVENT
BEGIN:VEVENT
UID:32623731-3332-4865-b265-643134313835
DTSTAMP:20260422T053857Z
DESCRIPTION:10/114 Schrödingerův institut Varnsdorf - Tělovýchovná jednota 
 Jiskra Nový Bor\, z.s.\nSport. hala Varnsdorf
DTSTART;TZID=Europe/Berlin:20260531T101500
DTEND;TZID=Europe/Berlin:20260531T121500
LOCATION:, Edisonova 2821 Varnsdorf
SUMMARY:LIB-U14Z: Schrödingerův institut Varnsdorf-Tělovýchovná jednota Jis
 kra Nový Bor\, z.s.
END:VEVENT
BEGIN:VEVENT
UID:37616338-3031-4430-a435-376538663733
DTSTAMP:20260422T053857Z
DESCRIPTION:10/118 TJ Slovan Varnsdorf z.s. - Tělovýchovná jednota Jiskra N
 ový Bor\, z.s.\nSport. hala Varnsdorf
DTSTART;TZID=Europe/Berlin:20260531T124500
DTEND;TZID=Europe/Berlin:20260531T144500
LOCATION:Sportovní hala Varnsdorf\, Západní 2984 Varnsdorf
SUMMARY:LIB-U14Z: TJ Slovan Varnsdorf z.s.-Tělovýchovná jednota Jiskra Nový
  Bor\, z.s.
END:VEVENT
END:VCALENDAR
