BEGIN:VCALENDAR
VERSION:2.0
PRODID:-//VO Slezská Orlice, z.s.89242//NONSGML kigkonsult.se iCalcreator 2.41.80//
CALSCALE:GREGORIAN
UID:32316430-3332-4537-b139-346537663535
BEGIN:VEVENT
UID:39353063-3431-4965-a336-663638333463
DTSTAMP:20260422T165916Z
DESCRIPTION:4/6 VO Sl. Orlice - SA Ostrava 2:0 (19\,18)
DTSTART;TZID=Europe/Berlin:20250921T120000
DTEND;TZID=Europe/Berlin:20250921T140000
LOCATION:ZŠ Janáčkovo náměstí 17\, Janáčkovo náměstí 1970 Krnov - Pod Bezru
 čovým vrchem
SUMMARY:MS-U16Z-KVA1: VO Sl. Orlice-SA Ostrava
END:VEVENT
BEGIN:VEVENT
UID:66626137-3333-4439-b265-653731376431
DTSTAMP:20260422T165916Z
DESCRIPTION:1/1 Ostrava - VO Sl. Orlice 2:0 (7\,5)
DTSTART;TZID=Europe/Berlin:20250921T090000
DTEND;TZID=Europe/Berlin:20250921T110000
LOCATION:ZŠ Janáčkovo náměstí 17\, Janáčkovo náměstí 1970 Krnov - Pod Bezru
 čovým vrchem
SUMMARY:MS-U16Z-KVA1: Ostrava-VO Sl. Orlice
END:VEVENT
BEGIN:VEVENT
UID:30663864-3362-4635-a635-373734393238
DTSTAMP:20260422T165916Z
DESCRIPTION:3/4 TJ Sokol FM B - VO Sl. Orlice 2:0 (14\,11)
DTSTART;TZID=Europe/Berlin:20250921T110000
DTEND;TZID=Europe/Berlin:20250921T130000
LOCATION:ZŠ Janáčkovo náměstí 17\, Janáčkovo náměstí 1970 Krnov - Pod Bezru
 čovým vrchem
SUMMARY:MS-U16Z-KVA1: TJ Sokol FM B-VO Sl. Orlice
END:VEVENT
BEGIN:VEVENT
UID:35633234-3131-4262-b134-303431363835
DTSTAMP:20260422T165916Z
DESCRIPTION:5/1 VO Sl. Orlice - TJ Hlučín 'B' 2:X
DTSTART;TZID=Europe/Berlin:20250921T133000
DTEND;TZID=Europe/Berlin:20250921T153000
LOCATION:ZŠ Janáčkovo náměstí 17\, Janáčkovo náměstí 1970 Krnov - Pod Bezru
 čovým vrchem
SUMMARY:MS-U16Z-KVAU: VO Sl. Orlice-TJ Hlučín 'B'
END:VEVENT
BEGIN:VEVENT
UID:37626135-3336-4432-a363-336662333662
DTSTAMP:20260422T165916Z
DESCRIPTION:1/1 Happy Opava 'A' - VO Sl. Orlice 2:0 (16\,22)
DTSTART;TZID=Europe/Berlin:20251012T090000
DTEND;TZID=Europe/Berlin:20251012T110000
LOCATION:ZŠ Janáčkovo náměstí 17\, Janáčkovo náměstí 1970 Krnov - Pod Bezru
 čovým vrchem
SUMMARY:MS-U16Z-T1D: Happy Opava 'A'-VO Sl. Orlice
END:VEVENT
BEGIN:VEVENT
UID:36353035-6163-4532-b764-636637613033
DTSTAMP:20260422T165916Z
DESCRIPTION:2/4 TJ Ostrava 'B' - VO Sl. Orlice 2:0 (7\,9)
DTSTART;TZID=Europe/Berlin:20251012T103000
DTEND;TZID=Europe/Berlin:20251012T123000
LOCATION:ZŠ Janáčkovo náměstí 17\, Janáčkovo náměstí 1970 Krnov - Pod Bezru
 čovým vrchem
SUMMARY:MS-U16Z-T1D: TJ Ostrava 'B'-VO Sl. Orlice
END:VEVENT
BEGIN:VEVENT
UID:35626466-3835-4430-b165-386266306636
DTSTAMP:20260422T165916Z
DESCRIPTION:3/6 TJ Sokol FM B - VO Sl. Orlice 2:0 (11\,9)
DTSTART;TZID=Europe/Berlin:20251012T120000
DTEND;TZID=Europe/Berlin:20251012T140000
LOCATION:ZŠ Janáčkovo náměstí 17\, Janáčkovo náměstí 1970 Krnov - Pod Bezru
 čovým vrchem
SUMMARY:MS-U16Z-T1D: TJ Sokol FM B-VO Sl. Orlice
END:VEVENT
BEGIN:VEVENT
UID:66383536-3933-4261-a534-663731333461
DTSTAMP:20260422T165916Z
DESCRIPTION:2/2 VO Sl. Orlice - SVK Nový Jičín B 0:2 (-12\,-7)
DTSTART;TZID=Europe/Berlin:20251109T103000
DTEND;TZID=Europe/Berlin:20251109T123000
LOCATION:Sokolovna\, Sokolská 290 Vratimov
SUMMARY:MS-U16Z-T2E: VO Sl. Orlice-SVK Nový Jičín B
END:VEVENT
BEGIN:VEVENT
UID:61383763-6133-4231-b834-383163643563
DTSTAMP:20260422T165916Z
DESCRIPTION:3/3 VO Sl. Orlice - TJ Sokol Vratimov 0:2 (-16\,-20)
DTSTART;TZID=Europe/Berlin:20251109T120000
DTEND;TZID=Europe/Berlin:20251109T140000
LOCATION:Sokolovna\, Sokolská 290 Vratimov
SUMMARY:MS-U16Z-T2E: VO Sl. Orlice-TJ Sokol Vratimov
END:VEVENT
BEGIN:VEVENT
UID:35353635-6234-4438-b336-656566353535
DTSTAMP:20260422T165916Z
DESCRIPTION:5/5 VO Sl. Orlice - VKB Frýdlant n.O. ' B ' 0:2 (-12\,-9)
DTSTART;TZID=Europe/Berlin:20251109T150000
DTEND;TZID=Europe/Berlin:20251109T170000
LOCATION:Sokolovna\, Sokolská 290 Vratimov
SUMMARY:MS-U16Z-T2E: VO Sl. Orlice-VKB Frýdlant n.O. ' B '
END:VEVENT
BEGIN:VEVENT
UID:36326336-6164-4739-a333-353731333430
DTSTAMP:20260422T165916Z
DESCRIPTION:2/2 VO Sl. Orlice - Volejbalový klub Kylešovice\, z.s. 1:2 (18\
 ,-23\,-13)
DTSTART;TZID=Europe/Berlin:20251214T103000
DTEND;TZID=Europe/Berlin:20251214T123000
LOCATION:Sportovní hala\, Heleny Salichové 1275 Ostrava - Polanka nad Odrou
SUMMARY:MS-U16Z-T3F: VO Sl. Orlice-Volejbalový klub Kylešovice\, z.s.
END:VEVENT
BEGIN:VEVENT
UID:66313665-6361-4038-b333-333962633530
DTSTAMP:20260422T165916Z
DESCRIPTION:3/3 VO Sl. Orlice - VK Karviná 0:2 (-22\,-12)
DTSTART;TZID=Europe/Berlin:20251214T120000
DTEND;TZID=Europe/Berlin:20251214T140000
LOCATION:Sportovní hala\, Heleny Salichové 1275 Ostrava - Polanka nad Odrou
SUMMARY:MS-U16Z-T3F: VO Sl. Orlice-VK Karviná
END:VEVENT
BEGIN:VEVENT
UID:61353231-3432-4834-a236-343961343236
DTSTAMP:20260422T165916Z
DESCRIPTION:4/5 VO Sl. Orlice - VK Polanka 'C' 0:2 (-18\,-11)
DTSTART;TZID=Europe/Berlin:20251214T133000
DTEND;TZID=Europe/Berlin:20251214T153000
LOCATION:Sportovní hala\, Heleny Salichové 1275 Ostrava - Polanka nad Odrou
SUMMARY:MS-U16Z-T3F: VO Sl. Orlice-VK Polanka 'C'
END:VEVENT
BEGIN:VEVENT
UID:34646236-3237-4231-a566-393565326539
DTSTAMP:20260422T165916Z
DESCRIPTION:1/1 VO Sl. Orlice - SA Ostrava 2:0 (19\,18)
DTSTART;TZID=Europe/Berlin:20260111T090000
DTEND;TZID=Europe/Berlin:20260111T110000
LOCATION:tělocvična 11.ZŠ Frýdek-Místek\, Jiřího z Poděbrad 3109 Frýdek-Mís
 tek - Frýdek
SUMMARY:MS-U16Z-T4G: VO Sl. Orlice-SA Ostrava
END:VEVENT
BEGIN:VEVENT
UID:62393365-3833-4632-b239-666364363831
DTSTAMP:20260422T165916Z
DESCRIPTION:2/3 VO Sl. Orlice - ŠSK Bílovec B 2:0 (14\,9)
DTSTART;TZID=Europe/Berlin:20260111T103000
DTEND;TZID=Europe/Berlin:20260111T123000
LOCATION:tělocvična 11.ZŠ Frýdek-Místek\, Jiřího z Poděbrad 3109 Frýdek-Mís
 tek - Frýdek
SUMMARY:MS-U16Z-T4G: VO Sl. Orlice-ŠSK Bílovec B
END:VEVENT
BEGIN:VEVENT
UID:64316332-6336-4464-b830-393734363337
DTSTAMP:20260422T165916Z
DESCRIPTION:3/6 VO Sl. Orlice - TJ Sokol FM C 2:0 (15\,14)
DTSTART;TZID=Europe/Berlin:20260111T120000
DTEND;TZID=Europe/Berlin:20260111T140000
LOCATION:tělocvična 11.ZŠ Frýdek-Místek\, Jiřího z Poděbrad 3109 Frýdek-Mís
 tek - Frýdek
SUMMARY:MS-U16Z-T4G: VO Sl. Orlice-TJ Sokol FM C
END:VEVENT
BEGIN:VEVENT
UID:66306465-3763-4437-b935-356661303333
DTSTAMP:20260422T165916Z
DESCRIPTION:2/2 VK Karviná - VO Sl. Orlice 1:2 (-23\,22\,-9)
DTSTART;TZID=Europe/Berlin:20260215T103000
DTEND;TZID=Europe/Berlin:20260215T123000
LOCATION:Tělocvična\, Pohořská 1010 Odry
SUMMARY:MS-U16Z-T5F: VK Karviná-VO Sl. Orlice
END:VEVENT
BEGIN:VEVENT
UID:62616466-6361-4134-b563-613936306632
DTSTAMP:20260422T165916Z
DESCRIPTION:3/3 TJ ODRY - VO Sl. Orlice 2:0 (10\,17)
DTSTART;TZID=Europe/Berlin:20260215T120000
DTEND;TZID=Europe/Berlin:20260215T140000
LOCATION:Tělocvična\, Pohořská 1010 Odry
SUMMARY:MS-U16Z-T5F: TJ ODRY-VO Sl. Orlice
END:VEVENT
BEGIN:VEVENT
UID:61336437-3433-4265-b665-383033333935
DTSTAMP:20260422T165916Z
DESCRIPTION:5/5 Happy Opava 'A' - VO Sl. Orlice 2:0 (10\,19)
DTSTART;TZID=Europe/Berlin:20260215T150000
DTEND;TZID=Europe/Berlin:20260215T170000
LOCATION:Tělocvična\, Pohořská 1010 Odry
SUMMARY:MS-U16Z-T5F: Happy Opava 'A'-VO Sl. Orlice
END:VEVENT
BEGIN:VEVENT
UID:34663338-3536-4365-a433-396362633737
DTSTAMP:20260422T165916Z
DESCRIPTION:3/5 VO Sl. Orlice - SVK Nový Jičín C 0:2 (-12\,-10)
DTSTART;TZID=Europe/Berlin:20260315T121500
DTEND;TZID=Europe/Berlin:20260315T141500
LOCATION:ZŠ Ed. Beneše\, Edvarda Beneše 961 Opava - Kateřinky
SUMMARY:MS-U16Z-T6F: VO Sl. Orlice-SVK Nový Jičín C
END:VEVENT
BEGIN:VEVENT
UID:61386362-3034-4430-b561-343463363463
DTSTAMP:20260422T165916Z
DESCRIPTION:1/2 Happy Opava 'A' - VO Sl. Orlice 1:2 (-18\,14\,-12)
DTSTART;TZID=Europe/Berlin:20260315T090000
DTEND;TZID=Europe/Berlin:20260315T110000
LOCATION:ZŠ Ed. Beneše\, Edvarda Beneše 961 Opava - Kateřinky
SUMMARY:MS-U16Z-T6F: Happy Opava 'A'-VO Sl. Orlice
END:VEVENT
BEGIN:VEVENT
UID:62663731-3239-4133-a163-313436613761
DTSTAMP:20260422T165916Z
DESCRIPTION:2/3 Volejbalový klub Kylešovice\, z.s. - VO Sl. Orlice 2:0 (21\
 ,23)
DTSTART;TZID=Europe/Berlin:20260315T111500
DTEND;TZID=Europe/Berlin:20260315T131500
LOCATION:ZŠ Ed. Beneše\, Edvarda Beneše 961 Opava - Kateřinky
SUMMARY:MS-U16Z-T6F: Volejbalový klub Kylešovice\, z.s.-VO Sl. Orlice
END:VEVENT
END:VCALENDAR
