BEGIN:VCALENDAR
VERSION:2.0
PRODID:-//TJ Sokol Střítež89278//NONSGML kigkonsult.se iCalcreator 2.41.80//
CALSCALE:GREGORIAN
UID:38383561-3066-4434-b834-623936636134
BEGIN:VEVENT
UID:36346462-6661-4661-b766-333161643636
DTSTAMP:20260421T231742Z
DESCRIPTION:1/2 Střítež - Slavičín U20 1:3 (19\,-16\,-17\,-17)
DTSTART;TZID=Europe/Berlin:20251122T100000
DTEND;TZID=Europe/Berlin:20251122T120000
LOCATION:Sokolovna\,  Střítež nad Bečvou1
SUMMARY:ZLK-U22Z: Střítež-Slavičín U20
END:VEVENT
BEGIN:VEVENT
UID:39386238-3561-4663-b864-636335353138
DTSTAMP:20260421T231742Z
DESCRIPTION:2/6 Střítež - Slavičín U20 0:3 (-22\,-21\,-11)
DTSTART;TZID=Europe/Berlin:20251122T130000
DTEND;TZID=Europe/Berlin:20251122T150000
LOCATION:Sokolovna\,  Střítež nad Bečvou1
SUMMARY:ZLK-U22Z: Střítež-Slavičín U20
END:VEVENT
BEGIN:VEVENT
UID:61666439-3436-4339-b063-633262326261
DTSTAMP:20260421T231742Z
DESCRIPTION:7/28 Střítež - Uh.Brod 1:3 (-17\,-20\,24\,-15)
DTSTART;TZID=Europe/Berlin:20251011T100000
DTEND;TZID=Europe/Berlin:20251011T120000
LOCATION:Sokolovna\,  Střítež nad Bečvou1
SUMMARY:ZLK-U22Z: Střítež-Uh.Brod
END:VEVENT
BEGIN:VEVENT
UID:39323033-3233-4830-b165-343132633238
DTSTAMP:20260421T231742Z
DESCRIPTION:8/32 Střítež - Uh.Brod 0:3 (-18\,-14\,-16)
DTSTART;TZID=Europe/Berlin:20251011T130000
DTEND;TZID=Europe/Berlin:20251011T150000
LOCATION:Sokolovna\,  Střítež nad Bečvou1
SUMMARY:ZLK-U22Z: Střítež-Uh.Brod
END:VEVENT
BEGIN:VEVENT
UID:39666163-6233-4165-a366-333637323030
DTSTAMP:20260421T231742Z
DESCRIPTION:11/43 Střítež - Rožnov pR 3:0 (15\,13\,22)
DTSTART;TZID=Europe/Berlin:20251109T100000
DTEND;TZID=Europe/Berlin:20251109T120000
LOCATION:Sokolovna\,  Střítež nad Bečvou1
SUMMARY:ZLK-U22Z: Střítež-Rožnov pR
END:VEVENT
BEGIN:VEVENT
UID:62616530-3963-4939-b732-356639373132
DTSTAMP:20260421T231742Z
DESCRIPTION:12/47 Střítež - Rožnov pR 3:2 (-11\,19\,-21\,22\,12)
DTSTART;TZID=Europe/Berlin:20251109T130000
DTEND;TZID=Europe/Berlin:20251109T150000
LOCATION:Sokolovna\,  Střítež nad Bečvou1
SUMMARY:ZLK-U22Z: Střítež-Rožnov pR
END:VEVENT
BEGIN:VEVENT
UID:63393134-3232-4832-b966-343964363765
DTSTAMP:20260421T231742Z
DESCRIPTION:17/68 Střítež - NIVNICE 1:3 (-19\,17\,-15\,-16)
DTSTART;TZID=Europe/Berlin:20260117T100000
DTEND;TZID=Europe/Berlin:20260117T120000
LOCATION:Sokolovna\,  Střítež nad Bečvou1
SUMMARY:ZLK-U22Z: Střítež-NIVNICE
END:VEVENT
BEGIN:VEVENT
UID:64656630-3631-4361-b466-326435386363
DTSTAMP:20260421T231742Z
DESCRIPTION:18/72 Střítež - NIVNICE 3:1 (-16\,19\,18\,22)
DTSTART;TZID=Europe/Berlin:20260117T130000
DTEND;TZID=Europe/Berlin:20260117T150000
LOCATION:Sokolovna\,  Střítež nad Bečvou1
SUMMARY:ZLK-U22Z: Střítež-NIVNICE
END:VEVENT
BEGIN:VEVENT
UID:38646530-3734-4365-b939-326265366335
DTSTAMP:20260421T231742Z
DESCRIPTION:23/90 Střítež - NAPAJEDLA 2:3 (-17\,-22\,23\,23\,-8)
DTSTART;TZID=Europe/Berlin:20260321T100000
DTEND;TZID=Europe/Berlin:20260321T120000
LOCATION:Sokolovna\,  Střítež nad Bečvou1
SUMMARY:ZLK-U22Z: Střítež-NAPAJEDLA
END:VEVENT
BEGIN:VEVENT
UID:61626362-6231-4533-b832-366439393764
DTSTAMP:20260421T231742Z
DESCRIPTION:24/94 Střítež - NAPAJEDLA 0:3 (-17\,-19\,-12)
DTSTART;TZID=Europe/Berlin:20260321T130000
DTEND;TZID=Europe/Berlin:20260321T150000
LOCATION:Sokolovna\,  Střítež nad Bečvou1
SUMMARY:ZLK-U22Z: Střítež-NAPAJEDLA
END:VEVENT
BEGIN:VEVENT
UID:63666665-6535-4961-b034-636332623732
DTSTAMP:20260421T231742Z
DESCRIPTION:27/107 Střítež - Kopřivnice 0:3 (-16\,-15\,-24)
DTSTART;TZID=Europe/Berlin:20260314T100000
DTEND;TZID=Europe/Berlin:20260314T120000
LOCATION:Sokolovna\,  Střítež nad Bečvou1
SUMMARY:ZLK-U22Z: Střítež-Kopřivnice
END:VEVENT
BEGIN:VEVENT
UID:31666335-3361-4064-b163-366234383263
DTSTAMP:20260421T231742Z
DESCRIPTION:28/111 Střítež - Kopřivnice 1:3 (-12\,-13\,24\,-7)
DTSTART;TZID=Europe/Berlin:20260314T130000
DTEND;TZID=Europe/Berlin:20260314T150000
LOCATION:Sokolovna\,  Střítež nad Bečvou1
SUMMARY:ZLK-U22Z: Střítež-Kopřivnice
END:VEVENT
BEGIN:VEVENT
UID:61396266-3035-4132-a132-666237343764
DTSTAMP:20260421T231742Z
DESCRIPTION:3/12 NIVNICE - Střítež 1:3 (27\,-20\,-21\,-14)
DTSTART;TZID=Europe/Berlin:20250928T100000
DTEND;TZID=Europe/Berlin:20250928T120000
LOCATION:Sportovní hala Korytná\,  Korytná409
SUMMARY:ZLK-U22Z: NIVNICE-Střítež
END:VEVENT
BEGIN:VEVENT
UID:61653832-3333-4164-b265-396436313431
DTSTAMP:20260421T231742Z
DESCRIPTION:4/16 NIVNICE - Střítež 0:3 (-24\,-22\,-21)
DTSTART;TZID=Europe/Berlin:20250928T130000
DTEND;TZID=Europe/Berlin:20250928T150000
LOCATION:Sportovní hala Korytná\,  Korytná409
SUMMARY:ZLK-U22Z: NIVNICE-Střítež
END:VEVENT
BEGIN:VEVENT
UID:64316337-6661-4364-b937-643362643437
DTSTAMP:20260421T231742Z
DESCRIPTION:9/34 NAPAJEDLA - Střítež 3:0 (16\,21\,16)
DTSTART;TZID=Europe/Berlin:20251019T100000
DTEND;TZID=Europe/Berlin:20251019T120000
LOCATION:2.ZŠ Napajedla\, Komenského 298 Napajedla
SUMMARY:ZLK-U22Z: NAPAJEDLA-Střítež
END:VEVENT
BEGIN:VEVENT
UID:62396630-3335-4433-a336-396339656164
DTSTAMP:20260421T231742Z
DESCRIPTION:10/38 NAPAJEDLA - Střítež 3:2 (22\,-18\,17\,-21\,13)
DTSTART;TZID=Europe/Berlin:20251019T130000
DTEND;TZID=Europe/Berlin:20251019T150000
LOCATION:2.ZŠ Napajedla\, Komenského 298 Napajedla
SUMMARY:ZLK-U22Z: NAPAJEDLA-Střítež
END:VEVENT
BEGIN:VEVENT
UID:31386635-6563-4136-b634-313765373933
DTSTAMP:20260421T231742Z
DESCRIPTION:13/51 Kopřivnice - Střítež 3:0 (17\,19\,17)
DTSTART;TZID=Europe/Berlin:20251130T100000
DTEND;TZID=Europe/Berlin:20251130T120000
LOCATION:Tělocvičny ZŠ 17.listopadu Kopřivnice\, 17. listopadu 1225 Kopřivn
 ice
SUMMARY:ZLK-U22Z: Kopřivnice-Střítež
END:VEVENT
BEGIN:VEVENT
UID:35323365-6631-4766-b064-646238323465
DTSTAMP:20260421T231742Z
DESCRIPTION:14/55 Kopřivnice - Střítež 3:0 (14\,18\,16)
DTSTART;TZID=Europe/Berlin:20251130T130000
DTEND;TZID=Europe/Berlin:20251130T150000
LOCATION:Tělocvičny ZŠ 17.listopadu Kopřivnice\, 17. listopadu 1225 Kopřivn
 ice
SUMMARY:ZLK-U22Z: Kopřivnice-Střítež
END:VEVENT
BEGIN:VEVENT
UID:65323333-6632-4465-b433-316164613662
DTSTAMP:20260421T231742Z
DESCRIPTION:15/58 Slavičín U20 - Střítež 3:0 (19\,17\,14)
DTSTART;TZID=Europe/Berlin:20260214T100000
DTEND;TZID=Europe/Berlin:20260214T120000
LOCATION:Sportovní hala Slavičín\, Školní 29 Slavičín
SUMMARY:ZLK-U22Z: Slavičín U20-Střítež
END:VEVENT
BEGIN:VEVENT
UID:31333936-3939-4238-b365-663732323630
DTSTAMP:20260421T231742Z
DESCRIPTION:16/62 Slavičín U20 - Střítež 3:0 (12\,17\,16)
DTSTART;TZID=Europe/Berlin:20260214T130000
DTEND;TZID=Europe/Berlin:20260214T150000
LOCATION:Sportovní hala Slavičín\, Školní 29 Slavičín
SUMMARY:ZLK-U22Z: Slavičín U20-Střítež
END:VEVENT
BEGIN:VEVENT
UID:38626165-3038-4364-b564-366530376364
DTSTAMP:20260421T231742Z
DESCRIPTION:21/84 Uh.Brod - Střítež 3:0 (19\,22\,16)
DTSTART;TZID=Europe/Berlin:20260208T100000
DTEND;TZID=Europe/Berlin:20260208T120000
LOCATION:TJ SPARTAK UHERSKÝ BROD z.s.\, U Stadionu 2295 Uherský Brod
SUMMARY:ZLK-U22Z: Uh.Brod-Střítež
END:VEVENT
BEGIN:VEVENT
UID:38633366-6436-4530-b232-336366366236
DTSTAMP:20260421T231742Z
DESCRIPTION:22/88 Uh.Brod - Střítež 3:0 (20\,14\,20)
DTSTART;TZID=Europe/Berlin:20260208T130000
DTEND;TZID=Europe/Berlin:20260208T150000
LOCATION:TJ SPARTAK UHERSKÝ BROD z.s.\, U Stadionu 2295 Uherský Brod
SUMMARY:ZLK-U22Z: Uh.Brod-Střítež
END:VEVENT
BEGIN:VEVENT
UID:31316461-3834-4166-b233-663630366334
DTSTAMP:20260421T231742Z
DESCRIPTION:25/99 Rožnov pR - Střítež 0:3 (-19\,-19\,-17)
DTSTART;TZID=Europe/Berlin:20260222T100000
DTEND;TZID=Europe/Berlin:20260222T120000
LOCATION:ZŠ POD SKALKOU\, Bezručova 293 Rožnov pod Radhoštěm
SUMMARY:ZLK-U22Z: Rožnov pR-Střítež
END:VEVENT
BEGIN:VEVENT
UID:30653031-6163-4931-a436-623365383662
DTSTAMP:20260421T231742Z
DESCRIPTION:26/103 Rožnov pR - Střítež 3:2 (24\,-18\,19\,-14\,12)
DTSTART;TZID=Europe/Berlin:20260222T130000
DTEND;TZID=Europe/Berlin:20260222T150000
LOCATION:ZŠ POD SKALKOU\, Bezručova 293 Rožnov pod Radhoštěm
SUMMARY:ZLK-U22Z: Rožnov pR-Střítež
END:VEVENT
END:VCALENDAR
