BEGIN:VCALENDAR
VERSION:2.0
PRODID:-//VSK Č. Krumlov B89303//NONSGML kigkonsult.se iCalcreator 2.41.80//
CALSCALE:GREGORIAN
UID:62623632-3534-4466-b433-326262366136
BEGIN:VEVENT
UID:61343366-3161-4432-a139-333637343035
DTSTAMP:20260422T202233Z
DESCRIPTION:1/5 VSK Č. Krumlov B - Volejbal Tábor A 0:2 (-4\,-5)\nJindřichů
 v Hradec
DTSTART;TZID=Europe/Berlin:20250921T130000
DTEND;TZID=Europe/Berlin:20250921T150000
LOCATION:ZŠ Za Nádražím Český Krumlov\, Za Nádražím 222 Český Krumlov - Nád
 ražní Předměstí
SUMMARY:JC-U14Z-1D: VSK Č. Krumlov B-Volejbal Tábor A
END:VEVENT
BEGIN:VEVENT
UID:33613963-3164-4535-b039-393532666636
DTSTAMP:20260422T202233Z
DESCRIPTION:1/1 Volejbal Rudolfov B - VSK Č. Krumlov B 2:0 (5\,4)\nJindřich
 ův Hradec
DTSTART;TZID=Europe/Berlin:20250921T090000
DTEND;TZID=Europe/Berlin:20250921T110000
LOCATION:Sportovní hala Rudolfov\, Adamovská 511 Rudolfov
SUMMARY:JC-U14Z-1D: Volejbal Rudolfov B-VSK Č. Krumlov B
END:VEVENT
BEGIN:VEVENT
UID:62356661-3533-4139-a531-336563653531
DTSTAMP:20260422T202233Z
DESCRIPTION:1/4 Sokol Písek - VSK Č. Krumlov BOuhelová Natálie\nJindřichův 
 Hradec
DTSTART;TZID=Europe/Berlin:20250921T120000
DTEND;TZID=Europe/Berlin:20250921T140000
LOCATION:Sportovní hala Sokol Písek\, Tyršova 395 Písek - Budějovické Předm
 ěstí
SUMMARY:JC-U14Z-1D: Sokol Písek-VSK Č. Krumlov B
END:VEVENT
BEGIN:VEVENT
UID:37366363-3063-4965-b739-623734633566
DTSTAMP:20260422T202233Z
DESCRIPTION:1/1 VSK Č. Krumlov B - VSK Č. Krumlov A 0:2 (-13\,-9)
DTSTART;TZID=Europe/Berlin:20251019T090000
DTEND;TZID=Europe/Berlin:20251019T110000
LOCATION:, U Stadionu 764 Prachatice - Prachatice II
SUMMARY:JC-U14Z-C1: VSK Č. Krumlov B-VSK Č. Krumlov A
END:VEVENT
BEGIN:VEVENT
UID:37646333-3666-4435-a235-306531626330
DTSTAMP:20260422T202233Z
DESCRIPTION:2/6 VSK Č. Krumlov B - Madeta Jihostroj ČB B 1:1 (12\,-21)
DTSTART;TZID=Europe/Berlin:20251019T140000
DTEND;TZID=Europe/Berlin:20251019T160000
LOCATION:, U Stadionu 764 Prachatice - Prachatice II
SUMMARY:JC-U14Z-C1: VSK Č. Krumlov B-Madeta Jihostroj ČB B
END:VEVENT
BEGIN:VEVENT
UID:61396632-6163-4638-b636-656434326436
DTSTAMP:20260422T202233Z
DESCRIPTION:1/3 Sokol Písek - VSK Č. Krumlov B 0:2 (-22\,-11)
DTSTART;TZID=Europe/Berlin:20251019T110000
DTEND;TZID=Europe/Berlin:20251019T130000
LOCATION:, U Stadionu 764 Prachatice - Prachatice II
SUMMARY:JC-U14Z-C1: Sokol Písek-VSK Č. Krumlov B
END:VEVENT
BEGIN:VEVENT
UID:36383765-3432-4836-b462-376462333933
DTSTAMP:20260422T202233Z
DESCRIPTION:2/8 Škola volejbalu B - VSK Č. Krumlov B 2:0 (9\,9)
DTSTART;TZID=Europe/Berlin:20251019T150000
DTEND;TZID=Europe/Berlin:20251019T170000
LOCATION:, U Stadionu 764 Prachatice - Prachatice II
SUMMARY:JC-U14Z-C1: Škola volejbalu B-VSK Č. Krumlov B
END:VEVENT
BEGIN:VEVENT
UID:31373032-3637-4965-b661-393630313465
DTSTAMP:20260422T202233Z
DESCRIPTION:1/2 VSK Č. Krumlov B - Škola volejbalu B 0:2 (-12\,-6)
DTSTART;TZID=Europe/Berlin:20251102T100000
DTEND;TZID=Europe/Berlin:20251102T120000
LOCATION:ZŠ Za Nádražím Český Krumlov\, Za Nádražím 222 Český Krumlov - Nád
 ražní Předměstí
SUMMARY:JC-U14Z-C2: VSK Č. Krumlov B-Škola volejbalu B
END:VEVENT
BEGIN:VEVENT
UID:39366362-6662-4463-b133-313262616663
DTSTAMP:20260422T202233Z
DESCRIPTION:2/9 VSK Č. Krumlov B - Sokol Písek 0:2 (-20\,-14)
DTSTART;TZID=Europe/Berlin:20251102T170000
DTEND;TZID=Europe/Berlin:20251102T190000
LOCATION:ZŠ Za Nádražím Český Krumlov\, Za Nádražím 222 Český Krumlov - Nád
 ražní Předměstí
SUMMARY:JC-U14Z-C2: VSK Č. Krumlov B-Sokol Písek
END:VEVENT
BEGIN:VEVENT
UID:39396437-3137-4732-b066-646264306165
DTSTAMP:20260422T202233Z
DESCRIPTION:1/4 Madeta Jihostroj ČB A - VSK Č. Krumlov B 2:0 (5\,9)
DTSTART;TZID=Europe/Berlin:20251102T120000
DTEND;TZID=Europe/Berlin:20251102T140000
LOCATION:Sportovní hala\, Stromovka 1216 České Budějovice - České Budějovic
 e 2
SUMMARY:JC-U14Z-C2: Madeta Jihostroj ČB A-VSK Č. Krumlov B
END:VEVENT
BEGIN:VEVENT
UID:38646162-3538-4661-b738-613162383234
DTSTAMP:20260422T202233Z
DESCRIPTION:2/6 Madeta Jihostroj ČB B - VSK Č. Krumlov B 1:1 (15\,-15)
DTSTART;TZID=Europe/Berlin:20251102T140000
DTEND;TZID=Europe/Berlin:20251102T160000
LOCATION:Sportovní hala\, Stromovka 1216 České Budějovice - České Budějovic
 e 2
SUMMARY:JC-U14Z-C2: Madeta Jihostroj ČB B-VSK Č. Krumlov B
END:VEVENT
BEGIN:VEVENT
UID:36363062-3439-4638-a463-613933666631
DTSTAMP:20260422T202233Z
DESCRIPTION:1/3 VSK Č. Krumlov B - Sokol Písek 1:0 (0)
DTSTART;TZID=Europe/Berlin:20251214T110000
DTEND;TZID=Europe/Berlin:20251214T130000
LOCATION:Sportovní Hala Mír\, U Stadionu Míru 1579 Tábor
SUMMARY:JC-U14Z-C3: VSK Č. Krumlov B-Sokol Písek
END:VEVENT
BEGIN:VEVENT
UID:65653439-3834-4337-b830-313934323363
DTSTAMP:20260422T202233Z
DESCRIPTION:1/5 VSK Č. Krumlov B - Škola volejbalu B 0:2 (-9\,-10)
DTSTART;TZID=Europe/Berlin:20251214T130000
DTEND;TZID=Europe/Berlin:20251214T150000
LOCATION:Sportovní Hala Mír\, U Stadionu Míru 1579 Tábor
SUMMARY:JC-U14Z-C3: VSK Č. Krumlov B-Škola volejbalu B
END:VEVENT
BEGIN:VEVENT
UID:38616330-6462-4430-b061-646534393331
DTSTAMP:20260422T202233Z
DESCRIPTION:2/7 TJ Tatran Prachatice\, z.s. - VSK Č. Krumlov B 0:2 (-20\,-2
 3)
DTSTART;TZID=Europe/Berlin:20251214T150000
DTEND;TZID=Europe/Berlin:20251214T170000
LOCATION:Sportovní Hala Mír\, U Stadionu Míru 1579 Tábor
SUMMARY:JC-U14Z-C3: TJ Tatran Prachatice\, z.s.-VSK Č. Krumlov B
END:VEVENT
BEGIN:VEVENT
UID:62356234-3664-4432-b231-356430653864
DTSTAMP:20260422T202233Z
DESCRIPTION:2/9 Madeta Jihostroj ČB B - VSK Č. Krumlov B 0:2 (-15\,-15)
DTSTART;TZID=Europe/Berlin:20251214T160000
DTEND;TZID=Europe/Berlin:20251214T180000
LOCATION:Sportovní Hala Mír\, U Stadionu Míru 1579 Tábor
SUMMARY:JC-U14Z-C3: Madeta Jihostroj ČB B-VSK Č. Krumlov B
END:VEVENT
BEGIN:VEVENT
UID:36323937-6235-4131-b239-646135313334
DTSTAMP:20260422T202233Z
DESCRIPTION:1/3 VSK Č. Krumlov B - VSK Č. Krumlov A 0:2 (-6\,-11)
DTSTART;TZID=Europe/Berlin:20260118T110000
DTEND;TZID=Europe/Berlin:20260118T130000
LOCATION:Hala Gymnázium Písek\, Komenského 89 Písek - Budějovické Předměstí
SUMMARY:JC-U14Z-C4: VSK Č. Krumlov B-VSK Č. Krumlov A
END:VEVENT
BEGIN:VEVENT
UID:62353837-6137-4364-b365-653263633266
DTSTAMP:20260422T202233Z
DESCRIPTION:2/6 VSK Č. Krumlov B - Madeta Jihostroj ČB B 2:0 (18\,20)
DTSTART;TZID=Europe/Berlin:20260118T140000
DTEND;TZID=Europe/Berlin:20260118T160000
LOCATION:Hala Gymnázium Písek\, Komenského 89 Písek - Budějovické Předměstí
SUMMARY:JC-U14Z-C4: VSK Č. Krumlov B-Madeta Jihostroj ČB B
END:VEVENT
BEGIN:VEVENT
UID:62346163-3936-4236-b666-623235303965
DTSTAMP:20260422T202233Z
DESCRIPTION:1/1 Sokol Písek - VSK Č. Krumlov B 1:1 (-27\,5)
DTSTART;TZID=Europe/Berlin:20260118T090000
DTEND;TZID=Europe/Berlin:20260118T110000
LOCATION:Hala Gymnázium Písek\, Komenského 89 Písek - Budějovické Předměstí
SUMMARY:JC-U14Z-C4: Sokol Písek-VSK Č. Krumlov B
END:VEVENT
BEGIN:VEVENT
UID:61653836-6433-4634-b061-396130393362
DTSTAMP:20260422T202233Z
DESCRIPTION:2/8 TJ Tatran Prachatice\, z.s. - VSK Č. Krumlov B 2:0 (14\,10)
DTSTART;TZID=Europe/Berlin:20260118T160000
DTEND;TZID=Europe/Berlin:20260118T180000
LOCATION:Hala Gymnázium Písek\, Komenského 89 Písek - Budějovické Předměstí
SUMMARY:JC-U14Z-C4: TJ Tatran Prachatice\, z.s.-VSK Č. Krumlov B
END:VEVENT
BEGIN:VEVENT
UID:65356635-6164-4136-a534-313131666661
DTSTAMP:20260422T202233Z
DESCRIPTION:2/8 VSK Č. Krumlov B - Sokol Písek 2:0 (14\,26)
DTSTART;TZID=Europe/Berlin:20260329T150000
DTEND;TZID=Europe/Berlin:20260329T170000
LOCATION:ZŠ Za Nádražím Český Krumlov\, Za Nádražím 222 Český Krumlov - Nád
 ražní Předměstí
SUMMARY:JC-U14Z-C5: VSK Č. Krumlov B-Sokol Písek
END:VEVENT
BEGIN:VEVENT
UID:62616233-3434-4362-a365-303863383263
DTSTAMP:20260422T202233Z
DESCRIPTION:2/10 VSK Č. Krumlov B - TJ Tatran Prachatice\, z.s. 0:2 (-12\,-
 19)
DTSTART;TZID=Europe/Berlin:20260329T160000
DTEND;TZID=Europe/Berlin:20260329T180000
LOCATION:ZŠ Za Nádražím Český Krumlov\, Za Nádražím 222 Český Krumlov - Nád
 ražní Předměstí
SUMMARY:JC-U14Z-C5: VSK Č. Krumlov B-TJ Tatran Prachatice\, z.s.
END:VEVENT
BEGIN:VEVENT
UID:31326435-3462-4638-b430-323838626338
DTSTAMP:20260422T202233Z
DESCRIPTION:1/2 Škola volejbalu B - VSK Č. Krumlov B 2:0 (19\,13)
DTSTART;TZID=Europe/Berlin:20260329T100000
DTEND;TZID=Europe/Berlin:20260329T120000
LOCATION:Sportovní hala Hrdějovice\,  Hrdějovice597
SUMMARY:JC-U14Z-C5: Škola volejbalu B-VSK Č. Krumlov B
END:VEVENT
BEGIN:VEVENT
UID:30363065-3264-4637-b764-346365343563
DTSTAMP:20260422T202233Z
DESCRIPTION:1/5 Madeta Jihostroj ČB B - VSK Č. Krumlov B 1:1 (-15\,21)
DTSTART;TZID=Europe/Berlin:20260329T130000
DTEND;TZID=Europe/Berlin:20260329T150000
LOCATION:Sportovní hala\, Stromovka 1216 České Budějovice - České Budějovic
 e 2
SUMMARY:JC-U14Z-C5: Madeta Jihostroj ČB B-VSK Č. Krumlov B
END:VEVENT
BEGIN:VEVENT
UID:66303164-3336-4361-a330-656232616334
DTSTAMP:20260422T202233Z
DESCRIPTION:2/8 VSK Č. Krumlov B - Madeta Jihostroj ČB A 0:2 (-12\,-9)
DTSTART;TZID=Europe/Berlin:20260412T150000
DTEND;TZID=Europe/Berlin:20260412T170000
LOCATION:ZŠ Za Nádražím Český Krumlov\, Za Nádražím 222 Český Krumlov - Nád
 ražní Předměstí
SUMMARY:JC-U14Z-C6: VSK Č. Krumlov B-Madeta Jihostroj ČB A
END:VEVENT
BEGIN:VEVENT
UID:35636262-6239-4132-b732-626161656636
DTSTAMP:20260422T202233Z
DESCRIPTION:2/10 VSK Č. Krumlov B - Škola volejbalu B 0:2 (-19\,-22)
DTSTART;TZID=Europe/Berlin:20260412T150000
DTEND;TZID=Europe/Berlin:20260412T170000
LOCATION:ZŠ Za Nádražím Český Krumlov\, Za Nádražím 222 Český Krumlov - Nád
 ražní Předměstí
SUMMARY:JC-U14Z-C6: VSK Č. Krumlov B-Škola volejbalu B
END:VEVENT
BEGIN:VEVENT
UID:65396464-3539-4639-a266-323439303961
DTSTAMP:20260422T202233Z
DESCRIPTION:1/2 Sokol Písek - VSK Č. Krumlov B 2:0 (15\,12)
DTSTART;TZID=Europe/Berlin:20260412T100000
DTEND;TZID=Europe/Berlin:20260412T120000
LOCATION:Sportovní hala Sokol Písek\, Tyršova 395 Písek - Budějovické Předm
 ěstí
SUMMARY:JC-U14Z-C6: Sokol Písek-VSK Č. Krumlov B
END:VEVENT
BEGIN:VEVENT
UID:36396434-3639-4137-b138-356365316362
DTSTAMP:20260422T202233Z
DESCRIPTION:1/5 Madeta Jihostroj ČB B - VSK Č. Krumlov B 0:2 (-12\,-16)
DTSTART;TZID=Europe/Berlin:20260412T130000
DTEND;TZID=Europe/Berlin:20260412T150000
LOCATION:Sportovní hala\, Stromovka 1216 České Budějovice - České Budějovic
 e 2
SUMMARY:JC-U14Z-C6: Madeta Jihostroj ČB B-VSK Č. Krumlov B
END:VEVENT
END:VCALENDAR
