BEGIN:VCALENDAR
VERSION:2.0
PRODID:-//Volejbalový sportovní klub Český Krumlov z.s. A89304//NONSGML kigkonsult.se iCalcreator 2.41.80//
CALSCALE:GREGORIAN
UID:30383631-6162-4364-a634-636561333437
BEGIN:VEVENT
UID:31373334-3136-4130-a563-343331313363
DTSTAMP:20260421T134924Z
DESCRIPTION:1/1 VSK ČK A - Škola volejbalu B 2:0 (26\,16)
DTSTART;TZID=Europe/Berlin:20250928T090000
DTEND;TZID=Europe/Berlin:20250928T110000
LOCATION:TĚLOVÝCHOVNÁ JEDNOTA LOKOMOTIVA z. s.\, Třebízského 1044 České Bud
 ějovice - České Budějovice 5
SUMMARY:JC-U16Z1-1C: VSK ČK A-Škola volejbalu B
END:VEVENT
BEGIN:VEVENT
UID:63623130-6130-4931-a535-303463643265
DTSTAMP:20260421T134924Z
DESCRIPTION:1/3 VSK ČK A - TJ Slovan J. Hradec\, z.s. A 2:1 (-19\,20\,9)
DTSTART;TZID=Europe/Berlin:20250928T110000
DTEND;TZID=Europe/Berlin:20250928T130000
LOCATION:TĚLOVÝCHOVNÁ JEDNOTA LOKOMOTIVA z. s.\, Třebízského 1044 České Bud
 ějovice - České Budějovice 5
SUMMARY:JC-U16Z1-1C: VSK ČK A-TJ Slovan J. Hradec\, z.s. A
END:VEVENT
BEGIN:VEVENT
UID:35653364-6437-4637-a465-383637656330
DTSTAMP:20260421T134924Z
DESCRIPTION:1/6 VSK ČK A - SK Otava Písek A 2:1 (-20\,14\,12)
DTSTART;TZID=Europe/Berlin:20250928T140000
DTEND;TZID=Europe/Berlin:20250928T160000
LOCATION:TĚLOVÝCHOVNÁ JEDNOTA LOKOMOTIVA z. s.\, Třebízského 1044 České Bud
 ějovice - České Budějovice 5
SUMMARY:JC-U16Z1-1C: VSK ČK A-SK Otava Písek A
END:VEVENT
BEGIN:VEVENT
UID:35623065-6433-4331-a466-393033656564
DTSTAMP:20260421T134924Z
DESCRIPTION:1/4 VSK ČK A - SK TŘEBÍN A 2:0 (13\,15)
DTSTART;TZID=Europe/Berlin:20251012T120000
DTEND;TZID=Europe/Berlin:20251012T140000
LOCATION:TĚLOVÝCHOVNÁ JEDNOTA LOKOMOTIVA z. s.\, Třebízského 1044 České Bud
 ějovice - České Budějovice 5
SUMMARY:JC-U16Z1-2B: VSK ČK A-SK TŘEBÍN A
END:VEVENT
BEGIN:VEVENT
UID:62646338-3161-4231-a365-333235383461
DTSTAMP:20260421T134924Z
DESCRIPTION:1/2 Škola volejbalu A - VSK ČK A 1:2 (25\,-15\,-7)
DTSTART;TZID=Europe/Berlin:20251012T100000
DTEND;TZID=Europe/Berlin:20251012T120000
LOCATION:TĚLOVÝCHOVNÁ JEDNOTA LOKOMOTIVA z. s.\, Třebízského 1044 České Bud
 ějovice - České Budějovice 5
SUMMARY:JC-U16Z1-2B: Škola volejbalu A-VSK ČK A
END:VEVENT
BEGIN:VEVENT
UID:66366239-3038-4263-b433-386334633831
DTSTAMP:20260421T134924Z
DESCRIPTION:1/6 TJ Tatran Prachatice\, z.s. A - VSK ČK A 0:2 (-14\,-15)
DTSTART;TZID=Europe/Berlin:20251012T140000
DTEND;TZID=Europe/Berlin:20251012T160000
LOCATION:TĚLOVÝCHOVNÁ JEDNOTA LOKOMOTIVA z. s.\, Třebízského 1044 České Bud
 ějovice - České Budějovice 5
SUMMARY:JC-U16Z1-2B: TJ Tatran Prachatice\, z.s. A-VSK ČK A
END:VEVENT
BEGIN:VEVENT
UID:63623138-6639-4063-a433-376366333034
DTSTAMP:20260421T134924Z
DESCRIPTION:1/4 VSK ČK A - Volejbal Tábor A 2:0 (18\,12)
DTSTART;TZID=Europe/Berlin:20251109T120000
DTEND;TZID=Europe/Berlin:20251109T140000
LOCATION:TĚLOVÝCHOVNÁ JEDNOTA LOKOMOTIVA z. s.\, Třebízského 1044 České Bud
 ějovice - České Budějovice 5
SUMMARY:JC-U16Z1-3A: VSK ČK A-Volejbal Tábor A
END:VEVENT
BEGIN:VEVENT
UID:64396630-6132-4137-a363-393165393033
DTSTAMP:20260421T134924Z
DESCRIPTION:1/2 Rudolfov - VSK ČK A 0:2 (-16\,-23)
DTSTART;TZID=Europe/Berlin:20251109T100000
DTEND;TZID=Europe/Berlin:20251109T120000
LOCATION:TĚLOVÝCHOVNÁ JEDNOTA LOKOMOTIVA z. s.\, Třebízského 1044 České Bud
 ějovice - České Budějovice 5
SUMMARY:JC-U16Z1-3A: Rudolfov-VSK ČK A
END:VEVENT
BEGIN:VEVENT
UID:32633739-6338-4465-a462-643262313336
DTSTAMP:20260421T134924Z
DESCRIPTION:1/6 Č. Budějovice - VSK ČK A 2:0 (20\,17)
DTSTART;TZID=Europe/Berlin:20251109T140000
DTEND;TZID=Europe/Berlin:20251109T160000
LOCATION:TĚLOVÝCHOVNÁ JEDNOTA LOKOMOTIVA z. s.\, Třebízského 1044 České Bud
 ějovice - České Budějovice 5
SUMMARY:JC-U16Z1-3A: Č. Budějovice-VSK ČK A
END:VEVENT
BEGIN:VEVENT
UID:61333531-3965-4265-a332-636362326531
DTSTAMP:20260421T134924Z
DESCRIPTION:1/1 VSK ČK A - Rudolfov 0:2 (-19\,-21)
DTSTART;TZID=Europe/Berlin:20251207T090000
DTEND;TZID=Europe/Berlin:20251207T110000
LOCATION:TĚLOVÝCHOVNÁ JEDNOTA LOKOMOTIVA z. s.\, Třebízského 1044 České Bud
 ějovice - České Budějovice 5
SUMMARY:JC-U16Z1-4A: VSK ČK A-Rudolfov
END:VEVENT
BEGIN:VEVENT
UID:37363930-3631-4531-b361-303261333035
DTSTAMP:20260421T134924Z
DESCRIPTION:1/3 VSK ČK A - Č. Budějovice 0:2 (-9\,-20)
DTSTART;TZID=Europe/Berlin:20251207T113000
DTEND;TZID=Europe/Berlin:20251207T133000
LOCATION:TĚLOVÝCHOVNÁ JEDNOTA LOKOMOTIVA z. s.\, Třebízského 1044 České Bud
 ějovice - České Budějovice 5
SUMMARY:JC-U16Z1-4A: VSK ČK A-Č. Budějovice
END:VEVENT
BEGIN:VEVENT
UID:35333239-3562-4865-a337-343535646165
DTSTAMP:20260421T134924Z
DESCRIPTION:1/6 VSK ČK A - Škola volejbalu A 2:1 (16\,-20\,11)
DTSTART;TZID=Europe/Berlin:20251207T150000
DTEND;TZID=Europe/Berlin:20251207T170000
LOCATION:TĚLOVÝCHOVNÁ JEDNOTA LOKOMOTIVA z. s.\, Třebízského 1044 České Bud
 ějovice - České Budějovice 5
SUMMARY:JC-U16Z1-4A: VSK ČK A-Škola volejbalu A
END:VEVENT
BEGIN:VEVENT
UID:32633366-3939-4632-b130-366363373264
DTSTAMP:20260421T134924Z
DESCRIPTION:1/5 VSK ČK A - Rudolfov 0:2 (-18\,-16)
DTSTART;TZID=Europe/Berlin:20260111T140000
DTEND;TZID=Europe/Berlin:20260111T160000
LOCATION:TĚLOVÝCHOVNÁ JEDNOTA LOKOMOTIVA z. s.\, Třebízského 1044 České Bud
 ějovice - České Budějovice 5
SUMMARY:JC-U16Z1-5A: VSK ČK A-Rudolfov
END:VEVENT
BEGIN:VEVENT
UID:35306463-6636-4665-b630-313736306539
DTSTAMP:20260421T134924Z
DESCRIPTION:1/1 Č. Budějovice - VSK ČK A 2:0 (18\,13)
DTSTART;TZID=Europe/Berlin:20260111T090000
DTEND;TZID=Europe/Berlin:20260111T110000
LOCATION:TĚLOVÝCHOVNÁ JEDNOTA LOKOMOTIVA z. s.\, Třebízského 1044 České Bud
 ějovice - České Budějovice 5
SUMMARY:JC-U16Z1-5A: Č. Budějovice-VSK ČK A
END:VEVENT
BEGIN:VEVENT
UID:37343337-6236-4065-a439-316261323765
DTSTAMP:20260421T134924Z
DESCRIPTION:1/4 Volejbal Tábor A - VSK ČK A 2:1 (-24\,15\,9)
DTSTART;TZID=Europe/Berlin:20260111T124500
DTEND;TZID=Europe/Berlin:20260111T144500
LOCATION:TĚLOVÝCHOVNÁ JEDNOTA LOKOMOTIVA z. s.\, Třebízského 1044 České Bud
 ějovice - České Budějovice 5
SUMMARY:JC-U16Z1-5A: Volejbal Tábor A-VSK ČK A
END:VEVENT
BEGIN:VEVENT
UID:35393162-6534-4161-b233-666264386432
DTSTAMP:20260421T134924Z
DESCRIPTION:1/1 VSK ČK A - SK TŘEBÍN A 2:1 (16\,-15\,13)
DTSTART;TZID=Europe/Berlin:20260308T090000
DTEND;TZID=Europe/Berlin:20260308T110000
LOCATION:TĚLOVÝCHOVNÁ JEDNOTA LOKOMOTIVA z. s.\, Třebízského 1044 České Bud
 ějovice - České Budějovice 5
SUMMARY:JC-U16Z1-6B: VSK ČK A-SK TŘEBÍN A
END:VEVENT
BEGIN:VEVENT
UID:33646165-3935-4363-a637-333731306433
DTSTAMP:20260421T134924Z
DESCRIPTION:1/3 VSK ČK A - TJ Slovan J. Hradec\, z.s. A 2:1 (18\,-20\,19)
DTSTART;TZID=Europe/Berlin:20260308T113000
DTEND;TZID=Europe/Berlin:20260308T133000
LOCATION:TĚLOVÝCHOVNÁ JEDNOTA LOKOMOTIVA z. s.\, Třebízského 1044 České Bud
 ějovice - České Budějovice 5
SUMMARY:JC-U16Z1-6B: VSK ČK A-TJ Slovan J. Hradec\, z.s. A
END:VEVENT
BEGIN:VEVENT
UID:66623562-6666-4864-b739-313734336632
DTSTAMP:20260421T134924Z
DESCRIPTION:1/6 VSK ČK A - SK Otava Písek A 2:0 (19\,14)
DTSTART;TZID=Europe/Berlin:20260308T150000
DTEND;TZID=Europe/Berlin:20260308T170000
LOCATION:TĚLOVÝCHOVNÁ JEDNOTA LOKOMOTIVA z. s.\, Třebízského 1044 České Bud
 ějovice - České Budějovice 5
SUMMARY:JC-U16Z1-6B: VSK ČK A-SK Otava Písek A
END:VEVENT
BEGIN:VEVENT
UID:65303865-3534-4234-b838-626331303366
DTSTAMP:20260421T134924Z
DESCRIPTION:1/4 VSK ČK A - Č. Budějovice 2:1 (-14\,20\,13)
DTSTART;TZID=Europe/Berlin:20260419T130000
DTEND;TZID=Europe/Berlin:20260419T150000
LOCATION:TĚLOVÝCHOVNÁ JEDNOTA LOKOMOTIVA z. s.\, Třebízského 1044 České Bud
 ějovice - České Budějovice 5
SUMMARY:JC-U16Z1-7A: VSK ČK A-Č. Budějovice
END:VEVENT
BEGIN:VEVENT
UID:63373137-6333-4231-a663-326132626334
DTSTAMP:20260421T134924Z
DESCRIPTION:1/2 Škola volejbalu A - VSK ČK A 2:0 (14\,20)
DTSTART;TZID=Europe/Berlin:20260419T103000
DTEND;TZID=Europe/Berlin:20260419T123000
LOCATION:TĚLOVÝCHOVNÁ JEDNOTA LOKOMOTIVA z. s.\, Třebízského 1044 České Bud
 ějovice - České Budějovice 5
SUMMARY:JC-U16Z1-7A: Škola volejbalu A-VSK ČK A
END:VEVENT
BEGIN:VEVENT
UID:30323235-3739-4661-a562-376631383662
DTSTAMP:20260421T134924Z
DESCRIPTION:1/6 Rudolfov - VSK ČK A 2:0 (16\,18)
DTSTART;TZID=Europe/Berlin:20260419T153000
DTEND;TZID=Europe/Berlin:20260419T173000
LOCATION:TĚLOVÝCHOVNÁ JEDNOTA LOKOMOTIVA z. s.\, Třebízského 1044 České Bud
 ějovice - České Budějovice 5
SUMMARY:JC-U16Z1-7A: Rudolfov-VSK ČK A
END:VEVENT
END:VCALENDAR
