BEGIN:VCALENDAR
VERSION:2.0
PRODID:-//Volejbalový sportovní klub Český Krumlov z.s. B89305//NONSGML kigkonsult.se iCalcreator 2.41.80//
CALSCALE:GREGORIAN
UID:61323735-3039-4139-b764-653331393563
BEGIN:VEVENT
UID:63666135-6462-4265-b063-343463326333
DTSTAMP:20260421T153347Z
DESCRIPTION:1/4 VSK ČK B - TJ Slovan J. Hradec\, z.s. B 1:2 (-17\,20\,-8)
DTSTART;TZID=Europe/Berlin:20250928T110000
DTEND;TZID=Europe/Berlin:20250928T130000
LOCATION:, U Stadionu 764 Prachatice - Prachatice II
SUMMARY:JC-U16Z2-1A: VSK ČK B-TJ Slovan J. Hradec\, z.s. B
END:VEVENT
BEGIN:VEVENT
UID:35343064-3634-4266-b831-333438396433
DTSTAMP:20260421T153347Z
DESCRIPTION:2/7 VSK ČK B - Volejbal Tábor C 0:2 (-16\,-14)
DTSTART;TZID=Europe/Berlin:20250928T130000
DTEND;TZID=Europe/Berlin:20250928T150000
LOCATION:, U Stadionu 764 Prachatice - Prachatice II
SUMMARY:JC-U16Z2-1A: VSK ČK B-Volejbal Tábor C
END:VEVENT
BEGIN:VEVENT
UID:33313137-3962-4335-a231-376333633936
DTSTAMP:20260421T153347Z
DESCRIPTION:1/1 Volejbal Rudolfov C - VSK ČK B 2:0 (9\,16)
DTSTART;TZID=Europe/Berlin:20250928T090000
DTEND;TZID=Europe/Berlin:20250928T110000
LOCATION:, U Stadionu 764 Prachatice - Prachatice II
SUMMARY:JC-U16Z2-1A: Volejbal Rudolfov C-VSK ČK B
END:VEVENT
BEGIN:VEVENT
UID:61346232-3134-4461-a663-353431376437
DTSTAMP:20260421T153347Z
DESCRIPTION:2/10 TJ Tatran Prachatice\, z.s. - VSK ČK B 0:2 (-14\,-14)
DTSTART;TZID=Europe/Berlin:20250928T150000
DTEND;TZID=Europe/Berlin:20250928T170000
LOCATION:, U Stadionu 764 Prachatice - Prachatice II
SUMMARY:JC-U16Z2-1A: TJ Tatran Prachatice\, z.s.-VSK ČK B
END:VEVENT
BEGIN:VEVENT
UID:33643133-6539-4832-b839-343164396364
DTSTAMP:20260421T153347Z
DESCRIPTION:1/4 VSK ČK B - SK Otava Písek B 2:1 (19\,-24\,13)
DTSTART;TZID=Europe/Berlin:20251012T110000
DTEND;TZID=Europe/Berlin:20251012T130000
LOCATION:Sportovní Hala Mír\, U Stadionu Míru 1579 Tábor
SUMMARY:JC-U16Z2-2B: VSK ČK B-SK Otava Písek B
END:VEVENT
BEGIN:VEVENT
UID:31356265-3966-4138-b762-656438633038
DTSTAMP:20260421T153347Z
DESCRIPTION:2/6 VSK ČK B - Madeta Jihostroj ČB C 2:0 (8\,20)
DTSTART;TZID=Europe/Berlin:20251012T120000
DTEND;TZID=Europe/Berlin:20251012T140000
LOCATION:Sportovní Hala Mír\, U Stadionu Míru 1579 Tábor
SUMMARY:JC-U16Z2-2B: VSK ČK B-Madeta Jihostroj ČB C
END:VEVENT
BEGIN:VEVENT
UID:35613232-6361-4431-b034-336632346636
DTSTAMP:20260421T153347Z
DESCRIPTION:1/2 TJ Tatran Prachatice\, z.s. - VSK ČK B 0:2 (-19\,-24)
DTSTART;TZID=Europe/Berlin:20251012T100000
DTEND;TZID=Europe/Berlin:20251012T120000
LOCATION:Sportovní Hala Mír\, U Stadionu Míru 1579 Tábor
SUMMARY:JC-U16Z2-2B: TJ Tatran Prachatice\, z.s.-VSK ČK B
END:VEVENT
BEGIN:VEVENT
UID:63326361-3235-4764-a661-326636373234
DTSTAMP:20260421T153347Z
DESCRIPTION:2/10 Volejbal Rudolfov B - VSK ČK B 2:0 (23\,23)
DTSTART;TZID=Europe/Berlin:20251012T150000
DTEND;TZID=Europe/Berlin:20251012T170000
LOCATION:Sportovní Hala Mír\, U Stadionu Míru 1579 Tábor
SUMMARY:JC-U16Z2-2B: Volejbal Rudolfov B-VSK ČK B
END:VEVENT
BEGIN:VEVENT
UID:63316161-3330-4430-a562-613836326539
DTSTAMP:20260421T153347Z
DESCRIPTION:1/3 VSK ČK B - Sokol Písek 2:X
DTSTART;TZID=Europe/Berlin:20251109T103000
DTEND;TZID=Europe/Berlin:20251109T123000
LOCATION:ZŠ Máj I\, M. Chlajna 1319 České Budějovice - České Budějovice 2
SUMMARY:JC-U16Z2-3A: VSK ČK B-Sokol Písek
END:VEVENT
BEGIN:VEVENT
UID:38663665-3366-4034-a163-636363393465
DTSTAMP:20260421T153347Z
DESCRIPTION:1/5 VSK ČK B - TJ Slovan J. Hradec\, z.s. B 1:2 (20\,-17\,-14)
DTSTART;TZID=Europe/Berlin:20251109T120000
DTEND;TZID=Europe/Berlin:20251109T140000
LOCATION:ZŠ Máj I\, M. Chlajna 1319 České Budějovice - České Budějovice 2
SUMMARY:JC-U16Z2-3A: VSK ČK B-TJ Slovan J. Hradec\, z.s. B
END:VEVENT
BEGIN:VEVENT
UID:33396463-6361-4432-a330-663531346265
DTSTAMP:20260421T153347Z
DESCRIPTION:2/7 Volejbal Tábor C - VSK ČK B 2:0 (12\,14)
DTSTART;TZID=Europe/Berlin:20251109T133000
DTEND;TZID=Europe/Berlin:20251109T153000
LOCATION:ZŠ Máj I\, M. Chlajna 1319 České Budějovice - České Budějovice 2
SUMMARY:JC-U16Z2-3A: Volejbal Tábor C-VSK ČK B
END:VEVENT
BEGIN:VEVENT
UID:36343765-3234-4535-b536-383665343133
DTSTAMP:20260421T153347Z
DESCRIPTION:2/9 Volejbal Rudolfov B - VSK ČK B 0:2 (-22\,-23)
DTSTART;TZID=Europe/Berlin:20251109T150000
DTEND;TZID=Europe/Berlin:20251109T170000
LOCATION:ZŠ Máj I\, M. Chlajna 1319 České Budějovice - České Budějovice 2
SUMMARY:JC-U16Z2-3A: Volejbal Rudolfov B-VSK ČK B
END:VEVENT
BEGIN:VEVENT
UID:63613561-6231-4964-b138-333537303266
DTSTAMP:20260421T153347Z
DESCRIPTION:1/1 VSK ČK B - Volejbal Tábor C 0:2 (-16\,-17)
DTSTART;TZID=Europe/Berlin:20251207T090000
DTEND;TZID=Europe/Berlin:20251207T110000
LOCATION:Sportovní hala J. Hradec\, U Stadionu 1137 Jindřichův Hradec - Jin
 dřichův Hradec II
SUMMARY:JC-U16Z2-4A: VSK ČK B-Volejbal Tábor C
END:VEVENT
BEGIN:VEVENT
UID:64623035-3138-4533-b463-396263376663
DTSTAMP:20260421T153347Z
DESCRIPTION:2/6 VSK ČK B - Volejbal Rudolfov C 0:2 (-18\,-11)
DTSTART;TZID=Europe/Berlin:20251207T113000
DTEND;TZID=Europe/Berlin:20251207T133000
LOCATION:Sportovní hala J. Hradec\, U Stadionu 1137 Jindřichův Hradec - Jin
 dřichův Hradec II
SUMMARY:JC-U16Z2-4A: VSK ČK B-Volejbal Rudolfov C
END:VEVENT
BEGIN:VEVENT
UID:31316433-6666-4330-a336-363036633034
DTSTAMP:20260421T153347Z
DESCRIPTION:1/3 VSK Slavia JU CB - VSK ČK B X:2
DTSTART;TZID=Europe/Berlin:20251207T101500
DTEND;TZID=Europe/Berlin:20251207T121500
LOCATION:Sportovní hala J. Hradec\, U Stadionu 1137 Jindřichův Hradec - Jin
 dřichův Hradec II
SUMMARY:JC-U16Z2-4A: VSK Slavia JU CB-VSK ČK B
END:VEVENT
BEGIN:VEVENT
UID:61623066-3164-4139-b164-356561613865
DTSTAMP:20260421T153347Z
DESCRIPTION:2/8 Volejbal Rudolfov B - VSK ČK B 0:2 (-13\,-21)
DTSTART;TZID=Europe/Berlin:20251207T124500
DTEND;TZID=Europe/Berlin:20251207T144500
LOCATION:Sportovní hala J. Hradec\, U Stadionu 1137 Jindřichův Hradec - Jin
 dřichův Hradec II
SUMMARY:JC-U16Z2-4A: Volejbal Rudolfov B-VSK ČK B
END:VEVENT
BEGIN:VEVENT
UID:34303432-6539-4931-b335-393636363264
DTSTAMP:20260421T153347Z
DESCRIPTION:2/8 VSK ČK B - Volejbal Tábor C 0:2 (-19\,-21)
DTSTART;TZID=Europe/Berlin:20260111T124500
DTEND;TZID=Europe/Berlin:20260111T144500
LOCATION:Hala Gymnázium Písek\, Komenského 89 Písek - Budějovické Předměstí
SUMMARY:JC-U16Z2-5A: VSK ČK B-Volejbal Tábor C
END:VEVENT
BEGIN:VEVENT
UID:38303238-6165-4861-b361-353731613963
DTSTAMP:20260421T153347Z
DESCRIPTION:2/10 VSK ČK B - Volejbal Rudolfov C 0:2 (-15\,-15)
DTSTART;TZID=Europe/Berlin:20260111T140000
DTEND;TZID=Europe/Berlin:20260111T160000
LOCATION:Hala Gymnázium Písek\, Komenského 89 Písek - Budějovické Předměstí
SUMMARY:JC-U16Z2-5A: VSK ČK B-Volejbal Rudolfov C
END:VEVENT
BEGIN:VEVENT
UID:62646234-6366-4466-b431-376466363164
DTSTAMP:20260421T153347Z
DESCRIPTION:1/4 TJ Slovan J. Hradec\, z.s. B - VSK ČK B 2:1 (-21\,19\,7)
DTSTART;TZID=Europe/Berlin:20260111T101500
DTEND;TZID=Europe/Berlin:20260111T121500
LOCATION:Hala Gymnázium Písek\, Komenského 89 Písek - Budějovické Předměstí
SUMMARY:JC-U16Z2-5A: TJ Slovan J. Hradec\, z.s. B-VSK ČK B
END:VEVENT
BEGIN:VEVENT
UID:62383238-3639-4938-a433-653939326339
DTSTAMP:20260421T153347Z
DESCRIPTION:1/5 Sokol Písek - VSK ČK B 2:0 (23\,16)
DTSTART;TZID=Europe/Berlin:20260111T113000
DTEND;TZID=Europe/Berlin:20260111T133000
LOCATION:Hala Gymnázium Písek\, Komenského 89 Písek - Budějovické Předměstí
SUMMARY:JC-U16Z2-5A: Sokol Písek-VSK ČK B
END:VEVENT
BEGIN:VEVENT
UID:33346362-6237-4231-b261-326330643730
DTSTAMP:20260421T153347Z
DESCRIPTION:1/1 VSK ČK B - VSK Slavia JU CB 1:2 (20\,-17\,-9)
DTSTART;TZID=Europe/Berlin:20260308T090000
DTEND;TZID=Europe/Berlin:20260308T110000
LOCATION:ZŠ a ZUŠ Bezdrevská 3\, Bezdrevská 1036 České Budějovice - České B
 udějovice 2
SUMMARY:JC-U16Z2-6B: VSK ČK B-VSK Slavia JU CB
END:VEVENT
BEGIN:VEVENT
UID:65613738-6566-4163-b934-613964353137
DTSTAMP:20260421T153347Z
DESCRIPTION:2/6 VSK ČK B - TJ Tatran Prachatice\, z.s. 2:0 (13\,19)
DTSTART;TZID=Europe/Berlin:20260308T113000
DTEND;TZID=Europe/Berlin:20260308T133000
LOCATION:ZŠ a ZUŠ Bezdrevská 3\, Bezdrevská 1036 České Budějovice - České B
 udějovice 2
SUMMARY:JC-U16Z2-6B: VSK ČK B-TJ Tatran Prachatice\, z.s.
END:VEVENT
BEGIN:VEVENT
UID:64643737-6165-4234-a561-366130376263
DTSTAMP:20260421T153347Z
DESCRIPTION:1/3 TJ Slovan J. Hradec\, z.s. B - VSK ČK B 0:2 (-22\,-10)
DTSTART;TZID=Europe/Berlin:20260308T101500
DTEND;TZID=Europe/Berlin:20260308T121500
LOCATION:ZŠ a ZUŠ Bezdrevská 3\, Bezdrevská 1036 České Budějovice - České B
 udějovice 2
SUMMARY:JC-U16Z2-6B: TJ Slovan J. Hradec\, z.s. B-VSK ČK B
END:VEVENT
BEGIN:VEVENT
UID:38386232-3263-4764-b361-343533616363
DTSTAMP:20260421T153347Z
DESCRIPTION:2/8 Madeta Jihostroj ČB C - VSK ČK B 0:2 (-22\,-7)
DTSTART;TZID=Europe/Berlin:20260308T124500
DTEND;TZID=Europe/Berlin:20260308T144500
LOCATION:ZŠ a ZUŠ Bezdrevská 3\, Bezdrevská 1036 České Budějovice - České B
 udějovice 2
SUMMARY:JC-U16Z2-6B: Madeta Jihostroj ČB C-VSK ČK B
END:VEVENT
BEGIN:VEVENT
UID:32303263-6431-4138-b032-313031376136
DTSTAMP:20260421T153347Z
DESCRIPTION:1/2 VSK ČK B - Volejbal Rudolfov B 1:2 (-23\,18\,-7)
DTSTART;TZID=Europe/Berlin:20260419T090000
DTEND;TZID=Europe/Berlin:20260419T110000
LOCATION:ZŠ Oskara Nedbala České Budějovice\, O. Nedbala 882 České Budějovi
 ce - České Budějovice 2
SUMMARY:JC-U16Z2-7A: VSK ČK B-Volejbal Rudolfov B
END:VEVENT
BEGIN:VEVENT
UID:31333565-3036-4633-a435-643564383130
DTSTAMP:20260421T153347Z
DESCRIPTION:2/9 VSK ČK B - Madeta Jihostroj ČB C 0:2 (-26\,-16)
DTSTART;TZID=Europe/Berlin:20260419T150000
DTEND;TZID=Europe/Berlin:20260419T170000
LOCATION:ZŠ Oskara Nedbala České Budějovice\, O. Nedbala 882 České Budějovi
 ce - České Budějovice 2
SUMMARY:JC-U16Z2-7A: VSK ČK B-Madeta Jihostroj ČB C
END:VEVENT
BEGIN:VEVENT
UID:35386535-6537-4338-b864-313738653639
DTSTAMP:20260421T153347Z
DESCRIPTION:1/4 Volejbal Tábor C - VSK ČK B 2:0 (16\,9)
DTSTART;TZID=Europe/Berlin:20260419T103000
DTEND;TZID=Europe/Berlin:20260419T123000
LOCATION:ZŠ Oskara Nedbala České Budějovice\, O. Nedbala 882 České Budějovi
 ce - České Budějovice 2
SUMMARY:JC-U16Z2-7A: Volejbal Tábor C-VSK ČK B
END:VEVENT
BEGIN:VEVENT
UID:62653430-3439-4564-a134-643962643033
DTSTAMP:20260421T153347Z
DESCRIPTION:2/6 Sokol Písek - VSK ČK B 2:0 (24\,20)
DTSTART;TZID=Europe/Berlin:20260419T120000
DTEND;TZID=Europe/Berlin:20260419T140000
LOCATION:ZŠ Oskara Nedbala České Budějovice\, O. Nedbala 882 České Budějovi
 ce - České Budějovice 2
SUMMARY:JC-U16Z2-7A: Sokol Písek-VSK ČK B
END:VEVENT
END:VCALENDAR
