BEGIN:VCALENDAR
VERSION:2.0
PRODID:-//Volejbalový klub Litomyšl, z.s.89349//NONSGML kigkonsult.se iCalcreator 2.41.80//
CALSCALE:GREGORIAN
UID:36613466-6666-4363-a330-636239633565
BEGIN:VEVENT
UID:66353637-3934-4664-b936-323332313333
DTSTAMP:20260422T070127Z
DESCRIPTION:1/3 Volejbalový klub Litomyšl\, z.s. - TJ Energetik Chvaletice 
 z.s. 0:3 (-23\,-16\,-11)
DTSTART;TZID=Europe/Berlin:20251004T100000
DTEND;TZID=Europe/Berlin:20251004T120000
LOCATION:Městská sportovní hala\, T. G. Masaryka 1145 Litomyšl - Litomyšl-M
 ěsto
SUMMARY:PA-U18Z: Volejbalový klub Litomyšl\, z.s.-TJ Energetik Chvaletice z
 .s.
END:VEVENT
BEGIN:VEVENT
UID:66303534-3166-4366-b532-653064653639
DTSTAMP:20260422T070127Z
DESCRIPTION:2/7 Volejbalový klub Litomyšl\, z.s. - TJ Energetik Chvaletice 
 z.s. 0:3 (-8\,-15\,-13)
DTSTART;TZID=Europe/Berlin:20251004T130000
DTEND;TZID=Europe/Berlin:20251004T150000
LOCATION:Městská sportovní hala\, T. G. Masaryka 1145 Litomyšl - Litomyšl-M
 ěsto
SUMMARY:PA-U18Z: Volejbalový klub Litomyšl\, z.s.-TJ Energetik Chvaletice z
 .s.
END:VEVENT
BEGIN:VEVENT
UID:38653564-3764-4032-b537-636136373038
DTSTAMP:20260422T070127Z
DESCRIPTION:3/11 Volejbalový klub Litomyšl\, z.s. - Lanškroun B 0:3 (-11\,-
 10\,-10)
DTSTART;TZID=Europe/Berlin:20251011T100000
DTEND;TZID=Europe/Berlin:20251011T120000
LOCATION:Městská sportovní hala\, T. G. Masaryka 1145 Litomyšl - Litomyšl-M
 ěsto
SUMMARY:PA-U18Z: Volejbalový klub Litomyšl\, z.s.-Lanškroun B
END:VEVENT
BEGIN:VEVENT
UID:65666234-6636-4461-b161-663964343761
DTSTAMP:20260422T070127Z
DESCRIPTION:4/15 Volejbalový klub Litomyšl\, z.s. - Lanškroun B 0:3 (-13\,-
 5\,-7)
DTSTART;TZID=Europe/Berlin:20251011T130000
DTEND;TZID=Europe/Berlin:20251011T150000
LOCATION:Městská sportovní hala\, T. G. Masaryka 1145 Litomyšl - Litomyšl-M
 ěsto
SUMMARY:PA-U18Z: Volejbalový klub Litomyšl\, z.s.-Lanškroun B
END:VEVENT
BEGIN:VEVENT
UID:37383131-6162-4165-a137-303539626565
DTSTAMP:20260422T070127Z
DESCRIPTION:5/18 Volejbalový klub Litomyšl\, z.s. - Sokol Pardubice I. 0:3 
 (-11\,-4\,-13)
DTSTART;TZID=Europe/Berlin:20251018T100000
DTEND;TZID=Europe/Berlin:20251018T120000
LOCATION:Městská sportovní hala\, T. G. Masaryka 1145 Litomyšl - Litomyšl-M
 ěsto
SUMMARY:PA-U18Z: Volejbalový klub Litomyšl\, z.s.-Sokol Pardubice I.
END:VEVENT
BEGIN:VEVENT
UID:65396539-3535-4262-b339-376564376230
DTSTAMP:20260422T070127Z
DESCRIPTION:6/22 Volejbalový klub Litomyšl\, z.s. - Sokol Pardubice I. 0:3 
 (-15\,-16\,-12)
DTSTART;TZID=Europe/Berlin:20251018T130000
DTEND;TZID=Europe/Berlin:20251018T150000
LOCATION:Městská sportovní hala\, T. G. Masaryka 1145 Litomyšl - Litomyšl-M
 ěsto
SUMMARY:PA-U18Z: Volejbalový klub Litomyšl\, z.s.-Sokol Pardubice I.
END:VEVENT
BEGIN:VEVENT
UID:30663365-3233-4234-b734-356233386433
DTSTAMP:20260422T070127Z
DESCRIPTION:11/44 Volejbalový klub Litomyšl\, z.s. - TJ Spartak Polička\, z
 .s. 0:3 (-11\,-5\,-8)
DTSTART;TZID=Europe/Berlin:20251122T100000
DTEND;TZID=Europe/Berlin:20251122T120000
LOCATION:Městská sportovní hala\, T. G. Masaryka 1145 Litomyšl - Litomyšl-M
 ěsto
SUMMARY:PA-U18Z: Volejbalový klub Litomyšl\, z.s.-TJ Spartak Polička\, z.s.
END:VEVENT
BEGIN:VEVENT
UID:35313739-3032-4562-a630-616439336337
DTSTAMP:20260422T070127Z
DESCRIPTION:12/48 Volejbalový klub Litomyšl\, z.s. - TJ Spartak Polička\, z
 .s. 0:3 (-12\,-5\,-7)
DTSTART;TZID=Europe/Berlin:20251122T130000
DTEND;TZID=Europe/Berlin:20251122T150000
LOCATION:Městská sportovní hala\, T. G. Masaryka 1145 Litomyšl - Litomyšl-M
 ěsto
SUMMARY:PA-U18Z: Volejbalový klub Litomyšl\, z.s.-TJ Spartak Polička\, z.s.
END:VEVENT
BEGIN:VEVENT
UID:62373035-6166-4037-b636-326130623164
DTSTAMP:20260422T070127Z
DESCRIPTION:21/84 Volejbalový klub Litomyšl\, z.s. - Tělocvičná jednota Sok
 ol Chrudim 1:3 (17\,-12\,-14\,-16)
DTSTART;TZID=Europe/Berlin:20260228T100000
DTEND;TZID=Europe/Berlin:20260228T120000
LOCATION:Městská sportovní hala\, T. G. Masaryka 1145 Litomyšl - Litomyšl-M
 ěsto
SUMMARY:PA-U18Z: Volejbalový klub Litomyšl\, z.s.-Tělocvičná jednota Sokol 
 Chrudim
END:VEVENT
BEGIN:VEVENT
UID:38373562-3034-4633-b839-646531663665
DTSTAMP:20260422T070127Z
DESCRIPTION:22/88 Volejbalový klub Litomyšl\, z.s. - Tělocvičná jednota Sok
 ol Chrudim 3:1 (21\,-16\,21\,10)
DTSTART;TZID=Europe/Berlin:20260228T130000
DTEND;TZID=Europe/Berlin:20260228T150000
LOCATION:Městská sportovní hala\, T. G. Masaryka 1145 Litomyšl - Litomyšl-M
 ěsto
SUMMARY:PA-U18Z: Volejbalový klub Litomyšl\, z.s.-Tělocvičná jednota Sokol 
 Chrudim
END:VEVENT
BEGIN:VEVENT
UID:61316437-3631-4162-b934-356331316634
DTSTAMP:20260422T070127Z
DESCRIPTION:27/106 Volejbalový klub Litomyšl\, z.s. - TJ Svitavy 0:3 (-14\,
 -22\,-18)
DTSTART;TZID=Europe/Berlin:20260328T100000
DTEND;TZID=Europe/Berlin:20260328T120000
LOCATION:Městská sportovní hala\, T. G. Masaryka 1145 Litomyšl - Litomyšl-M
 ěsto
SUMMARY:PA-U18Z: Volejbalový klub Litomyšl\, z.s.-TJ Svitavy
END:VEVENT
BEGIN:VEVENT
UID:62623664-3366-4236-b334-666332616335
DTSTAMP:20260422T070127Z
DESCRIPTION:28/110 Volejbalový klub Litomyšl\, z.s. - TJ Svitavy 2:3 (-13\,
 13\,23\,-16\,-14)
DTSTART;TZID=Europe/Berlin:20260328T130000
DTEND;TZID=Europe/Berlin:20260328T150000
LOCATION:Městská sportovní hala\, T. G. Masaryka 1145 Litomyšl - Litomyšl-M
 ěsto
SUMMARY:PA-U18Z: Volejbalový klub Litomyšl\, z.s.-TJ Svitavy
END:VEVENT
BEGIN:VEVENT
UID:38666533-3865-4163-b365-343363636565
DTSTAMP:20260422T070127Z
DESCRIPTION:7/28 Tělocvičná jednota Sokol Chrudim - Volejbalový klub Litomy
 šl\, z.s. 3:0 (10\,10\,19)
DTSTART;TZID=Europe/Berlin:20251101T100000
DTEND;TZID=Europe/Berlin:20251101T120000
LOCATION:, Tyršovo náměstí 12 Chrudim - Chrudim II
SUMMARY:PA-U18Z: Tělocvičná jednota Sokol Chrudim-Volejbalový klub Litomyšl
 \, z.s.
END:VEVENT
BEGIN:VEVENT
UID:61616439-3930-4631-b730-323139323331
DTSTAMP:20260422T070127Z
DESCRIPTION:8/32 Tělocvičná jednota Sokol Chrudim - Volejbalový klub Litomy
 šl\, z.s. 3:0 (14\,16\,18)
DTSTART;TZID=Europe/Berlin:20251101T130000
DTEND;TZID=Europe/Berlin:20251101T150000
LOCATION:, Tyršovo náměstí 12 Chrudim - Chrudim II
SUMMARY:PA-U18Z: Tělocvičná jednota Sokol Chrudim-Volejbalový klub Litomyšl
 \, z.s.
END:VEVENT
BEGIN:VEVENT
UID:62623837-3034-4632-b232-396364643836
DTSTAMP:20260422T070127Z
DESCRIPTION:13/50 TJ Svitavy - Volejbalový klub Litomyšl\, z.s. 3:0 (20\,12
 \,5)
DTSTART;TZID=Europe/Berlin:20251206T100000
DTEND;TZID=Europe/Berlin:20251206T120000
LOCATION:Sportovní hala Na Střelnici\, Pražská 2162 Svitavy - Předměstí
SUMMARY:PA-U18Z: TJ Svitavy-Volejbalový klub Litomyšl\, z.s.
END:VEVENT
BEGIN:VEVENT
UID:38363362-6362-4232-b538-623237363437
DTSTAMP:20260422T070127Z
DESCRIPTION:14/54 TJ Svitavy - Volejbalový klub Litomyšl\, z.s. 3:1 (15\,-2
 3\,18\,18)
DTSTART;TZID=Europe/Berlin:20251206T130000
DTEND;TZID=Europe/Berlin:20251206T150000
LOCATION:Sportovní hala Na Střelnici\, Pražská 2162 Svitavy - Předměstí
SUMMARY:PA-U18Z: TJ Svitavy-Volejbalový klub Litomyšl\, z.s.
END:VEVENT
BEGIN:VEVENT
UID:37343933-3331-4263-a531-363635666430
DTSTAMP:20260422T070127Z
DESCRIPTION:15/59 TJ Energetik Chvaletice z.s. - Volejbalový klub Litomyšl\
 , z.s. 3:0 (6\,11\,9)
DTSTART;TZID=Europe/Berlin:20260117T090000
DTEND;TZID=Europe/Berlin:20260117T110000
LOCATION:ZŠ Chvaletice\, Spojovací 431 Chvaletice
SUMMARY:PA-U18Z: TJ Energetik Chvaletice z.s.-Volejbalový klub Litomyšl\, z
 .s.
END:VEVENT
BEGIN:VEVENT
UID:35613833-3436-4031-b035-643963386664
DTSTAMP:20260422T070127Z
DESCRIPTION:16/63 TJ Energetik Chvaletice z.s. - Volejbalový klub Litomyšl\
 , z.s. 3:0 (15\,15\,11)
DTSTART;TZID=Europe/Berlin:20260117T130000
DTEND;TZID=Europe/Berlin:20260117T150000
LOCATION:ZŠ Chvaletice\, Spojovací 431 Chvaletice
SUMMARY:PA-U18Z: TJ Energetik Chvaletice z.s.-Volejbalový klub Litomyšl\, z
 .s.
END:VEVENT
BEGIN:VEVENT
UID:62396438-3335-4830-a233-616232366633
DTSTAMP:20260422T070127Z
DESCRIPTION:17/67 Lanškroun B - Volejbalový klub Litomyšl\, z.s. 3:0 (5\,5\
 ,10)
DTSTART;TZID=Europe/Berlin:20260124T100000
DTEND;TZID=Europe/Berlin:20260124T120000
LOCATION:Tělocvična ZŠ\,  Horní Čermná128
SUMMARY:PA-U18Z: Lanškroun B-Volejbalový klub Litomyšl\, z.s.
END:VEVENT
BEGIN:VEVENT
UID:30666336-3332-4531-a364-363238313538
DTSTAMP:20260422T070127Z
DESCRIPTION:18/71 Lanškroun B - Volejbalový klub Litomyšl\, z.s. 3:0 (10\,4
 \,15)
DTSTART;TZID=Europe/Berlin:20260124T130000
DTEND;TZID=Europe/Berlin:20260124T150000
LOCATION:Tělocvična ZŠ\,  Horní Čermná128
SUMMARY:PA-U18Z: Lanškroun B-Volejbalový klub Litomyšl\, z.s.
END:VEVENT
BEGIN:VEVENT
UID:33313532-3733-4464-b539-306530663537
DTSTAMP:20260422T070127Z
DESCRIPTION:19/74 Sokol Pardubice I. - Volejbalový klub Litomyšl\, z.s. 3:0
  (8\,17\,23)
DTSTART;TZID=Europe/Berlin:20260221T143000
DTEND;TZID=Europe/Berlin:20260221T163000
LOCATION:Sportovní hala\, Masarykovo nám. 108 Lázně Bohdaneč
SUMMARY:PA-U18Z: Sokol Pardubice I.-Volejbalový klub Litomyšl\, z.s.
END:VEVENT
BEGIN:VEVENT
UID:63646239-6230-4933-b166-303566343136
DTSTAMP:20260422T070127Z
DESCRIPTION:20/78 Sokol Pardubice I. - Volejbalový klub Litomyšl\, z.s. 3:1
  (16\,-16\,13\,13)
DTSTART;TZID=Europe/Berlin:20260221T170000
DTEND;TZID=Europe/Berlin:20260221T190000
LOCATION:Sportovní hala\, Masarykovo nám. 108 Lázně Bohdaneč
SUMMARY:PA-U18Z: Sokol Pardubice I.-Volejbalový klub Litomyšl\, z.s.
END:VEVENT
BEGIN:VEVENT
UID:37613664-3663-4637-b535-316535616638
DTSTAMP:20260422T070127Z
DESCRIPTION:25/100 TJ Spartak Polička\, z.s. - Volejbalový klub Litomyšl\, 
 z.s. 3:0 (15\,10\,16)
DTSTART;TZID=Europe/Berlin:20260321T100000
DTEND;TZID=Europe/Berlin:20260321T120000
LOCATION:TJ Spartak Polička\, z.s. \, nábř. Svobody 447 Polička - Horní Pře
 dměstí
SUMMARY:PA-U18Z: TJ Spartak Polička\, z.s.-Volejbalový klub Litomyšl\, z.s.
END:VEVENT
BEGIN:VEVENT
UID:30366363-6233-4432-a138-313230646335
DTSTAMP:20260422T070127Z
DESCRIPTION:26/104 TJ Spartak Polička\, z.s. - Volejbalový klub Litomyšl\, 
 z.s. 3:0 (10\,13\,10)
DTSTART;TZID=Europe/Berlin:20260321T130000
DTEND;TZID=Europe/Berlin:20260321T150000
LOCATION:TJ Spartak Polička\, z.s. \, nábř. Svobody 447 Polička - Horní Pře
 dměstí
SUMMARY:PA-U18Z: TJ Spartak Polička\, z.s.-Volejbalový klub Litomyšl\, z.s.
END:VEVENT
END:VCALENDAR
