BEGIN:VCALENDAR
VERSION:2.0
PRODID:-//Volejbalový klub Litomyšl, z.s.89350//NONSGML kigkonsult.se iCalcreator 2.41.80//
CALSCALE:GREGORIAN
UID:61363037-6430-4638-a163-666633636466
BEGIN:VEVENT
UID:39353930-6337-4665-a636-383437373666
DTSTAMP:20260422T165914Z
DESCRIPTION:1/3 Volejbalový klub Litomyšl\, z.s. - SKO Hlinsko 0:2 (-15\,-1
 8)\nhala Na Skalce
DTSTART;TZID=Europe/Berlin:20251005T103000
DTEND;TZID=Europe/Berlin:20251005T123000
LOCATION:Městská sportovní hala\, T. G. Masaryka 1145 Litomyšl - Litomyšl-M
 ěsto
SUMMARY:PA-U16Z-KVAL-A2: Volejbalový klub Litomyšl\, z.s.-SKO Hlinsko
END:VEVENT
BEGIN:VEVENT
UID:32643136-3038-4133-b731-393838343761
DTSTAMP:20260422T165914Z
DESCRIPTION:1/1 TJ Spartak Polička\, z.s. A - Volejbalový klub Litomyšl\, z
 .s. 2:0 (13\,12)\nhala Na Skalce
DTSTART;TZID=Europe/Berlin:20251005T090000
DTEND;TZID=Europe/Berlin:20251005T110000
LOCATION:TJ Spartak Polička\, z.s. \, nábř. Svobody 447 Polička - Horní Pře
 dměstí
SUMMARY:PA-U16Z-KVAL-A2: TJ Spartak Polička\, z.s. A-Volejbalový klub Litom
 yšl\, z.s.
END:VEVENT
BEGIN:VEVENT
UID:30363964-3166-4261-b762-383863653430
DTSTAMP:20260422T165914Z
DESCRIPTION:1/5 TJ Sokol Dolní Újezd - Volejbalový klub Litomyšl\, z.s. 2:0
  (18\,18)\nhala Na Skalce
DTSTART;TZID=Europe/Berlin:20251005T120000
DTEND;TZID=Europe/Berlin:20251005T140000
LOCATION:tělocvična Základní školy\,  Dolní Újezd342
SUMMARY:PA-U16Z-KVAL-A2: TJ Sokol Dolní Újezd-Volejbalový klub Litomyšl\, z
 .s.
END:VEVENT
BEGIN:VEVENT
UID:66336635-3635-4938-b063-663462656534
DTSTAMP:20260422T165914Z
DESCRIPTION:1/5 Volejbalový klub Litomyšl\, z.s. - TJ TATRAN LITOVEL\, z.s.
  0:2 (-19\,-13)\nSportovní hala Na Střelnici
DTSTART;TZID=Europe/Berlin:20251012T113000
DTEND;TZID=Europe/Berlin:20251012T133000
LOCATION:Sportovní hala Na Střelnici\, Pražská 2162 Svitavy - Předměstí
SUMMARY:PA-U16Z-1KOLO-D: Volejbalový klub Litomyšl\, z.s.-TJ TATRAN LITOVEL
 \, z.s.
END:VEVENT
BEGIN:VEVENT
UID:37636434-3161-4833-a265-343965633835
DTSTAMP:20260422T165914Z
DESCRIPTION:1/1 TJ Svitavy B - Volejbalový klub Litomyšl\, z.s. 2:0 (14\,16
 )\nSportovní hala Na Střelnici
DTSTART;TZID=Europe/Berlin:20251012T090000
DTEND;TZID=Europe/Berlin:20251012T110000
LOCATION:Sportovní hala Na Střelnici\, Pražská 2162 Svitavy - Předměstí
SUMMARY:PA-U16Z-1KOLO-D: TJ Svitavy B-Volejbalový klub Litomyšl\, z.s.
END:VEVENT
BEGIN:VEVENT
UID:30323661-6131-4264-b366-386536626531
DTSTAMP:20260422T165914Z
DESCRIPTION:1/4 TJ Slovan Moravská Třebová\, z.s. - Volejbalový klub Litomy
 šl\, z.s. 2:1 (17\,-20\,4)\nSportovní hala Na Střelnici
DTSTART;TZID=Europe/Berlin:20251012T101500
DTEND;TZID=Europe/Berlin:20251012T121500
LOCATION:Sportovní hala Na Střelnici\, Pražská 2162 Svitavy - Předměstí
SUMMARY:PA-U16Z-1KOLO-D: TJ Slovan Moravská Třebová\, z.s.-Volejbalový klub
  Litomyšl\, z.s.
END:VEVENT
BEGIN:VEVENT
UID:37396363-6237-4466-a235-343432373832
DTSTAMP:20260422T165914Z
DESCRIPTION:1/1 TJ Spartak Polička B\, z.s. - Volejbalový klub Litomyšl\, z
 .s. 3:0 (22\,13\,17)\nMasarykova ZŠ Polička
DTSTART;TZID=Europe/Berlin:20251109T090000
DTEND;TZID=Europe/Berlin:20251109T110000
LOCATION:TJ Spartak Polička\, z.s. \, nábř. Svobody 447 Polička - Horní Pře
 dměstí
SUMMARY:PA-U16Z-2KOLO-D: TJ Spartak Polička B\, z.s.-Volejbalový klub Litom
 yšl\, z.s.
END:VEVENT
BEGIN:VEVENT
UID:65633834-3563-4138-b666-303737663364
DTSTAMP:20260422T165914Z
DESCRIPTION:1/2 TJ TATRAN LITOVEL\, z.s. - Volejbalový klub Litomyšl\, z.s.
  0:3 (-11\,-21\,-19)\nMasarykova ZŠ Polička
DTSTART;TZID=Europe/Berlin:20251109T100000
DTEND;TZID=Europe/Berlin:20251109T120000
LOCATION:Hala ZŠ Vítězná Litovel\, Vítězná 1250 Litovel
SUMMARY:PA-U16Z-2KOLO-D: TJ TATRAN LITOVEL\, z.s.-Volejbalový klub Litomyšl
 \, z.s.
END:VEVENT
BEGIN:VEVENT
UID:35646666-3261-4138-b030-396562356666
DTSTAMP:20260422T165914Z
DESCRIPTION:1/3 Volejbalový klub Litomyšl\, z.s. - SKO Hlinsko 0:2 (-16\,-9
 )\nZŠ Masarykova Polička
DTSTART;TZID=Europe/Berlin:20251123T111500
DTEND;TZID=Europe/Berlin:20251123T131500
LOCATION:Městská sportovní hala\, T. G. Masaryka 1145 Litomyšl - Litomyšl-M
 ěsto
SUMMARY:PA-U16Z-3KOLO-C: Volejbalový klub Litomyšl\, z.s.-SKO Hlinsko
END:VEVENT
BEGIN:VEVENT
UID:34356565-3439-4334-a530-636139626530
DTSTAMP:20260422T165914Z
DESCRIPTION:1/1 TJ Spartak Polička B\, z.s. - Volejbalový klub Litomyšl\, z
 .s. 0:2 (-18\,-24)\nZŠ Masarykova Polička
DTSTART;TZID=Europe/Berlin:20251123T083000
DTEND;TZID=Europe/Berlin:20251123T103000
LOCATION:TJ Spartak Polička\, z.s. \, nábř. Svobody 447 Polička - Horní Pře
 dměstí
SUMMARY:PA-U16Z-3KOLO-C: TJ Spartak Polička B\, z.s.-Volejbalový klub Litom
 yšl\, z.s.
END:VEVENT
BEGIN:VEVENT
UID:64366265-3666-4663-b763-336364643063
DTSTAMP:20260422T165914Z
DESCRIPTION:1/5 TJ Žichlínek\, z.s. - Volejbalový klub Litomyšl\, z.s. 2:1 
 (20\,-27\,9)\nZŠ Masarykova Polička
DTSTART;TZID=Europe/Berlin:20251123T133000
DTEND;TZID=Europe/Berlin:20251123T153000
LOCATION:Tělocvična Žichlínek\,  Žichlínek65
SUMMARY:PA-U16Z-3KOLO-C: TJ Žichlínek\, z.s.-Volejbalový klub Litomyšl\, z.
 s.
END:VEVENT
BEGIN:VEVENT
UID:62626563-3963-4337-b730-343235343931
DTSTAMP:20260422T165914Z
DESCRIPTION:1/2 Volejbalový klub Litomyšl\, z.s. - TJ TATRAN LITOVEL\, z.s.
  3:0 (15\,20\,8)\nZŠ Masarykova Polička
DTSTART;TZID=Europe/Berlin:20251214T104500
DTEND;TZID=Europe/Berlin:20251214T124500
LOCATION:Městská sportovní hala\, T. G. Masaryka 1145 Litomyšl - Litomyšl-M
 ěsto
SUMMARY:PA-U16Z-4KOLO-D: Volejbalový klub Litomyšl\, z.s.-TJ TATRAN LITOVEL
 \, z.s.
END:VEVENT
BEGIN:VEVENT
UID:34316335-3962-4639-a235-366539616338
DTSTAMP:20260422T165914Z
DESCRIPTION:1/3 TJ Spartak Polička B\, z.s. - Volejbalový klub Litomyšl\, z
 .s. 0:3 (-21\,-13\,-17)\nZŠ Masarykova Polička
DTSTART;TZID=Europe/Berlin:20251214T121500
DTEND;TZID=Europe/Berlin:20251214T141500
LOCATION:TJ Spartak Polička\, z.s. \, nábř. Svobody 447 Polička - Horní Pře
 dměstí
SUMMARY:PA-U16Z-4KOLO-D: TJ Spartak Polička B\, z.s.-Volejbalový klub Litom
 yšl\, z.s.
END:VEVENT
BEGIN:VEVENT
UID:35663330-3863-4661-a530-666637373732
DTSTAMP:20260422T165914Z
DESCRIPTION:1/1 Volejbalový klub Litomyšl\, z.s. - TJ Spartak Polička B\, z
 .s. 1:2 (21\,-18\,-5)\nZŠ Masarykova Polička
DTSTART;TZID=Europe/Berlin:20260125T083000
DTEND;TZID=Europe/Berlin:20260125T103000
LOCATION:Městská sportovní hala\, T. G. Masaryka 1145 Litomyšl - Litomyšl-M
 ěsto
SUMMARY:PA-U16Z-5KOLO-C: Volejbalový klub Litomyšl\, z.s.-TJ Spartak Poličk
 a B\, z.s.
END:VEVENT
BEGIN:VEVENT
UID:64383834-6263-4032-b965-353637306539
DTSTAMP:20260422T165914Z
DESCRIPTION:1/5 Volejbalový klub Litomyšl\, z.s. - Tělocvičná jednota Sokol
  Česká Třebová 0:2 (-6\,-12)\nZŠ Masarykova Polička
DTSTART;TZID=Europe/Berlin:20260125T133000
DTEND;TZID=Europe/Berlin:20260125T153000
LOCATION:Městská sportovní hala\, T. G. Masaryka 1145 Litomyšl - Litomyšl-M
 ěsto
SUMMARY:PA-U16Z-5KOLO-C: Volejbalový klub Litomyšl\, z.s.-Tělocvičná jednot
 a Sokol Česká Třebová
END:VEVENT
BEGIN:VEVENT
UID:64336133-6133-4231-a161-653034346266
DTSTAMP:20260422T165914Z
DESCRIPTION:1/3 TJ Žichlínek\, z.s. - Volejbalový klub Litomyšl\, z.s. 2:0 
 (15\,22)\nZŠ Masarykova Polička
DTSTART;TZID=Europe/Berlin:20260125T111500
DTEND;TZID=Europe/Berlin:20260125T131500
LOCATION:Tělocvična Žichlínek\,  Žichlínek65
SUMMARY:PA-U16Z-5KOLO-C: TJ Žichlínek\, z.s.-Volejbalový klub Litomyšl\, z.
 s.
END:VEVENT
BEGIN:VEVENT
UID:38633836-3638-4464-b165-636537356263
DTSTAMP:20260422T165914Z
DESCRIPTION:1/1 TJ Spartak Polička B\, z.s. - Volejbalový klub Litomyšl\, z
 .s. 2:3 (-20\,20\,22\,-17\,-16)
DTSTART;TZID=Europe/Berlin:20260222T090000
DTEND;TZID=Europe/Berlin:20260222T110000
LOCATION:Městská sportovní hala\, T. G. Masaryka 1145 Litomyšl - Litomyšl-M
 ěsto
SUMMARY:PA-U16Z-6KOLO-D: TJ Spartak Polička B\, z.s.-Volejbalový klub Litom
 yšl\, z.s.
END:VEVENT
BEGIN:VEVENT
UID:37626562-6566-4737-b661-393638623836
DTSTAMP:20260422T165914Z
DESCRIPTION:1/3 TJ TATRAN LITOVEL\, z.s. - Volejbalový klub Litomyšl\, z.s.
  0:3 (-16\,-13\,-6)
DTSTART;TZID=Europe/Berlin:20260222T120000
DTEND;TZID=Europe/Berlin:20260222T140000
LOCATION:Městská sportovní hala\, T. G. Masaryka 1145 Litomyšl - Litomyšl-M
 ěsto
SUMMARY:PA-U16Z-6KOLO-D: TJ TATRAN LITOVEL\, z.s.-Volejbalový klub Litomyšl
 \, z.s.
END:VEVENT
BEGIN:VEVENT
UID:32633133-6333-4638-a537-366432646663
DTSTAMP:20260422T165914Z
DESCRIPTION:1/6 Volejbalový klub Litomyšl\, z.s. - TJ Spartak Polička B\, z
 .s. 0:2 (-15\,-18)\nZŠ Masarykova Polička
DTSTART;TZID=Europe/Berlin:20260301T143000
DTEND;TZID=Europe/Berlin:20260301T163000
LOCATION:Městská sportovní hala\, T. G. Masaryka 1145 Litomyšl - Litomyšl-M
 ěsto
SUMMARY:PA-U16Z-7KOLO-C: Volejbalový klub Litomyšl\, z.s.-TJ Spartak Poličk
 a B\, z.s.
END:VEVENT
BEGIN:VEVENT
UID:38636638-3136-4536-a136-316264633239
DTSTAMP:20260422T165914Z
DESCRIPTION:1/2 SKO Hlinsko - Volejbalový klub Litomyšl\, z.s. 2:0 (14\,12)
 \nZŠ Masarykova Polička
DTSTART;TZID=Europe/Berlin:20260301T100000
DTEND;TZID=Europe/Berlin:20260301T120000
LOCATION:Sportovní hala Hlinsko\, Smetanova 1524 Hlinsko
SUMMARY:PA-U16Z-7KOLO-C: SKO Hlinsko-Volejbalový klub Litomyšl\, z.s.
END:VEVENT
BEGIN:VEVENT
UID:34633966-3863-4765-b631-346430636666
DTSTAMP:20260422T165914Z
DESCRIPTION:1/3 TJ Žichlínek\, z.s. - Volejbalový klub Litomyšl\, z.s. 2:1 
 (-19\,17\,13)\nZŠ Masarykova Polička
DTSTART;TZID=Europe/Berlin:20260301T111500
DTEND;TZID=Europe/Berlin:20260301T131500
LOCATION:Tělocvična Žichlínek\,  Žichlínek65
SUMMARY:PA-U16Z-7KOLO-C: TJ Žichlínek\, z.s.-Volejbalový klub Litomyšl\, z.
 s.
END:VEVENT
BEGIN:VEVENT
UID:61356361-6334-4534-b038-663462663433
DTSTAMP:20260422T165914Z
DESCRIPTION:1/2 Volejbalový klub Litomyšl\, z.s. - TJ TATRAN LITOVEL\, z.s.
  3:0 (10\,23\,14)\nZŠ Masarykova Polička
DTSTART;TZID=Europe/Berlin:20260315T103000
DTEND;TZID=Europe/Berlin:20260315T123000
LOCATION:Městská sportovní hala\, T. G. Masaryka 1145 Litomyšl - Litomyšl-M
 ěsto
SUMMARY:PA-U16Z-8KOLO-D: Volejbalový klub Litomyšl\, z.s.-TJ TATRAN LITOVEL
 \, z.s.
END:VEVENT
BEGIN:VEVENT
UID:37393061-3436-4535-b361-666465663166
DTSTAMP:20260422T165914Z
DESCRIPTION:1/1 TJ Spartak Polička B\, z.s. - Volejbalový klub Litomyšl\, z
 .s. 0:3 (-16\,-15\,-18)\nZŠ Masarykova Polička
DTSTART;TZID=Europe/Berlin:20260315T090000
DTEND;TZID=Europe/Berlin:20260315T110000
LOCATION:TJ Spartak Polička\, z.s. \, nábř. Svobody 447 Polička - Horní Pře
 dměstí
SUMMARY:PA-U16Z-8KOLO-D: TJ Spartak Polička B\, z.s.-Volejbalový klub Litom
 yšl\, z.s.
END:VEVENT
END:VCALENDAR
