BEGIN:VCALENDAR
VERSION:2.0
PRODID:-//Školní sportovní klub AŠSK při ZŠ Brumov - Bylnice89363//NONSGML kigkonsult.se iCalcreator 2.41.80//
CALSCALE:GREGORIAN
UID:33353862-3063-4433-b831-343166636334
BEGIN:VEVENT
UID:66616536-3034-4237-b764-653537663735
DTSTAMP:20260421T183725Z
DESCRIPTION:1/2 Brumov-Bylnice - NAPAJEDLA 2:0 (17\,21)
DTSTART;TZID=Europe/Berlin:20250927T090000
DTEND;TZID=Europe/Berlin:20250927T110000
LOCATION:Hala Základní školy Brumov-Bylnice\, Družba 1178 Brumov-Bylnice - 
 Brumov
SUMMARY:ZLK-P-U16Z-1C: Brumov-Bylnice-NAPAJEDLA
END:VEVENT
BEGIN:VEVENT
UID:37656332-6662-4735-b465-656437633234
DTSTAMP:20260421T183725Z
DESCRIPTION:4/7 Brumov-Bylnice - VC Kroměříž 1:2 (23\,-13\,-6)
DTSTART;TZID=Europe/Berlin:20250927T120000
DTEND;TZID=Europe/Berlin:20250927T140000
LOCATION:Hala Základní školy Brumov-Bylnice\, Družba 1178 Brumov-Bylnice - 
 Brumov
SUMMARY:ZLK-P-U16Z-1C: Brumov-Bylnice-VC Kroměříž
END:VEVENT
BEGIN:VEVENT
UID:61346431-6239-4636-b431-363533623634
DTSTAMP:20260421T183725Z
DESCRIPTION:2/3 VSC Zlín B - Brumov-Bylnice 0:2 (-13\,-19)
DTSTART;TZID=Europe/Berlin:20250927T100000
DTEND;TZID=Europe/Berlin:20250927T120000
LOCATION:ZŠ Okružní Zlín\, Okružní 4685 Zlín
SUMMARY:ZLK-P-U16Z-1C: VSC Zlín B-Brumov-Bylnice
END:VEVENT
BEGIN:VEVENT
UID:36633333-6330-4237-a661-303938323962
DTSTAMP:20260421T183725Z
DESCRIPTION:3/6 Zlín - Brumov-Bylnice 2:0 (16\,14)
DTSTART;TZID=Europe/Berlin:20250927T110000
DTEND;TZID=Europe/Berlin:20250927T130000
LOCATION:ZŠ Okružní Zlín\, Okružní 4685 Zlín
SUMMARY:ZLK-P-U16Z-1C: Zlín-Brumov-Bylnice
END:VEVENT
BEGIN:VEVENT
UID:37303532-3032-4365-b732-646432666261
DTSTAMP:20260421T183725Z
DESCRIPTION:3/6 Brumov-Bylnice - Val. Meziříčí 2:0 (18\,17)
DTSTART;TZID=Europe/Berlin:20260411T110000
DTEND;TZID=Europe/Berlin:20260411T130000
LOCATION:Hala Základní školy Brumov-Bylnice\, Družba 1178 Brumov-Bylnice - 
 Brumov
SUMMARY:ZLK-P-U16Z-2: Brumov-Bylnice-Val. Meziříčí
END:VEVENT
BEGIN:VEVENT
UID:65353831-6534-4830-a233-376236373634
DTSTAMP:20260421T183725Z
DESCRIPTION:4/7 Brumov-Bylnice - Staré Město B 2:1 (16\,-26\,13)
DTSTART;TZID=Europe/Berlin:20260411T120000
DTEND;TZID=Europe/Berlin:20260411T140000
LOCATION:Hala Základní školy Brumov-Bylnice\, Družba 1178 Brumov-Bylnice - 
 Brumov
SUMMARY:ZLK-P-U16Z-2: Brumov-Bylnice-Staré Město B
END:VEVENT
BEGIN:VEVENT
UID:61336361-3934-4634-b563-333564613864
DTSTAMP:20260421T183725Z
DESCRIPTION:1/1 NIVNICE - Brumov-Bylnice 1:2 (-23\,18\,-10)
DTSTART;TZID=Europe/Berlin:20260411T090000
DTEND;TZID=Europe/Berlin:20260411T110000
LOCATION:Sportovní hala Nivnice\, Podohradí 888 Nivnice
SUMMARY:ZLK-P-U16Z-2: NIVNICE-Brumov-Bylnice
END:VEVENT
BEGIN:VEVENT
UID:34323432-3630-4438-b837-366532636139
DTSTAMP:20260421T183725Z
DESCRIPTION:5/10 Uh.Hradiště - Brumov-Bylnice 0:2 (-27\,-15)
DTSTART;TZID=Europe/Berlin:20260411T130000
DTEND;TZID=Europe/Berlin:20260411T150000
LOCATION:Městská sportovní hala\, Stonky 860 Uherské Hradiště
SUMMARY:ZLK-P-U16Z-2: Uh.Hradiště-Brumov-Bylnice
END:VEVENT
BEGIN:VEVENT
UID:62323332-3638-4231-b730-613630303235
DTSTAMP:20260421T183725Z
DESCRIPTION:3/6 Brumov-Bylnice - Staré Město B 1:2 (24\,-18\,-13)
DTSTART;TZID=Europe/Berlin:20251011T110000
DTEND;TZID=Europe/Berlin:20251011T130000
LOCATION:Hala Základní školy Brumov-Bylnice\, Družba 1178 Brumov-Bylnice - 
 Brumov
SUMMARY:ZLK-U16Z-1B: Brumov-Bylnice-Staré Město B
END:VEVENT
BEGIN:VEVENT
UID:39373966-6432-4637-a466-646533636539
DTSTAMP:20260421T183725Z
DESCRIPTION:1/2 Val. Meziříčí - Brumov-Bylnice 0:2 (-14\,-15)
DTSTART;TZID=Europe/Berlin:20251011T090000
DTEND;TZID=Europe/Berlin:20251011T110000
LOCATION:ZŠ Šafaříkova\, Šafaříkova 726 Valašské Meziříčí
SUMMARY:ZLK-U16Z-1B: Val. Meziříčí-Brumov-Bylnice
END:VEVENT
BEGIN:VEVENT
UID:64326264-6633-4166-a533-636366613863
DTSTAMP:20260421T183725Z
DESCRIPTION:2/3 NIVNICE - Brumov-Bylnice 2:1 (23\,-15\,12)
DTSTART;TZID=Europe/Berlin:20251011T100000
DTEND;TZID=Europe/Berlin:20251011T120000
LOCATION:Sportovní hala Nivnice\, Podohradí 888 Nivnice
SUMMARY:ZLK-U16Z-1B: NIVNICE-Brumov-Bylnice
END:VEVENT
BEGIN:VEVENT
UID:31333531-6339-4830-b132-633338663936
DTSTAMP:20260421T183725Z
DESCRIPTION:3/5 Brumov-Bylnice - NIVNICE 2:0 (13\,16)
DTSTART;TZID=Europe/Berlin:20251018T110000
DTEND;TZID=Europe/Berlin:20251018T130000
LOCATION:Hala Základní školy Brumov-Bylnice\, Družba 1178 Brumov-Bylnice - 
 Brumov
SUMMARY:ZLK-VT-U16Z-1A: Brumov-Bylnice-NIVNICE
END:VEVENT
BEGIN:VEVENT
UID:61313532-6236-4836-b662-316631363234
DTSTAMP:20260421T183725Z
DESCRIPTION:5/10 Brumov-Bylnice - Val. Meziříčí 1:2 (12\,-12\,-10)
DTSTART;TZID=Europe/Berlin:20251018T130000
DTEND;TZID=Europe/Berlin:20251018T150000
LOCATION:Hala Základní školy Brumov-Bylnice\, Družba 1178 Brumov-Bylnice - 
 Brumov
SUMMARY:ZLK-VT-U16Z-1A: Brumov-Bylnice-Val. Meziříčí
END:VEVENT
BEGIN:VEVENT
UID:35303235-3237-4766-a130-353534396266
DTSTAMP:20260421T183725Z
DESCRIPTION:1/1 AUSTIN Vsetín - Brumov-Bylnice 2:0 (14\,14)
DTSTART;TZID=Europe/Berlin:20251018T090000
DTEND;TZID=Europe/Berlin:20251018T110000
LOCATION:Sportovní hala Na Lapači\, Na Lapači 247 Vsetín - Rokytnice
SUMMARY:ZLK-VT-U16Z-1A: AUSTIN Vsetín-Brumov-Bylnice
END:VEVENT
BEGIN:VEVENT
UID:34373537-3165-4833-b938-373761383737
DTSTAMP:20260421T183725Z
DESCRIPTION:4/8 Staré Město B - Brumov-Bylnice 0:2 (-16\,-19)
DTSTART;TZID=Europe/Berlin:20251018T120000
DTEND;TZID=Europe/Berlin:20251018T140000
LOCATION:Městská sportovní hala Širůch\, Nad Hřištěm 1921 Staré Město
SUMMARY:ZLK-VT-U16Z-1A: Staré Město B-Brumov-Bylnice
END:VEVENT
BEGIN:VEVENT
UID:65383431-3335-4734-b166-383263353538
DTSTAMP:20260421T183725Z
DESCRIPTION:1/1 Brumov-Bylnice - Střítež 2:0 (20\,17)
DTSTART;TZID=Europe/Berlin:20251108T090000
DTEND;TZID=Europe/Berlin:20251108T110000
LOCATION:Hala Základní školy Brumov-Bylnice\, Družba 1178 Brumov-Bylnice - 
 Brumov
SUMMARY:ZLK-U16Z-2C: Brumov-Bylnice-Střítež
END:VEVENT
BEGIN:VEVENT
UID:62353837-3530-4636-a136-376261336465
DTSTAMP:20260421T183726Z
DESCRIPTION:2/3 Brumov-Bylnice - Uh.Hradiště B 2:0 (15\,16)
DTSTART;TZID=Europe/Berlin:20251108T100000
DTEND;TZID=Europe/Berlin:20251108T120000
LOCATION:Hala Základní školy Brumov-Bylnice\, Družba 1178 Brumov-Bylnice - 
 Brumov
SUMMARY:ZLK-U16Z-2C: Brumov-Bylnice-Uh.Hradiště B
END:VEVENT
BEGIN:VEVENT
UID:32663638-6134-4630-b935-396164383961
DTSTAMP:20260421T183726Z
DESCRIPTION:3/5 Brumov-Bylnice - Val. Meziříčí 0:2 (-25\,-18)
DTSTART;TZID=Europe/Berlin:20251108T110000
DTEND;TZID=Europe/Berlin:20251108T130000
LOCATION:Hala Základní školy Brumov-Bylnice\, Družba 1178 Brumov-Bylnice - 
 Brumov
SUMMARY:ZLK-U16Z-2C: Brumov-Bylnice-Val. Meziříčí
END:VEVENT
BEGIN:VEVENT
UID:61633866-3931-4639-b837-306164313738
DTSTAMP:20260421T183726Z
DESCRIPTION:1/1 Val. Meziříčí - Brumov-Bylnice 2:0 (27\,12)
DTSTART;TZID=Europe/Berlin:20251213T090000
DTEND;TZID=Europe/Berlin:20251213T110000
LOCATION:ZŠ Šafaříkova\, Šafaříkova 726 Valašské Meziříčí
SUMMARY:ZLK-U16Z-3B: Val. Meziříčí-Brumov-Bylnice
END:VEVENT
BEGIN:VEVENT
UID:30363732-3336-4466-b232-346134643063
DTSTAMP:20260421T183726Z
DESCRIPTION:4/4 Staré Město B - Brumov-Bylnice 2:0 (17\,19)
DTSTART;TZID=Europe/Berlin:20251213T120000
DTEND;TZID=Europe/Berlin:20251213T140000
LOCATION:Městská sportovní hala Širůch\, Nad Hřištěm 1921 Staré Město
SUMMARY:ZLK-U16Z-3B: Staré Město B-Brumov-Bylnice
END:VEVENT
BEGIN:VEVENT
UID:39376434-6330-4235-b664-633664393430
DTSTAMP:20260421T183726Z
DESCRIPTION:5/5 NIVNICE - Brumov-Bylnice 0:2 (-14\,-21)
DTSTART;TZID=Europe/Berlin:20251213T130000
DTEND;TZID=Europe/Berlin:20251213T150000
LOCATION:Sportovní hala Nivnice\, Podohradí 888 Nivnice
SUMMARY:ZLK-U16Z-3B: NIVNICE-Brumov-Bylnice
END:VEVENT
BEGIN:VEVENT
UID:66656664-6433-4336-b966-643964363830
DTSTAMP:20260421T183726Z
DESCRIPTION:2/4 Brumov-Bylnice - AUSTIN Vsetín 0:2 (-25\,-24)
DTSTART;TZID=Europe/Berlin:20251129T100000
DTEND;TZID=Europe/Berlin:20251129T120000
LOCATION:Hala Základní školy Brumov-Bylnice\, Družba 1178 Brumov-Bylnice - 
 Brumov
SUMMARY:ZLK-VT-U16Z-2A: Brumov-Bylnice-AUSTIN Vsetín
END:VEVENT
BEGIN:VEVENT
UID:31363530-6361-4734-b835-616432373131
DTSTAMP:20260421T183726Z
DESCRIPTION:3/5 Brumov-Bylnice - VSC Zlín B 2:1 (25\,-16\,10)
DTSTART;TZID=Europe/Berlin:20251129T110000
DTEND;TZID=Europe/Berlin:20251129T130000
LOCATION:Hala Základní školy Brumov-Bylnice\, Družba 1178 Brumov-Bylnice - 
 Brumov
SUMMARY:ZLK-VT-U16Z-2A: Brumov-Bylnice-VSC Zlín B
END:VEVENT
BEGIN:VEVENT
UID:35313261-3738-4633-b737-316264633439
DTSTAMP:20260421T183726Z
DESCRIPTION:1/2 NIVNICE - Brumov-Bylnice 0:2 (-17\,-21)
DTSTART;TZID=Europe/Berlin:20251129T090000
DTEND;TZID=Europe/Berlin:20251129T110000
LOCATION:Sportovní hala Nivnice\, Podohradí 888 Nivnice
SUMMARY:ZLK-VT-U16Z-2A: NIVNICE-Brumov-Bylnice
END:VEVENT
BEGIN:VEVENT
UID:62633863-6630-4532-b265-616436303961
DTSTAMP:20260421T183726Z
DESCRIPTION:4/7 NAPAJEDLA - Brumov-Bylnice 2:1 (-19\,17\,7)
DTSTART;TZID=Europe/Berlin:20251129T120000
DTEND;TZID=Europe/Berlin:20251129T140000
LOCATION:2.ZŠ Napajedla\, Komenského 298 Napajedla
SUMMARY:ZLK-VT-U16Z-2A: NAPAJEDLA-Brumov-Bylnice
END:VEVENT
BEGIN:VEVENT
UID:31303966-6336-4861-b863-643066323034
DTSTAMP:20260421T183726Z
DESCRIPTION:2/4 Brumov-Bylnice - AUSTIN Vsetín 0:2 (-13\,-20)
DTSTART;TZID=Europe/Berlin:20260117T100000
DTEND;TZID=Europe/Berlin:20260117T120000
LOCATION:Hala Základní školy Brumov-Bylnice\, Družba 1178 Brumov-Bylnice - 
 Brumov
SUMMARY:ZLK-VT-U16Z-3A: Brumov-Bylnice-AUSTIN Vsetín
END:VEVENT
BEGIN:VEVENT
UID:39633965-6635-4635-a339-656461346437
DTSTAMP:20260421T183726Z
DESCRIPTION:3/5 Brumov-Bylnice - NAPAJEDLA 2:1 (-19\,21\,14)
DTSTART;TZID=Europe/Berlin:20260117T110000
DTEND;TZID=Europe/Berlin:20260117T130000
LOCATION:Hala Základní školy Brumov-Bylnice\, Družba 1178 Brumov-Bylnice - 
 Brumov
SUMMARY:ZLK-VT-U16Z-3A: Brumov-Bylnice-NAPAJEDLA
END:VEVENT
BEGIN:VEVENT
UID:39373665-6265-4762-b238-363530623039
DTSTAMP:20260421T183726Z
DESCRIPTION:1/2 Val. Meziříčí - Brumov-Bylnice 2:1 (-19\,18\,8)
DTSTART;TZID=Europe/Berlin:20260117T090000
DTEND;TZID=Europe/Berlin:20260117T110000
LOCATION:ZŠ Šafaříkova\, Šafaříkova 726 Valašské Meziříčí
SUMMARY:ZLK-VT-U16Z-3A: Val. Meziříčí-Brumov-Bylnice
END:VEVENT
BEGIN:VEVENT
UID:32333434-6364-4439-b633-623835366439
DTSTAMP:20260421T183726Z
DESCRIPTION:4/7 Rožnov pR - Brumov-Bylnice 2:0 (13\,23)
DTSTART;TZID=Europe/Berlin:20260117T120000
DTEND;TZID=Europe/Berlin:20260117T140000
LOCATION:ZŠ POD SKALKOU\, Bezručova 293 Rožnov pod Radhoštěm
SUMMARY:ZLK-VT-U16Z-3A: Rožnov pR-Brumov-Bylnice
END:VEVENT
BEGIN:VEVENT
UID:63303361-3962-4939-a638-643162376431
DTSTAMP:20260421T183726Z
DESCRIPTION:1/1 Brumov-Bylnice - Střítež 2:0 (10\,17)
DTSTART;TZID=Europe/Berlin:20260110T090000
DTEND;TZID=Europe/Berlin:20260110T110000
LOCATION:Hala Základní školy Brumov-Bylnice\, Družba 1178 Brumov-Bylnice - 
 Brumov
SUMMARY:ZLK-U16Z-4C: Brumov-Bylnice-Střítež
END:VEVENT
BEGIN:VEVENT
UID:65333739-3935-4531-a232-663061623737
DTSTAMP:20260421T183726Z
DESCRIPTION:2/3 Brumov-Bylnice - Uh.Hradiště B 2:0 (15\,18)
DTSTART;TZID=Europe/Berlin:20260110T100000
DTEND;TZID=Europe/Berlin:20260110T120000
LOCATION:Hala Základní školy Brumov-Bylnice\, Družba 1178 Brumov-Bylnice - 
 Brumov
SUMMARY:ZLK-U16Z-4C: Brumov-Bylnice-Uh.Hradiště B
END:VEVENT
BEGIN:VEVENT
UID:61396361-6238-4064-b039-396337353565
DTSTAMP:20260421T183726Z
DESCRIPTION:3/5 Brumov-Bylnice - NIVNICE 2:0 (18\,7)
DTSTART;TZID=Europe/Berlin:20260110T110000
DTEND;TZID=Europe/Berlin:20260110T130000
LOCATION:Hala Základní školy Brumov-Bylnice\, Družba 1178 Brumov-Bylnice - 
 Brumov
SUMMARY:ZLK-U16Z-4C: Brumov-Bylnice-NIVNICE
END:VEVENT
BEGIN:VEVENT
UID:61623864-3561-4366-a161-343439666338
DTSTAMP:20260421T183726Z
DESCRIPTION:3/6 Brumov-Bylnice - NIVNICE 2:0 (13\,14)
DTSTART;TZID=Europe/Berlin:20260221T110000
DTEND;TZID=Europe/Berlin:20260221T130000
LOCATION:Hala Základní školy Brumov-Bylnice\, Družba 1178 Brumov-Bylnice - 
 Brumov
SUMMARY:ZLK-U16Z-5B: Brumov-Bylnice-NIVNICE
END:VEVENT
BEGIN:VEVENT
UID:34653432-3436-4137-b365-326135383562
DTSTAMP:20260421T183726Z
DESCRIPTION:1/2 Val. Meziříčí - Brumov-Bylnice 1:2 (-22\,27\,-4)
DTSTART;TZID=Europe/Berlin:20260221T090000
DTEND;TZID=Europe/Berlin:20260221T110000
LOCATION:ZŠ Šafaříkova\, Šafaříkova 726 Valašské Meziříčí
SUMMARY:ZLK-U16Z-5B: Val. Meziříčí-Brumov-Bylnice
END:VEVENT
BEGIN:VEVENT
UID:33303137-3937-4662-a534-396330336439
DTSTAMP:20260421T183726Z
DESCRIPTION:2/3 NAPAJEDLA - Brumov-Bylnice 2:0 (16\,10)
DTSTART;TZID=Europe/Berlin:20260221T100000
DTEND;TZID=Europe/Berlin:20260221T120000
LOCATION:2.ZŠ Napajedla\, Komenského 298 Napajedla
SUMMARY:ZLK-U16Z-5B: NAPAJEDLA-Brumov-Bylnice
END:VEVENT
BEGIN:VEVENT
UID:64323962-3430-4161-b138-646533623333
DTSTAMP:20260421T183726Z
DESCRIPTION:1/1 Brumov-Bylnice - Střítež 2:0 (22\,12)
DTSTART;TZID=Europe/Berlin:20260207T090000
DTEND;TZID=Europe/Berlin:20260207T110000
LOCATION:Hala Základní školy Brumov-Bylnice\, Družba 1178 Brumov-Bylnice - 
 Brumov
SUMMARY:ZLK-VT-U16Z-4B: Brumov-Bylnice-Střítež
END:VEVENT
BEGIN:VEVENT
UID:38376530-6466-4435-b931-343133663165
DTSTAMP:20260421T183726Z
DESCRIPTION:2/3 Brumov-Bylnice - NIVNICE 2:0 (11\,22)
DTSTART;TZID=Europe/Berlin:20260207T100000
DTEND;TZID=Europe/Berlin:20260207T120000
LOCATION:Hala Základní školy Brumov-Bylnice\, Družba 1178 Brumov-Bylnice - 
 Brumov
SUMMARY:ZLK-VT-U16Z-4B: Brumov-Bylnice-NIVNICE
END:VEVENT
BEGIN:VEVENT
UID:36386236-3634-4531-b634-663638353063
DTSTAMP:20260421T183726Z
DESCRIPTION:3/5 Brumov-Bylnice - Rožnov pR 1:2 (-19\,18\,-16)
DTSTART;TZID=Europe/Berlin:20260207T110000
DTEND;TZID=Europe/Berlin:20260207T130000
LOCATION:Hala Základní školy Brumov-Bylnice\, Družba 1178 Brumov-Bylnice - 
 Brumov
SUMMARY:ZLK-VT-U16Z-4B: Brumov-Bylnice-Rožnov pR
END:VEVENT
BEGIN:VEVENT
UID:36376133-6331-4161-b239-343031653731
DTSTAMP:20260421T183726Z
DESCRIPTION:3/6 Brumov-Bylnice - Val. Meziříčí 0:2 (-16\,-23)
DTSTART;TZID=Europe/Berlin:20260328T110000
DTEND;TZID=Europe/Berlin:20260328T130000
LOCATION:Hala Základní školy Brumov-Bylnice\, Družba 1178 Brumov-Bylnice - 
 Brumov
SUMMARY:ZLK-VT-U16Z-5A: Brumov-Bylnice-Val. Meziříčí
END:VEVENT
BEGIN:VEVENT
UID:39323739-6336-4636-a135-346439383330
DTSTAMP:20260421T183726Z
DESCRIPTION:4/7 Brumov-Bylnice - NAPAJEDLA 0:2 (-18\,-16)
DTSTART;TZID=Europe/Berlin:20260328T120000
DTEND;TZID=Europe/Berlin:20260328T140000
LOCATION:Hala Základní školy Brumov-Bylnice\, Družba 1178 Brumov-Bylnice - 
 Brumov
SUMMARY:ZLK-VT-U16Z-5A: Brumov-Bylnice-NAPAJEDLA
END:VEVENT
BEGIN:VEVENT
UID:64343964-3737-4464-b834-633737343064
DTSTAMP:20260421T183726Z
DESCRIPTION:1/1 AUSTIN Vsetín - Brumov-Bylnice 2:0 (18\,19)
DTSTART;TZID=Europe/Berlin:20260328T090000
DTEND;TZID=Europe/Berlin:20260328T110000
LOCATION:Sportovní hala Na Lapači\, Na Lapači 247 Vsetín - Rokytnice
SUMMARY:ZLK-VT-U16Z-5A: AUSTIN Vsetín-Brumov-Bylnice
END:VEVENT
BEGIN:VEVENT
UID:30346532-6635-4563-b530-316239306530
DTSTAMP:20260421T183726Z
DESCRIPTION:5/10 Rožnov pR - Brumov-Bylnice 0:2 (-9\,-16)
DTSTART;TZID=Europe/Berlin:20260328T130000
DTEND;TZID=Europe/Berlin:20260328T150000
LOCATION:ZŠ POD SKALKOU\, Bezručova 293 Rožnov pod Radhoštěm
SUMMARY:ZLK-VT-U16Z-5A: Rožnov pR-Brumov-Bylnice
END:VEVENT
BEGIN:VEVENT
UID:65363537-3631-4139-a666-353432323236
DTSTAMP:20260421T183726Z
DESCRIPTION:2/3 Brumov-Bylnice - AUSTIN Vsetín 0:2 (-17\,-22)
DTSTART;TZID=Europe/Berlin:20260314T100000
DTEND;TZID=Europe/Berlin:20260314T120000
LOCATION:Hala Základní školy Brumov-Bylnice\, Družba 1178 Brumov-Bylnice - 
 Brumov
SUMMARY:ZLK-U16Z-6A: Brumov-Bylnice-AUSTIN Vsetín
END:VEVENT
BEGIN:VEVENT
UID:37373337-3435-4265-a533-306165653633
DTSTAMP:20260421T183726Z
DESCRIPTION:5/10 Brumov-Bylnice - NAPAJEDLA 1:2 (-24\,21\,-10)
DTSTART;TZID=Europe/Berlin:20260314T130000
DTEND;TZID=Europe/Berlin:20260314T150000
LOCATION:Hala Základní školy Brumov-Bylnice\, Družba 1178 Brumov-Bylnice - 
 Brumov
SUMMARY:ZLK-U16Z-6A: Brumov-Bylnice-NAPAJEDLA
END:VEVENT
BEGIN:VEVENT
UID:39656530-3063-4237-b937-383263393333
DTSTAMP:20260421T183726Z
DESCRIPTION:3/5 Staré Město - Brumov-Bylnice 2:0 (11\,15)
DTSTART;TZID=Europe/Berlin:20260314T110000
DTEND;TZID=Europe/Berlin:20260314T130000
LOCATION:Městská sportovní hala Širůch\, Nad Hřištěm 1921 Staré Město
SUMMARY:ZLK-U16Z-6A: Staré Město-Brumov-Bylnice
END:VEVENT
BEGIN:VEVENT
UID:36663564-6530-4233-a233-326365663838
DTSTAMP:20260421T183726Z
DESCRIPTION:4/8 Zlín - Brumov-Bylnice 2:0 (10\,16)
DTSTART;TZID=Europe/Berlin:20260314T120000
DTEND;TZID=Europe/Berlin:20260314T140000
LOCATION:ZŠ Okružní Zlín\, Okružní 4685 Zlín
SUMMARY:ZLK-U16Z-6A: Zlín-Brumov-Bylnice
END:VEVENT
END:VCALENDAR
